BEGIN:VCALENDAR
VERSION:2.0
PRODID:-//Coronado Times - ECPv6.5.1.5//NONSGML v1.0//EN
CALSCALE:GREGORIAN
METHOD:PUBLISH
X-WR-CALNAME:Coronado Times
X-ORIGINAL-URL:https://coronadotimes.com
X-WR-CALDESC:Events for Coronado Times
REFRESH-INTERVAL;VALUE=DURATION:PT1H
X-Robots-Tag:noindex
X-PUBLISHED-TTL:PT1H
BEGIN:VTIMEZONE
TZID:America/Los_Angeles
BEGIN:DAYLIGHT
TZOFFSETFROM:-0800
TZOFFSETTO:-0700
TZNAME:PDT
DTSTART:20250309T100000
END:DAYLIGHT
BEGIN:STANDARD
TZOFFSETFROM:-0700
TZOFFSETTO:-0800
TZNAME:PST
DTSTART:20251102T090000
END:STANDARD
END:VTIMEZONE
BEGIN:VEVENT
DTSTART;TZID=America/Los_Angeles:20250122T183000
DTEND;TZID=America/Los_Angeles:20250122T193000
DTSTAMP:20260425T082536
CREATED:20241231T191623Z
LAST-MODIFIED:20250121T053406Z
UID:237482-1737570600-1737574200@coronadotimes.com
SUMMARY:Book Launch with "USA Today" Bestselling Author Jennifer Coburn: "The Girls of the Glimmer Factory"
DESCRIPTION:The library\, in partnership with Adventures by the Book\, presents an exclusive pre-release celebration of The Girls of the Glimmer Factory\, the latest novel from Jennifer Coburn\, author of Cradles of the Reich. Set against the backdrop of WWII\, this poignant tale of resistance\, friendship\, and the dangers of propaganda is inspired by the true story of Theresienstadt. \nMeet the author and hear her discuss this moving story about two women on opposite sides of history—Hannah\, a Jewish prisoner fighting to reveal the truth\, and Hilde\, a Nazi loyalist desperate to make a name for herself in the Reich Ministry of Propaganda. \nThis event is free and open to the public. Seating is first-come\, first-served\, subject to availability. Limited preferred seating is available with purchase of The Girls of the Glimmer Factory through Adventures by the Book. Please visit adventuresbythebook.com/calendar-event/jennifer-coburn-1-22-25 for more information. \nA New Glimpse Into WWII: “The Girls of the Glimmer Factory” \n \n\nAbout The Girls of the Glimmer Factory: Hannah longs for the days when she used to be free\, but now she is a Jewish prisoner at Theresienstadt\, a model ghetto where the Nazis plan to make a propaganda film to convince the world that the Jewish people are living well in the camps. But Hannah will do anything to show the world the truth. Along with other young resistance members\, they vow to disrupt the filming and derail the increasingly frequent deportations to death camps in the east. \nHilde is a true believer in the Nazi cause\, working in the Reich Ministry of Enlightenment and Propaganda. Though they’re losing the war\, Hilde hasn’t lost faith. She can’t stop the Allied bombings\, but she can help the party create a documentary that will renew confidence in Hitler’s plans for Jewish containment. When the filming of Hitler Gives a City to the Jews faces production problems due to resistance\, Hilde finds herself in a position to finally make a name for herself. And when she recognizes Hannah\, an old childhood friend\, she knows she can use their friendship to get the film back on track. \n\nJennifer Coburn is the author of Cradles of the Reich\, a historical novel about three very different women living at a Nazi Lebensborn breeding home at the start of World War ll. She has also published a mother-daughter travel memoir\, We’ll Always Have Paris\, as well as six contemporary women’s novels. Additionally\, Jennifer has contributed to five literary anthologies\, including A Paris All Your Own. Jennifer lives in San Diego with her husband\, William. Their daughter\, Katie is currently in graduate school. When Jennifer is not going down historical research rabbit holes\, she volunteers with So Say We All\, a live storytelling organization\, where she is a performer\, producer\, and performance coach. She is also an active volunteer with Reality Changers\, a nonprofit that supports low-income high school students in becoming the first in their families to attend college.
URL:https://coronadotimes.com/event/book-launch-with-usa-today-bestselling-author-jennifer-coburn-girls-of-the-glimmer-factory/
LOCATION:Coronado Library Winn Room\, 640 Orange Avenue\, Coronado\, CA\, 92118\, United States
CATEGORIES:books
END:VEVENT
END:VCALENDAR