BEGIN:VCALENDAR
VERSION:2.0
PRODID:-//Coronado Times - ECPv6.5.1.5//NONSGML v1.0//EN
CALSCALE:GREGORIAN
METHOD:PUBLISH
X-ORIGINAL-URL:https://coronadotimes.com
X-WR-CALDESC:Events for Coronado Times
REFRESH-INTERVAL;VALUE=DURATION:PT1H
X-Robots-Tag:noindex
X-PUBLISHED-TTL:PT1H
BEGIN:VTIMEZONE
TZID:America/Los_Angeles
BEGIN:DAYLIGHT
TZOFFSETFROM:-0800
TZOFFSETTO:-0700
TZNAME:PDT
DTSTART:20260308T100000
END:DAYLIGHT
BEGIN:STANDARD
TZOFFSETFROM:-0700
TZOFFSETTO:-0800
TZNAME:PST
DTSTART:20261101T090000
END:STANDARD
END:VTIMEZONE
BEGIN:VEVENT
DTSTART;TZID=America/Los_Angeles:20260510T110000
DTEND;TZID=America/Los_Angeles:20260510T160000
DTSTAMP:20260422T212802
CREATED:20260422T202754Z
LAST-MODIFIED:20260422T202754Z
UID:254773-1778410800-1778428800@coronadotimes.com
SUMMARY:Coronado Historical Association's 2026 Mother's Day Historic Home Tour
DESCRIPTION:Explore the charm and history of Coronado during the annual Mother’s Day Historic Home Tour presented by the Coronado Historical Association. This special event invites guests to step inside a selection of beautifully preserved private homes\, open to ticket holders only. Each historic home showcases unique architecture\, design\, and stories from the island’s past. Knowledgeable docents will be available throughout the tour to share fascinating details about the architecture\, restoration efforts\, and cultural history of the community. \nEach year\, the tour features different homes of a variety of architectural styles\, from early 20th-century beach cottages to grand historic residences\, reflecting the timeless character that makes Coronado so special. \nWhether you are a longtime resident or visiting for the first time\, CHA’s Mother’s Day Historic Home Tour offers a unique way to connect with the island’s past while enjoying its scenic streets and welcoming community. Join us for a memorable day celebrating the stories\, craftsmanship\, and architectural beauty that define historic Coronado. \nThis event always sells out. Avoid the rush and purchase tickets now. Members receive a discount. Membership status is checked for every purchase. If you are not a member or need to renew\, please visit https://coronadohistory.org/membership/. All proceeds directly support the mission of the Coronado Historical Association.  \n 
URL:https://coronadotimes.com/event/coronado-historical-associations-2026-mothers-day-historic-home-tour/
LOCATION:Coronado Island\, Coronado\, CA\, 92118\, United States
CATEGORIES:community,history
END:VEVENT
END:VCALENDAR