BEGIN:VCALENDAR
VERSION:2.0
PRODID:-//Coronado Times - ECPv6.5.1.5//NONSGML v1.0//EN
CALSCALE:GREGORIAN
METHOD:PUBLISH
X-WR-CALNAME:Coronado Times
X-ORIGINAL-URL:https://coronadotimes.com
X-WR-CALDESC:Events for Coronado Times
REFRESH-INTERVAL;VALUE=DURATION:PT1H
X-Robots-Tag:noindex
X-PUBLISHED-TTL:PT1H
BEGIN:VTIMEZONE
TZID:America/Los_Angeles
BEGIN:DAYLIGHT
TZOFFSETFROM:-0800
TZOFFSETTO:-0700
TZNAME:PDT
DTSTART:20250309T100000
END:DAYLIGHT
BEGIN:STANDARD
TZOFFSETFROM:-0700
TZOFFSETTO:-0800
TZNAME:PST
DTSTART:20251102T090000
END:STANDARD
END:VTIMEZONE
BEGIN:VEVENT
DTSTART;TZID=America/Los_Angeles:20250313T170000
DTEND;TZID=America/Los_Angeles:20250313T170000
DTSTAMP:20260425T191436
CREATED:20250228T193910Z
LAST-MODIFIED:20250312T234408Z
UID:240000-1741885200-1741885200@coronadotimes.com
SUMMARY:POSTPONED: Grand Caribe Shoreline Park Erosion Improvements Workshop
DESCRIPTION:Updated 03/12/2025: The Port of San Diego is postponing the Grand Caribe Shoreline Park erosion improvements project workshop originally scheduled for Thursday\, March 13\, 2025\, at the Coronado Cays Yacht Club from 5 until 6:30 p.m. The decision comes out of an abundance of caution due to worsening weather forecasts that indicate heavy rainfall may result in localized flooding\, which could impact access to the venue.   \nThe Port is working to reschedule the meeting and will announce a new date and time as soon as possible.   \nThe Port of San Diego is hosting a workshop on Thursday\, March 13\, to seek input on Grand Caribe Shoreline Park and erosion improvements. The Port is evaluating nature-based coastal resilience strategies to stabilize the eastern shoreline of the park\, maintain public access and preserve existing habitat. \nLEARN MORE HERE \nGrand Caribe Shoreline Park and Coronado Cays. Courtesy photo / Port of San Diego.
URL:https://coronadotimes.com/event/grand-caribe-shoreline-park-workshop/
LOCATION:Coronado Cays Yacht Club\, 30 Caribe Cay Boulevard\, Coronado\, CA\, 92118\, United States
CATEGORIES:community,workshop
END:VEVENT
END:VCALENDAR