BEGIN:VCALENDAR
VERSION:2.0
PRODID:-//Coronado Times - ECPv6.5.1.5//NONSGML v1.0//EN
CALSCALE:GREGORIAN
METHOD:PUBLISH
X-WR-CALNAME:Coronado Times
X-ORIGINAL-URL:https://coronadotimes.com
X-WR-CALDESC:Events for Coronado Times
REFRESH-INTERVAL;VALUE=DURATION:PT1H
X-Robots-Tag:noindex
X-PUBLISHED-TTL:PT1H
BEGIN:VTIMEZONE
TZID:America/Los_Angeles
BEGIN:DAYLIGHT
TZOFFSETFROM:-0800
TZOFFSETTO:-0700
TZNAME:PDT
DTSTART:20260308T100000
END:DAYLIGHT
BEGIN:STANDARD
TZOFFSETFROM:-0700
TZOFFSETTO:-0800
TZNAME:PST
DTSTART:20261101T090000
END:STANDARD
END:VTIMEZONE
BEGIN:VEVENT
DTSTART;TZID=America/Los_Angeles:20260501T190000
DTEND;TZID=America/Los_Angeles:20260501T200000
DTSTAMP:20260422T141308
CREATED:20260418T215935Z
LAST-MODIFIED:20260418T215935Z
UID:254552-1777662000-1777665600@coronadotimes.com
SUMMARY:Four-Star Admiral McRaven to discuss his latest book\, "Duty\, Honor\, Country\, and Life"
DESCRIPTION:The Coronado Public Library\, in partnership with the Friends of the Coronado Public Library and Warwick’s Books\, will host an evening with Admiral William H. McRaven\, a retired Four-Star Admiral\, former Commander of U.S. Special Operations Forces\, and #1 New York Times bestselling author. This event will take place on Friday\, May 1 at 7 pm at the Coronado Commmunity Center’s Nautilus Room. \nMcRaven will discuss his latest book\, Duty\, Honor\, Country\, and Life\, in conversation with fellow Navy SEAL veteran Dan’l Steward. The event will serve as a fundraiser for the Friends of the Coronado Public Library\, which supports library programs and services for the community. Tickets are required for entry\, with complimentary admission available for those presenting a valid military ID. \nTicket options include: \n· $10 entry only \n· $30.48 for admission for one person and one copy of Duty\, Honor\, Country\, and Life \n· $41.80 for admission for two people and one copy of Duty\, Honor\, Country\, and Life \n· Free Milirary Admission – please present I.D. \nThrough a collection of speeches\, letters\, and reflections\, Duty\, Honor\, Country\, and Life offers stories of courage\, sacrifice\, and integrity. The book pays tribute to a wide range of individuals — from military service members and first responders to students and public servants — while emphasizing enduring values such as duty\, honor\, and civility. \nFull of inspiration and wisdom\, Duty\, Honor\, Country\, and Life is a reminder to us all of our time-honored American values of civility and decency — and a reflection on what these values mean for the future of our country. \nMcRaven is the author of the bestselling Make Your Bed and Sea Stories: My Life in Special Operations. Over the course of his military career\, he commanded at every level\, culminating in his role leading all U.S. Special Operations Forces. Following his retirement\, he served as Chancellor of the University of Texas System from 2015 to 2018. \nJoining him in conversation is Dan’l Steward\, a Coronado resident and former Navy SEAL who trained alongside McRaven in BUD/S Class 95. Steward served more than 17 years in Naval Special Warfare\, including assignments with SEAL Teams 1 and 2\, the Pentagon\, and international operations. After retiring as a Navy Captain\, he continued to support the Naval Special Warfare community in a civilian role for nearly two decades. \nLearn more about this event and purchase tickets at cplevents.org.
URL:https://coronadotimes.com/event/four-star-admiral-mcraven-to-discuss-his-latest-book-duty-honor-country-and-life/
LOCATION:Coronado Community Center\, 1845 Strand Way\, Coronado\, CA\, 92118\, United States
CATEGORIES:books,community
END:VEVENT
END:VCALENDAR