BEGIN:VCALENDAR
VERSION:2.0
PRODID:-//Coronado Times - ECPv6.5.1.5//NONSGML v1.0//EN
CALSCALE:GREGORIAN
METHOD:PUBLISH
X-ORIGINAL-URL:https://coronadotimes.com
X-WR-CALDESC:Events for Coronado Times
REFRESH-INTERVAL;VALUE=DURATION:PT1H
X-Robots-Tag:noindex
X-PUBLISHED-TTL:PT1H
BEGIN:VTIMEZONE
TZID:America/Los_Angeles
BEGIN:DAYLIGHT
TZOFFSETFROM:-0800
TZOFFSETTO:-0700
TZNAME:PDT
DTSTART:20260308T100000
END:DAYLIGHT
BEGIN:STANDARD
TZOFFSETFROM:-0700
TZOFFSETTO:-0800
TZNAME:PST
DTSTART:20261101T090000
END:STANDARD
END:VTIMEZONE
BEGIN:VEVENT
DTSTART;TZID=America/Los_Angeles:20260117T090000
DTEND;TZID=America/Los_Angeles:20260117T090000
DTSTAMP:20260424T091630
CREATED:20260115T192651Z
LAST-MODIFIED:20260115T192801Z
UID:250852-1768640400-1768640400@coronadotimes.com
SUMMARY:Rose pruning workshop
DESCRIPTION:Image by Arturs Budkevics from Pixabay\nLearn how to prune roses on at the Harlow Rose Garden in front of the Library. Please bring sharp bypass pruners and gloves to participate in this hands-on workshop. This event is also an opportunity to get information about fertilizing roses\, as well as dealing with pests and fungal diseases. This free event commences at 9 am and is open to the public and led by Consulting Rosarian and Master Gardener\, Rita Perwich\, Master Gardeners Maria Mata and Carvill Veech\, and Consulting Rosarian Natalie Stout. \nThe Master Gardener Tool Committee will be on-site starting at 8:30 am to provide free cleaning and sharpening of one pair of pruners or loppers for each attendee of the workshop. Tools must be in good working condition to be cleaned and sharpened.
URL:https://coronadotimes.com/event/rose-pruning-workshop-3/
LOCATION:Coronado Public Library\, 640 Orange Ave\, Coronado\, CA\, 92118\, United States
CATEGORIES:community,education,workshop
END:VEVENT
END:VCALENDAR