BEGIN:VCALENDAR
VERSION:2.0
PRODID:-//Coronado Times - ECPv6.5.1.5//NONSGML v1.0//EN
CALSCALE:GREGORIAN
METHOD:PUBLISH
X-WR-CALNAME:Coronado Times
X-ORIGINAL-URL:https://coronadotimes.com
X-WR-CALDESC:Events for Coronado Times
REFRESH-INTERVAL;VALUE=DURATION:PT1H
X-Robots-Tag:noindex
X-PUBLISHED-TTL:PT1H
BEGIN:VTIMEZONE
TZID:America/Los_Angeles
BEGIN:DAYLIGHT
TZOFFSETFROM:-0800
TZOFFSETTO:-0700
TZNAME:PDT
DTSTART:20260308T100000
END:DAYLIGHT
BEGIN:STANDARD
TZOFFSETFROM:-0700
TZOFFSETTO:-0800
TZNAME:PST
DTSTART:20261101T090000
END:STANDARD
END:VTIMEZONE
BEGIN:VEVENT
DTSTART;TZID=America/Los_Angeles:20260303T180000
DTEND;TZID=America/Los_Angeles:20260303T193000
DTSTAMP:20260423T092632
CREATED:20260212T011548Z
LAST-MODIFIED:20260212T011548Z
UID:251380-1772560800-1772566200@coronadotimes.com
SUMMARY:Learn the Art of Storytelling: Tying it All Together
DESCRIPTION:Everyone has a story to tell—what’s yours? \nThe Storytellers of San Diego invite you to explore the art of sharing stories from your own life\, your grandparents\, your friends\, or your imagination! Each workshop focuses on a different element of storytelling\, helping you bring real experiences to life and connect with others through the power of story. Participants will have the chance to showcase their new skills at the San Diego Storytelling Festival on March 21\, 2026. \nRegistration was requested for the February 3 introductory session. All other sessions are walk-in\, no registration. \n \nMarch 3: “Tying it All Together” with Aunt Li-Anne \nBring everything together in this final workshop designed to help you shape a complete\, cohesive story ready to share on stage. Participants will polish their performances and learn tips for connecting with an audience — culminating in the chance to tell their story at the upcoming storytelling festival. \nAunt Li-Anne is a storyteller\, singer\, actor and healer. She has been performing in local theaters and teaching drama workshops for more than twenty years.  Aunt Li-Anne’s Story Garden has fun programs for parties\, schools or other events.  Her stories emphasize traditional lore and range from fairies and myths to thought-provoking tales of conflict resolution.
URL:https://coronadotimes.com/event/learn-the-art-of-storytelling-tying-it-all-together/
LOCATION:Coronado Public Library\, 640 Orange Ave\, Coronado\, CA\, 92118\, United States
CATEGORIES:books,community,workshop
END:VEVENT
BEGIN:VEVENT
DTSTART;TZID=America/Los_Angeles:20260307T080000
DTEND;TZID=America/Los_Angeles:20260307T160000
DTSTAMP:20260423T092632
CREATED:20260216T043124Z
LAST-MODIFIED:20260227T184104Z
UID:251821-1772870400-1772899200@coronadotimes.com
SUMMARY:She Talks Global Experience
DESCRIPTION:She Talks is a nationally recognized movement and event series centered on creating safe\, intentional spaces for women to share real stories\, engage in meaningful dialogue\, and build authentic connection through live events\, facilitated conversations\, and community gatherings. She Talks focuses on themes like vulnerability\, resilience\, personal growth\, and empowerment. \nOn March 7\, women from around the world come together for the She Talks Global Experience — a dynamic\, high-energy day designed to inspire\, connect\, and elevate. This one-of-a-kind experience brings together visionary leaders\, entrepreneurs\, creatives\, and change-makers for powerful stories of impact\, authentic connection\, and meaningful conversations that move women forward. \nTICKETS \nCoronado Cays resident Dr. Julie Ducharme is the CEO and founder of She Talks and is one of this event’s speakers.
URL:https://coronadotimes.com/event/she-talks-global-experience-2/
LOCATION:Nautilus Room\, Coronado Community Center\, 1845 Strand Way\, Coronado\, CA\, 92118\, United States
CATEGORIES:community,lecture,meeting,workshop
END:VEVENT
BEGIN:VEVENT
DTSTART;TZID=America/Los_Angeles:20260307T100000
DTEND;TZID=America/Los_Angeles:20260307T130000
DTSTAMP:20260423T092632
CREATED:20260216T023831Z
LAST-MODIFIED:20260224T015326Z
UID:251828-1772877600-1772888400@coronadotimes.com
SUMMARY:Coronado Fixit Clinic
DESCRIPTION:Repair your items instead of tossing them into the landfill.\nThe Fixit Clinic\, sponsored by Emerald Keepers\, the Coronado Library\, and the City of Coronado\, allows you to bring in your broken\, non-working items — electronics\, appliances\, computers\, toys\, bicycles\, clothes\, and more — for assessment\, disassembly\, and possible repair. Fixit Clinic experts will provide workspace\, specialty tools\, and guidance to help you take apart and troubleshoot your item.  \nThe event is free\, but an RSVP is required for item repair with Fixit Clinic Coaches.
URL:https://coronadotimes.com/event/coronado-fixit-clinic/
LOCATION:Coronado Public Library\, 640 Orange Ave\, Coronado\, CA\, 92118\, United States
CATEGORIES:community,workshop
ORGANIZER;CN="Emerald Keepers":MAILTO:info@emeraldkeepers.org
END:VEVENT
BEGIN:VEVENT
DTSTART;TZID=America/Los_Angeles:20260307T100000
DTEND;TZID=America/Los_Angeles:20260307T130000
DTSTAMP:20260423T092632
CREATED:20260228T013927Z
LAST-MODIFIED:20260302T201030Z
UID:253116-1772877600-1772888400@coronadotimes.com
SUMMARY:Fix-It Clinic and Clothing Swap
DESCRIPTION:Have something in need or repair? Bring it to the Fix-It Clinic! \n \nVolunteers will not only try to fix your item\, but they will teach you how to do it as well! Save money and the planet by fixing your broken bicycle/toy/appliance instead of replacing it. Even if we can’t fix it\, you’ll learn more about how it was made and works. \nThis event is free to attend\, but it is not a drop-off and fix event. It is a hands-on event where participants can learn how to repair their items with the help of our expert coaches. \nClick here for more information and to reserve your spot! \nHow many items can I bring to the event? \nPlease bring ONE ITEM that needs to be repaired\, and keep in mind we will try our best to solve the problem\, but not every case is a success. Additional items brought in will be listed as a walk-in and serviced on a case-by-case basis. \nWill you accept walk-ins? \nWe will accept walk-ins if there is time\, but it depends on how quickly we can repair the items of the registered attendees. It’s best to make a reservation for help. Click here to sign up.  \nCLOTHING SWAP OUTSIDE \nEmerald Keepers interns will have a clothing swap outside in the Library Park. Bring a piece of clothing to make a trade with a member of the community and build a more sustainable wardrobe. Please no clothing donations/drop-offs. \nThis event made possible by Emerald Keepers and the City of Coronado. \nCoronado Fixit Clinic
URL:https://coronadotimes.com/event/fix-it-clinic-and-clothing-swap/
LOCATION:Coronado Public Library\, 640 Orange Ave\, Coronado\, CA\, 92118\, United States
CATEGORIES:community,workshop
END:VEVENT
BEGIN:VEVENT
DTSTART;TZID=America/Los_Angeles:20260309T180000
DTEND;TZID=America/Los_Angeles:20260309T200000
DTSTAMP:20260423T092632
CREATED:20260306T160045Z
LAST-MODIFIED:20260306T160045Z
UID:253249-1773079200-1773086400@coronadotimes.com
SUMMARY:College List Masterclass: Finding your best-fit schools
DESCRIPTION:Get ready for your college visits with this strategic workshop. \nStop guessing. Start strategizing. \nJoin Eva Goetze\, Founder of College Advising Boutique\, for a high-octane workshop designed to transform college stress into a sophisticated roadmap. This isn’t just a presentation — it’s a strategic planning session. \nIn this “Power Hour\,” families will: \n\nCurate an Elite List: Learn to align ambitious academic goals with the current admissions landscape.\nThe 76% Rule: Use our signature Diversity & Culture metric to identify where students will actually thrive.\nTour Like a Pro: Master the “Audit Method” for upcoming spring college visits.\nThe Bonus: Every student receives a Personalized College Scorecard to rank and track their top-tier schools in real-time.\n\nStick around after the presentation for a chance to chat with your peers and get your questions answered. \nAbout the presenter: Eva Goetze | Founder\, College Advising Boutique \nSpecialized in students in grades 8–10\, Ms. G. transforms admissions into a strategic\, stress-free roadmap. A former COO\, she brings executive precision to her niche: integrating high-value internships and career matching with the college search. Over 18 years\, Eva has guided 2\,000+ students into elite institutions like Yale\, Duke\, Rice\, and USC. A leader in the Coronado and San Diego communities and a member of the Coronado Chamber\, she provides personalized 1:1 consulting — in-person and virtually. Her methodology allows parents to just be parents by handling the strategy and accountability\, ensuring the journey remains fun and focused on results.
URL:https://coronadotimes.com/event/college-list-masterclass-finding-your-best-fit-schools/
LOCATION:Coronado Public Library\, 640 Orange Ave\, Coronado\, CA\, 92118\, United States
CATEGORIES:education,teens,workshop
END:VEVENT
BEGIN:VEVENT
DTSTART;TZID=America/Los_Angeles:20260319T173000
DTEND;TZID=America/Los_Angeles:20260319T193000
DTSTAMP:20260423T092632
CREATED:20260317T003614Z
LAST-MODIFIED:20260317T003614Z
UID:253693-1773941400-1773948600@coronadotimes.com
SUMMARY:Flower Show Workshop – Learn how to enter
DESCRIPTION:At the Friends and Flowers event on Thursday\, March 19\, attendees will get an overview of the 2026 Coronado Flower Show (April 18-19) with its “Welcome to the Jungle” theme. \nFeaturing the Section Chairs for Cactus and Succulents\, this presentation will provide information from the Horticulture Division of the Flower Show. You will learn how to enter the various categories at the annual show for which you might just bring home a coveted blue ribbon. \nAll are welcome to this informative workshop in the Winn Room at the Coronado Library\, 5:30-7 pm\, on Thursday evening. \nThe Coronado Flower Show art was created by Gina Falletta design. This is Falletta’s fourth year creating the show’s art.
URL:https://coronadotimes.com/event/flower-show-workshop-learn-how-to-enter/
LOCATION:Winn Room\, Coronado Public Library\, 640 Orange Ave\, Coronado\, CA\, 92118\, United States
CATEGORIES:community,education,workshop
END:VEVENT
BEGIN:VEVENT
DTSTART;TZID=America/Los_Angeles:20260320T130000
DTEND;TZID=America/Los_Angeles:20260320T140000
DTSTAMP:20260423T092632
CREATED:20260307T153226Z
LAST-MODIFIED:20260307T153226Z
UID:253264-1774011600-1774015200@coronadotimes.com
SUMMARY:At Your Fingerprints\, Forensic Science Workshop
DESCRIPTION:This workshop will provide a brief overview of the forensic science disciplines with a focus on fingerprint analysis. A hands-on portion of the workshop will allow attendees to determine the basic fingerprint pattern classification of their own fingerprints! \nThis program is for adults over the age of 18. Space is limited\, registration is recommended. Walk-ins will be accommodated as space permits.   \n\nTina Young is a College Professor in Southern California where she teaches basic and advanced forensic photography\, forensic technology\, forensic analysis\, criminal evidence\, and California State-certified forensic technology and bloodstain pattern analysis (BPA) courses.\n\nShe worked as a Crime Scene Specialist from the mid-1990s to early 2000s. She’s a private BPA practitioner and has testified as a BPA expert witness in San Diego\, Riverside\, Los Angeles\, and San Bernardino County Superior Court. She has a Bachelor of Science in Criminal Justice and a Master of Forensic Sciences degree.\n​\nSince July\, 2007\, she’s maintained certification as a Certified Bloodstain Pattern Analyst through the International Association for Identification.\n​​\nTina is the author of a forensic technology textbook\, contributing author in forensic photography textbooks\, and authored several forensic journal articles. She was featured on the Discovery Channel’s What on Earth series.\n​​\nTina’s latest passion is her forensics fiction novel series for young adults\, Bailey McKenzie\, Crime Scene Specialist.
URL:https://coronadotimes.com/event/at-your-fingerprints-forensic-science-workshop/
LOCATION:Coronado Public Library\, 640 Orange Ave\, Coronado\, CA\, 92118\, United States
CATEGORIES:art,books,community,craft,workshop
END:VEVENT
BEGIN:VEVENT
DTSTART;TZID=America/Los_Angeles:20260321T100000
DTEND;TZID=America/Los_Angeles:20260321T170000
DTSTAMP:20260423T092632
CREATED:20260302T024358Z
LAST-MODIFIED:20260302T024358Z
UID:253107-1774087200-1774112400@coronadotimes.com
SUMMARY:San Diego Storytelling Festival
DESCRIPTION:Storytelling Festival Returns to the Coronado Public Library  \n \nHead over the Coronado Bridge for the San Diego Storytelling Festival as it returns to the Coronado Public Library on Saturday\, March 21. This year’s theme\, “Light in the Dark\,” invites audiences to explore stories that illuminate hope and resilience through a full day of free performances\, workshops\, and interactive experiences.  \nThe festival opens at 10 am with Light in the Dark\, featuring local and visiting storytellers sharing folktales\, history\, and personal narratives inspired by the international theme  At 11 am\, audiences can choose between Sea to Shining Sea\, celebrating America’s 250th birthday through stories from coast to coast\, and Good Craic: Irish Stories and Music\, where twice All-Ireland storytelling champion Mairtín de Cógáin brings the lively Irish seanchaí tradition to life with wit and charm.  \nThe day will also include a special workshop with Grammy winner Adam Mellema\, who will share his “secret sauce” for gathering and preserving family stories. In the afternoon\, Deidra Davis will create a live art installation with stories during A Community Tree\, while Darci Tucker’s dynamic first-person portrayal in Revolutionary Women offers a vivid look at colonial America.  \nThe day also features Out Loud: Teen Voices\, showcasing student storytellers from Morse High School\, and a Story Circle/Open Mic where community members are invited to share short\, heartfelt stories of their own. The festival concludes with Voices at the Water’s Edge\, an inspiring celebration of personal and traditional stories designed to send audiences home with new stories\, good memories\, and light in the dark.   \nHosted in partnership with Storytellers of San Diego\, which has brought oral storytelling to the region for more than 40 years\, the festival is free and open to the public. Attendees are welcome to join for one event or stay for the day to experience storytelling in its oldest and most vibrant form. Learn more at coronadolibrary.org.
URL:https://coronadotimes.com/event/san-diego-storytelling-festival-3/
LOCATION:Coronado Public Library\, 640 Orange Ave\, Coronado\, CA\, 92118\, United States
CATEGORIES:books,community,education,entertainment,workshop
END:VEVENT
BEGIN:VEVENT
DTSTART;TZID=America/Los_Angeles:20260324T180000
DTEND;TZID=America/Los_Angeles:20260324T190000
DTSTAMP:20260423T092632
CREATED:20260307T153523Z
LAST-MODIFIED:20260307T153523Z
UID:253267-1774375200-1774378800@coronadotimes.com
SUMMARY:Feathers & Form Art Workshop
DESCRIPTION:Join visual artist Stacie Birky Greene for a bird drawing workshop designed for people of all levels. In this hands-on session\, Stacie will guide participants through techniques to observe and sketch birds with confidence and creativity. You’ll learn how to see key features like proportion\, posture\, anatomy\, and feather texture\, and how to capture these on paper with simple\, expressive lines. The workshop also encourages participants to connect personally with nature as they draw — seeing birds not just as subjects\, but as living forms with motion\, attitude\, and character. \nThis program is for adults over the age of 18. Space is limited\, registration is recommended. Walk-ins will be accommodated as space permits.   \n\nOriginally from Colorado\, Stacie Birky Greene received degrees in Art and Art History from the University of Kentucky. She also studied in Florence\, Italy\, and at the Art Institute of Chicago. Although painting was the focus of her training\, she has explored her art in a wide variety of media\, including drawing\, performance\, photography\, installation and video. \nThe central focus of Birky Greene’s work has been to explore nature through a combination of materials and techniques. Her approach has often been guided by a fascination with form and shape\, particularly as nodes for connecting unlikely allies\, such as coral and cacti. By taking organic materials (or at least their representation) out of context\, she compels the viewer to revel in patterns of structural unity. Her recent work has also considered the impact of human consumption and climate change on the natural world. Appalled by mass deforestation and habitat destruction\, she has turned her attention to bird species that have gone extinct since the time of her own birth. The tangible results of this study will be revealed over the course of the next few years\, in a variety of projects. One feature of these works that is important to consider is her choice of materials: namely\, junk mail\, which she either uses “as is” or manipulates\, with the addition of other detritus\, into homemade paper. It is a project that implicates us all in its struggle: here are beautiful objects made\, nevertheless\, from unwanted materials. Moreover\, the materials themselves are the products of overconsumption of resources – fossil fuels burned in production and transportation\, and deforestation to provide wood pulp for paper. The problem of avian ecology and the pressures these birds face is multidimensional\, but the viewer is placed in the unlikely position of assessing and admiring the victim even as its emblem is formed from components that have been implicated in its destruction. \nBirky Greene lives in San Diego\, and she exhibits her artwork locally and internationally. She has taught art to children and adults since 1998.
URL:https://coronadotimes.com/event/feathers-form-art-workshop/
LOCATION:Coronado Public Library\, 640 Orange Ave\, Coronado\, CA\, 92118\, United States
CATEGORIES:art,books,community,workshop
END:VEVENT
BEGIN:VEVENT
DTSTART;TZID=America/Los_Angeles:20260326T183000
DTEND;TZID=America/Los_Angeles:20260326T193000
DTSTAMP:20260423T092632
CREATED:20260307T154450Z
LAST-MODIFIED:20260324T005712Z
UID:253240-1774549800-1774553400@coronadotimes.com
SUMMARY:Birding 101: How (and why) to spot birds in your neighborhood
DESCRIPTION:Have you ever seen a bird? Then you’re already a birder! Join San Diego Bird Alliance for a fun and easy introduction to the world of birds. San Diego is one of America’s “birdiest” counties\, and we’ll talk about what makes our region so special. You don’t need to go far to experience this bounty\, and we’ll talk about how to spot and identify some familiar birds right in your own neighborhood. Along the way\, we will learn about free resources like eBird\, the Merlin Bird ID app\, and ways to get plugged in with other local nature enthusiasts. This talk will be given in English\, with English/Spanish resources available. All ages are welcome! \n\nSan Diego Bird Alliance is a local nonprofit defending our region’s birds\, unique biodiversity\, and threatened habitats through advocacy\, education\, and restoration. SDBA has served San Diego County’s diverse communities for over 75 years through community-based habitat restoration projects\, environmental education programs\, and recreational offerings. https://www.sandiegobirdalliance.org/
URL:https://coronadotimes.com/event/birding-101-how-and-why-to-spot-birds-in-your-neighborhood/
LOCATION:Coronado Public Library\, 640 Orange Ave\, Coronado\, CA\, 92118\, United States
CATEGORIES:books,community,workshop
END:VEVENT
BEGIN:VEVENT
DTSTART;TZID=America/Los_Angeles:20260327T110000
DTEND;TZID=America/Los_Angeles:20260327T123000
DTSTAMP:20260423T092632
CREATED:20260222T232044Z
LAST-MODIFIED:20260222T232044Z
UID:252880-1774609200-1774614600@coronadotimes.com
SUMMARY:Cooking class: A Taste of Spring
DESCRIPTION:Celebrate the season with a fun\, hands-on cooking class where you’ll learn to create festive\, delicious dishes perfect for your holiday brunch table. On the menu: a classic French quiche filled with smoky bacon\, Gruyère cheese\, and creamy custard in a buttery pastry crust; a fresh garden salad; and delightful carrot cake cupcakes. \nWhether you’re a kitchen newbie or a seasoned home cook\, this class will spark your creativity and leave you inspired with fresh\, springtime flavors. Come cook\, connect\, and enjoy the newness of spring through cooking.
URL:https://coronadotimes.com/event/cooking-class-a-taste-of-spring/
LOCATION:John D. Spreckels Center and Bowling Green\, 1019 7th Street\, Coronado\, CA\, 92118\, United States
CATEGORIES:community,workshop
END:VEVENT
BEGIN:VEVENT
DTSTART;TZID=America/Los_Angeles:20260327T143000
DTEND;TZID=America/Los_Angeles:20260327T153000
DTSTAMP:20260423T092632
CREATED:20260307T154946Z
LAST-MODIFIED:20260307T154946Z
UID:253277-1774621800-1774625400@coronadotimes.com
SUMMARY:March Spice It Up\, Coronado!
DESCRIPTION:Like a book club\, but for cooking! Explore new spices each month\, pick up a sample\, cook at home\, and discuss your creations in our monthly Zoom discussion. \nFor the month of March we will be sampling colombo spice blend. \nSee photographs and recipes from past Spice It Up\, Coronado! HERE\, then click on Open Access. \n\nDisclaimer(s)\n\n\n\nFood Allergies\n\nWe cannot guarantee that food served at this program has not come into contact with tree nuts\, soy\, or other allergens. \n\n\n\n\n\nFree And Open
URL:https://coronadotimes.com/event/march-spice-it-up-coronado/
LOCATION:Coronado Public Library\, 640 Orange Ave\, Coronado\, CA\, 92118\, United States
CATEGORIES:community,food and drink,workshop
END:VEVENT
BEGIN:VEVENT
DTSTART;TZID=America/Los_Angeles:20260330T090000
DTEND;TZID=America/Los_Angeles:20260330T103000
DTSTAMP:20260423T092632
CREATED:20260116T000237Z
LAST-MODIFIED:20260116T000237Z
UID:250863-1774861200-1774866600@coronadotimes.com
SUMMARY:Pickleball beginner clinics
DESCRIPTION:Part 1 – intro to pickleball; focus on stroke development \nPart 2 (optional) – stroke development; court positioning; game play \nAll classes 9 to 10:30 am at the Coronado Cays Pickleball Courts.
URL:https://coronadotimes.com/event/pickleball-beginner-clinics-2-17/
LOCATION:Coronado Cays Pickleball Courts\, 99 Grand Caribe Isle\, Coronado\, 92118
CATEGORIES:sports,workshop
END:VEVENT
BEGIN:VEVENT
DTSTART;TZID=America/Los_Angeles:20260330T140000
DTEND;TZID=America/Los_Angeles:20260330T150000
DTSTAMP:20260423T092632
CREATED:20260307T155346Z
LAST-MODIFIED:20260307T155346Z
UID:253280-1774879200-1774882800@coronadotimes.com
SUMMARY:Makers Monday: Birds and Detectives with LKW STEM Foundation
DESCRIPTION:Hosted by LKW STEM Foundation\, Birds & Detectives is an engaging\, hands-on STEM Workshop that introduces students to the science of Forensic Ornithology — the investigation of bird evidence to solve real-world mysteries. Participants step into the role of nature detectives as they observe birds\, analyze feathers and tracks\, collect data\, and use scientific tools to draw evidence-based conclusions. \nThrough guided inquiry and outdoor exploration\, students practice core STEM skills such as observation\, pattern recognition\, data recording\, and critical thinking while strengthening social-emotional skills like collaboration\, curiosity\, and perseverance. The workshop connects science learning to real careers in wildlife biology\, environmental science\, conservation\, and forensic investigation\, helping students see how STEM is used beyond the classroom. \nDesigned to be interactive\, age-appropriate\, and inclusive\, Birds & Detectives blends science\, nature\, and problem-solving to spark curiosity\, build confidence\, and inspire the next generation of STEM thinkers — one clue at a time. \nRegistration Required\, please register EACH child individually
URL:https://coronadotimes.com/event/makers-monday-birds-and-detectives-with-lkw-stem-foundation/
LOCATION:Coronado Public Library\, 640 Orange Ave\, Coronado\, CA\, 92118\, United States
CATEGORIES:books,craft,kids,workshop
END:VEVENT
END:VCALENDAR