BEGIN:VCALENDAR
VERSION:2.0
PRODID:-//Coronado Times - ECPv6.5.1.5//NONSGML v1.0//EN
CALSCALE:GREGORIAN
METHOD:PUBLISH
X-WR-CALNAME:Coronado Times
X-ORIGINAL-URL:https://coronadotimes.com
X-WR-CALDESC:Events for Coronado Times
REFRESH-INTERVAL;VALUE=DURATION:PT1H
X-Robots-Tag:noindex
X-PUBLISHED-TTL:PT1H
BEGIN:VTIMEZONE
TZID:America/Los_Angeles
BEGIN:DAYLIGHT
TZOFFSETFROM:-0800
TZOFFSETTO:-0700
TZNAME:PDT
DTSTART:20250309T100000
END:DAYLIGHT
BEGIN:STANDARD
TZOFFSETFROM:-0700
TZOFFSETTO:-0800
TZNAME:PST
DTSTART:20251102T090000
END:STANDARD
END:VTIMEZONE
BEGIN:VEVENT
DTSTART;TZID=America/Los_Angeles:20250618T183000
DTEND;TZID=America/Los_Angeles:20250618T200000
DTSTAMP:20260424T212235
CREATED:20250511T200912Z
LAST-MODIFIED:20250511T200912Z
UID:242969-1750271400-1750276800@coronadotimes.com
SUMMARY:Armchair Travel: Africa on Water & Foot
DESCRIPTION:Embark on an unforgettable journey through the heart of Africa with renowned nature and wildlife artist Fred Krakowiak. In his captivating program\, The Artist’s Safari\, Fred combines his artistic talent with vivid storytelling drawn from his personal safari adventures. Experience the thrill of charging elephants\, close encounters with crocodiles and cape buffalo\, and the joy of connecting with local communities as he teaches African children how to paint. \nThrough stunning visuals and engaging narration\, Fred offers a one-of-a-kind perspective on the raw beauty\, culture\, and wildlife of Africa—bringing the safari experience to life from the comfort of your seat. \nTicket prices: \n\nSenior (55+)\n\nResident $7\nNonresident: $9\n\n\nAdult\n\nResident: $9\nNonresident: $11\n\n\n\nAll tickets are $9 at the door. Reserve your spot today for this inspiring evening of art\, adventure\, and cultural discovery. To register\, visit coronado.ca.us/civicrec\, call 619-522-7343\, or stop by the Spreckels Center front desk at 1019 Seventh Street.
URL:https://coronadotimes.com/event/armchair-travel-africa-on-water-foot/
LOCATION:John D. Spreckels Center\, 1019 Seventh Street\, Coronado\, CA\, 92118\, United States
CATEGORIES:community,lecture,travel
END:VEVENT
END:VCALENDAR