BEGIN:VCALENDAR
VERSION:2.0
PRODID:-//Coronado Times - ECPv6.5.1.5//NONSGML v1.0//EN
CALSCALE:GREGORIAN
METHOD:PUBLISH
X-ORIGINAL-URL:https://coronadotimes.com
X-WR-CALDESC:Events for Coronado Times
REFRESH-INTERVAL;VALUE=DURATION:PT1H
X-Robots-Tag:noindex
X-PUBLISHED-TTL:PT1H
BEGIN:VTIMEZONE
TZID:America/Los_Angeles
BEGIN:DAYLIGHT
TZOFFSETFROM:-0800
TZOFFSETTO:-0700
TZNAME:PDT
DTSTART:20250309T100000
END:DAYLIGHT
BEGIN:STANDARD
TZOFFSETFROM:-0700
TZOFFSETTO:-0800
TZNAME:PST
DTSTART:20251102T090000
END:STANDARD
END:VTIMEZONE
BEGIN:VEVENT
DTSTART;TZID=America/Los_Angeles:20250219T183000
DTEND;TZID=America/Los_Angeles:20250219T200000
DTSTAMP:20260425T050303
CREATED:20250126T175335Z
LAST-MODIFIED:20250126T175335Z
UID:238648-1739989800-1739995200@coronadotimes.com
SUMMARY:Armchair Travel: Exploring Nepal and the Majesty of Mount Everest
DESCRIPTION:Embark on a virtual journey to the breathtaking landscapes of Nepal and the towering Himalayas at our next Armchair Travel event on Wednesday\, February 19\, from 6:30 to 8 pm at the John D. Spreckels Center. \nJoin seasoned traveler Katherine Whitley as she shares highlights from her 50 years of adventures in Nepal. Through captivating stories and vivid imagery\, Katherine will guide you through the vibrant culture of Nepal\, the awe-inspiring Himalayas\, and her memorable treks to Everest Base Camp. She’ll also offer insights from her latest travels in 2024\, bringing this incredible destination to life. \nPhoto by Sanjay Hona on Unsplash\nTickets are $6 for Coronado residents and $8 for nonresidents when purchased in advance—or $8 at the door. Don’t miss this opportunity to explore the wonders of Nepal from the comfort of your seat. \nReserve your spot and get ready for an inspiring evening of adventure and discovery! For more information or to register\, visit www.coronado.ca.us/civicrec\, call (619) 522-7343\, or stop by the Spreckels Center front desk at 1019 Seventh Street.
URL:https://coronadotimes.com/event/armchair-travel-exploring-nepal-and-the-majesty-of-mount-everest/
LOCATION:John D. Spreckels Center\, 1019 Seventh Street\, Coronado\, CA\, 92118\, United States
CATEGORIES:community,lecture,travel
END:VEVENT
END:VCALENDAR