BEGIN:VCALENDAR
VERSION:2.0
PRODID:-//Coronado Times - ECPv6.5.1.5//NONSGML v1.0//EN
CALSCALE:GREGORIAN
METHOD:PUBLISH
X-ORIGINAL-URL:https://coronadotimes.com
X-WR-CALDESC:Events for Coronado Times
REFRESH-INTERVAL;VALUE=DURATION:PT1H
X-Robots-Tag:noindex
X-PUBLISHED-TTL:PT1H
BEGIN:VTIMEZONE
TZID:America/Los_Angeles
BEGIN:DAYLIGHT
TZOFFSETFROM:-0800
TZOFFSETTO:-0700
TZNAME:PDT
DTSTART:20260308T100000
END:DAYLIGHT
BEGIN:STANDARD
TZOFFSETFROM:-0700
TZOFFSETTO:-0800
TZNAME:PST
DTSTART:20261101T090000
END:STANDARD
END:VTIMEZONE
BEGIN:VEVENT
DTSTART;TZID=America/Los_Angeles:20260307T080000
DTEND;TZID=America/Los_Angeles:20260307T080000
DTSTAMP:20260422T234020
CREATED:20260205T174339Z
LAST-MODIFIED:20260205T174339Z
UID:251632-1772870400-1772870400@coronadotimes.com
SUMMARY:PAWS of Coronado Ruff Run
DESCRIPTION:Calling all dogs (and their humans). The Ruff Run is a 5K run/walk celebrating our furry friends. \nMore info here \nNote: Dogs are not required to participate — everyone is welcome! \nCome on out to Tidelands Park on Saturday\, March 7 for some tail-wagging fun!
URL:https://coronadotimes.com/event/paws-of-coronado-ruff-run/
LOCATION:Tidelands Park\, 2000 Mullinex Drive\, Coronado\, CA\, 92118\, United States
CATEGORIES:community,entertainment,running,sports
ATTACH;FMTTYPE=image/jpeg:https://coronadotimes.com/wp-content/uploads/2026/02/ruff-run-2026.jpg
END:VEVENT
END:VCALENDAR