BEGIN:VCALENDAR
VERSION:2.0
PRODID:-//Coronado Times - ECPv6.5.1.5//NONSGML v1.0//EN
CALSCALE:GREGORIAN
METHOD:PUBLISH
X-WR-CALNAME:Coronado Times
X-ORIGINAL-URL:https://coronadotimes.com
X-WR-CALDESC:Events for Coronado Times
REFRESH-INTERVAL;VALUE=DURATION:PT1H
X-Robots-Tag:noindex
X-PUBLISHED-TTL:PT1H
BEGIN:VTIMEZONE
TZID:America/Los_Angeles
BEGIN:DAYLIGHT
TZOFFSETFROM:-0800
TZOFFSETTO:-0700
TZNAME:PDT
DTSTART:20250309T100000
END:DAYLIGHT
BEGIN:STANDARD
TZOFFSETFROM:-0700
TZOFFSETTO:-0800
TZNAME:PST
DTSTART:20251102T090000
END:STANDARD
END:VTIMEZONE
BEGIN:VEVENT
DTSTART;TZID=America/Los_Angeles:20250223T120000
DTEND;TZID=America/Los_Angeles:20250223T150000
DTSTAMP:20260425T075402
CREATED:20250131T051048Z
LAST-MODIFIED:20250218T141911Z
UID:238916-1740312000-1740322800@coronadotimes.com
SUMMARY:Tennis Doubles Mixer to Benefit PAWS
DESCRIPTION:Impact Activities\, in partnership with PAWS of Coronado\, is hosting a special doubles tennis mixer at the Coronado Tennis Center on Sunday\, Feb. 23\, from noon to 3 pm. A $45 donation is required to play\, and the event is free to attend. All proceeds will benefit PAWS of Coronado\, which will be onsite with adoptable animals looking for their forever homes. You can register to play by visiting the PAWS of Coronado donation page or by scanning the QR code. \n \nRegister by donating here. \n  \n 
URL:https://coronadotimes.com/event/tennis-doubles-mixer-to-benefit-paws/
LOCATION:Coronado Tennis Center\, 1501 Glorietta Boulevard\, Coronado\, CA\, 92118\, United States
CATEGORIES:community,sports
END:VEVENT
END:VCALENDAR