BEGIN:VCALENDAR
VERSION:2.0
PRODID:-//Coronado Times - ECPv6.5.1.5//NONSGML v1.0//EN
CALSCALE:GREGORIAN
METHOD:PUBLISH
X-WR-CALNAME:Coronado Times
X-ORIGINAL-URL:https://coronadotimes.com
X-WR-CALDESC:Events for Coronado Times
REFRESH-INTERVAL;VALUE=DURATION:PT1H
X-Robots-Tag:noindex
X-PUBLISHED-TTL:PT1H
BEGIN:VTIMEZONE
TZID:America/Los_Angeles
BEGIN:DAYLIGHT
TZOFFSETFROM:-0800
TZOFFSETTO:-0700
TZNAME:PDT
DTSTART:20260308T100000
END:DAYLIGHT
BEGIN:STANDARD
TZOFFSETFROM:-0700
TZOFFSETTO:-0800
TZNAME:PST
DTSTART:20261101T090000
END:STANDARD
END:VTIMEZONE
BEGIN:VEVENT
DTSTART;TZID=America/Los_Angeles:20260102T100000
DTEND;TZID=America/Los_Angeles:20260102T100000
DTSTAMP:20260423T204259
CREATED:20251222T213157Z
LAST-MODIFIED:20251223T014559Z
UID:250506-1767348000-1767348000@coronadotimes.com
SUMMARY:Holiday Bowl Parade & Game Day 5K Run/Walk
DESCRIPTION:Port of San Diego welcomes you to enjoy the annual Port of San Diego Holiday Bowl Parade and Game Day 5K\nPhoto courtesy of David Frerker for Sports San Diego.\nThe Port of San Diego welcomes visitors to the Port of San Diego Holiday Bowl Parade presented by Kaiser Permanente on Friday\, January 2 at 10 a.m. along the San Diego Bay waterfront. \n“The parade is a wonderful way to celebrate the holidays and mark the start of a new year with marching bands\, colorful balloons\, festive floats\, and more\,” said Chair Danielle Moore\, Port of San Diego Board of Port Commissioners. “Whether you’re in town for the game or a local resident\, this family-fun and free event welcomes visitors near and far to experience and enjoy our beautiful San Diego Bay waterfront.” \nThis year’s parade is expected to draw more than 100\,000 street-side spectators and a nationwide television audience. The parade is free to attend and watch\, and the public can also choose to buy Grandstand Seating Tickets. In addition to enjoying a procession of giant balloons and local performers\, parade spectators will be greeted by special guests including Port of San Diego Board Commissioner Sid Voorakkara. \nThe parade will be live streamed on CBS 8\, and it can be viewed at holidaybowl.com. The website also has more information on the Port of San Diego Holiday Bowl Parade\, including parking\, parade route\, grandstand tickets\, volunteering\, and all Holiday Bowl events. \nBefore the parade\, thousands will also participate in the annual Game Day 5K Run/Walk taking place along the waterfront. The Port is title sponsor of the Holiday Bowl Parade and Game Day 5K Run/Walk through its Tidelands Activation Programs (TAP). TAP is an annual grant program through which the Port supports events of all sizes that engage and inspire visitors to enjoy San Diego Bay.
URL:https://coronadotimes.com/event/holiday-bowl-parade-game-day-5k-run-walk/
LOCATION:CA
CATEGORIES:community,entertainment,family,sports
END:VEVENT
BEGIN:VEVENT
DTSTART;TZID=America/Los_Angeles:20260110T113000
DTEND;TZID=America/Los_Angeles:20260110T150000
DTSTAMP:20260423T204259
CREATED:20260106T055501Z
LAST-MODIFIED:20260106T055501Z
UID:250666-1768044600-1768057200@coronadotimes.com
SUMMARY:KMAC Accessible Sailing winter season
DESCRIPTION:KMAC Foundation for Accessible Sailing in Coronado is starting its winter sailing season on January 10 and 24 at the Coronado Yacht Club. Join us from 11:30 am – 3 pm. Provided at not cost to individuals with disabilities and veterans. Sailors and new volunteers  are always welcome. \nMore information at KMACFoundation.com. \n\nKMAC Foundation Provides Access to the Sport of Sailing
URL:https://coronadotimes.com/event/kmac-accessible-sailing-winter-season/
LOCATION:Coronado Yacht Club\, 1631 Strand Way\, Coronado\, CA\, 92118\, United States
CATEGORIES:community,sports
ORGANIZER;CN="KMAC Foundation":MAILTO:KMACFoundation@gmail.com
END:VEVENT
BEGIN:VEVENT
DTSTART;TZID=America/Los_Angeles:20260124T110000
DTEND;TZID=America/Los_Angeles:20260124T150000
DTSTAMP:20260423T204259
CREATED:20260106T210101Z
LAST-MODIFIED:20260106T210313Z
UID:250673-1769252400-1769266800@coronadotimes.com
SUMMARY:KMAC Accessible Sailing winter season
DESCRIPTION:KMAC Foundation for Accessible Sailing in Coronado is starting its winter sailing season at the Coronado Yacht Club. Join us from 11:30 am – 3 pm. Provided at not cost to individuals with disabilities and veterans. Sailors and new volunteers  are always welcome. \nMore information at KMACFoundation.com. \n\nKMAC Foundation Provides Access to the Sport of Sailing
URL:https://coronadotimes.com/event/kmac-accessible-sailing-winter-season-2/
LOCATION:Coronado Yacht Club\, 1631 Strand Way\, Coronado\, CA\, 92118\, United States
CATEGORIES:community,sports
ORGANIZER;CN="KMAC Foundation":MAILTO:KMACFoundation@gmail.com
END:VEVENT
BEGIN:VEVENT
DTSTART;TZID=America/Los_Angeles:20260126T090000
DTEND;TZID=America/Los_Angeles:20260126T103000
DTSTAMP:20260423T204259
CREATED:20260115T235927Z
LAST-MODIFIED:20260115T235927Z
UID:250857-1769418000-1769423400@coronadotimes.com
SUMMARY:Pickleball beginner clinics
DESCRIPTION:Part 1 – intro to pickleball; focus on stroke development \nPart 2 (optional) – stroke development; court positioning; game play \nAll classes 9 to 10:30 am at the Coronado Cays Pickleball Courts.
URL:https://coronadotimes.com/event/pickleball-beginner-clinics-2-15/
LOCATION:Coronado Cays Pickleball Courts\, 99 Grand Caribe Isle\, Coronado\, 92118
CATEGORIES:sports,workshop
END:VEVENT
END:VCALENDAR