BEGIN:VCALENDAR
VERSION:2.0
PRODID:-//Coronado Times - ECPv6.5.1.5//NONSGML v1.0//EN
CALSCALE:GREGORIAN
METHOD:PUBLISH
X-ORIGINAL-URL:https://coronadotimes.com
X-WR-CALDESC:Events for Coronado Times
REFRESH-INTERVAL;VALUE=DURATION:PT1H
X-Robots-Tag:noindex
X-PUBLISHED-TTL:PT1H
BEGIN:VTIMEZONE
TZID:America/Los_Angeles
BEGIN:DAYLIGHT
TZOFFSETFROM:-0800
TZOFFSETTO:-0700
TZNAME:PDT
DTSTART:20240310T100000
END:DAYLIGHT
BEGIN:STANDARD
TZOFFSETFROM:-0700
TZOFFSETTO:-0800
TZNAME:PST
DTSTART:20241103T090000
END:STANDARD
END:VTIMEZONE
BEGIN:VEVENT
DTSTART;TZID=America/Los_Angeles:20240725T110000
DTEND;TZID=America/Los_Angeles:20240725T110000
DTSTAMP:20260425T080840
CREATED:20240702T153157Z
LAST-MODIFIED:20240702T153157Z
UID:222144-1721905200-1721905200@coronadotimes.com
SUMMARY:Feast & Fareway's First Annual Golf Tournament
DESCRIPTION:Feast & Fareway will hold its first annual golf tournament on Thursday\, July 25 with all proceeds going to the C4 Foundation. \nRegister today to be part of this inaugural event. Your registration includes golf\, lunch\, dinner\, drinks all day\, swag and more! Text 562-233-9772 to register.
URL:https://coronadotimes.com/event/feast-fareways-first-annual-golf-tournament/
LOCATION:Coronado Municipal Golf Course\, 2000 Visalia Row\, Coronado\, CA\, 92118\, United States
CATEGORIES:Philanthropy,sports
ORGANIZER;CN="Feast & Fareway":MAILTO:events@feastandfarewaycoronado.com
END:VEVENT
BEGIN:VEVENT
DTSTART;TZID=America/Los_Angeles:20240729T090000
DTEND;TZID=America/Los_Angeles:20240729T103000
DTSTAMP:20260425T080840
CREATED:20240710T152102Z
LAST-MODIFIED:20240710T152102Z
UID:222384-1722243600-1722249000@coronadotimes.com
SUMMARY:Learn to Play Pickleball
DESCRIPTION:Beginner Clinics are held at the end of each month at the Coronado Cays Pickleball Courts. \nwww.impactactivities.com/coronado \nCreate an account\, and then register at www.impactactivities.com/coronado-openplayandclinics
URL:https://coronadotimes.com/event/learn-to-play-pickleball/
LOCATION:Coronado Cays Pickleball Courts\, 99 Grand Caribe Isle\, Coronado\, 92118
CATEGORIES:sports
END:VEVENT
END:VCALENDAR