BEGIN:VCALENDAR
VERSION:2.0
PRODID:-//Coronado Times - ECPv6.5.1.5//NONSGML v1.0//EN
CALSCALE:GREGORIAN
METHOD:PUBLISH
X-WR-CALNAME:Coronado Times
X-ORIGINAL-URL:https://coronadotimes.com
X-WR-CALDESC:Events for Coronado Times
REFRESH-INTERVAL;VALUE=DURATION:PT1H
X-Robots-Tag:noindex
X-PUBLISHED-TTL:PT1H
BEGIN:VTIMEZONE
TZID:America/Los_Angeles
BEGIN:DAYLIGHT
TZOFFSETFROM:-0800
TZOFFSETTO:-0700
TZNAME:PDT
DTSTART:20250309T100000
END:DAYLIGHT
BEGIN:STANDARD
TZOFFSETFROM:-0700
TZOFFSETTO:-0800
TZNAME:PST
DTSTART:20251102T090000
END:STANDARD
END:VTIMEZONE
BEGIN:VEVENT
DTSTART;TZID=America/Los_Angeles:20251206T090000
DTEND;TZID=America/Los_Angeles:20251206T150000
DTSTAMP:20260424T135242
CREATED:20251118T034852Z
LAST-MODIFIED:20251118T034852Z
UID:249374-1765011600-1765033200@coronadotimes.com
SUMMARY:Artisans Alley
DESCRIPTION:The 52nd annual Coronado Artisans Alley Craft Fair includes a wide selection of more than 150 vendors selling homemade crafts and unique holiday gifts\, food vendors\, and live performances by the Coronado Elementary\, Middle and High School Bands and Choirs! \nAll proceeds from the fair support the Coronado Band & Choir Boosters. \nDonation suggested upon entry\, which includes a raffle ticket. \nAdditional raffle tickets available for purchase. \nAll vendors donate an item to be raffled. \nEntrance on H Avenue. \n\n\nConcert Schedule\n(Subject to Change) \n\n\n\n\n10 am CMS BEGINNING BAND \n10:30 am CMS ADVANCED BAND \n11 am CHS BAND \n11:30 am CMS MUSICAL THEATRE AND CHOIR \n12 pm SILVER STRAND CHOIR
URL:https://coronadotimes.com/event/artisans-alley-3/
LOCATION:Village Elementary School\, 600 6th Street\, Coronado\, CA\, 92118\, United States
CATEGORIES:holiday,music,shopping
END:VEVENT
END:VCALENDAR