BEGIN:VCALENDAR
VERSION:2.0
PRODID:-//Coronado Times - ECPv6.5.1.5//NONSGML v1.0//EN
CALSCALE:GREGORIAN
METHOD:PUBLISH
X-ORIGINAL-URL:https://coronadotimes.com
X-WR-CALDESC:Events for Coronado Times
REFRESH-INTERVAL;VALUE=DURATION:PT1H
X-Robots-Tag:noindex
X-PUBLISHED-TTL:PT1H
BEGIN:VTIMEZONE
TZID:America/Los_Angeles
BEGIN:DAYLIGHT
TZOFFSETFROM:-0800
TZOFFSETTO:-0700
TZNAME:PDT
DTSTART:20250309T100000
END:DAYLIGHT
BEGIN:STANDARD
TZOFFSETFROM:-0700
TZOFFSETTO:-0800
TZNAME:PST
DTSTART:20251102T090000
END:STANDARD
END:VTIMEZONE
BEGIN:VEVENT
DTSTART;TZID=America/Los_Angeles:20251114T090000
DTEND;TZID=America/Los_Angeles:20251114T140000
DTSTAMP:20260424T151814
CREATED:20251106T181252Z
LAST-MODIFIED:20251106T181252Z
UID:248829-1763110800-1763128800@coronadotimes.com
SUMMARY:Holiday Shopping Fair ~ Sponsored by Coronado Hospital Auxiliary
DESCRIPTION:Get started on (or continue) your holiday shopping while you support the Sharp Coronado Hospital Auxiliary.
URL:https://coronadotimes.com/event/holiday-shopping-fair-sponsored-by-coronado-hospital-auxiliary/
LOCATION:Sharp Coronado Hospital Auditorium Sandermann Education Center\, 265 Soledad Place\, Coronado\, CA\, 92118\, United States
CATEGORIES:community,holiday,shopping
END:VEVENT
BEGIN:VEVENT
DTSTART;TZID=America/Los_Angeles:20251115T090000
DTEND;TZID=America/Los_Angeles:20251115T140000
DTSTAMP:20260424T151814
CREATED:20251106T053521Z
LAST-MODIFIED:20251114T225823Z
UID:248931-1763197200-1763215200@coronadotimes.com
SUMMARY:FOCUS Holiday Boutique
DESCRIPTION:Kick off the holiday season at the FOCUS Holiday Boutique – support children in need \nCelebrate the spirit of giving and get a head start on your holiday shopping at the Holiday Boutique benefiting FOCUS (Friends of Children United Society). Join us on Sunday\, November 15\, 2025\, from 9 am to 2 pm at the Coronado Cays Yacht Club\, located at 30 N. Caribe Cay Boulevard\, for a day filled with fabulous finds\, festive cheer\, and community support. \nThis special event features more than 50 local vendors\, offering a vast selection of clothing\, handbags\, accessories\, jewelry\, books\, gourmet food\, holiday decor\, designer chocolates\, candles\, paper goods\, hostess items\, and much more — perfect for stocking up on gifts or treating yourself. Entrance is just $10\, and all proceeds benefit at-risk children in San Diego County. \nEnjoy a complimentary champagne cocktail\, along with coffee\, pastries\, and snacks available at no charge. A full bar will be open all day for your enjoyment. Stay for lunch and savor a delicious taco bar lunch for just $4. \nIt’s the perfect way to kick off your holiday season while making a meaningful difference. Your support helps provide aid and comfort to vulnerable children throughout San Diego County. \nPhoto courtesy of FOCUS\nFor more information about FOCUS\, please visit www.focus-sdkids.org. \nJoin us for a day of shopping\, socializing\, and giving! Your generosity helps create brighter futures for children in need.
URL:https://coronadotimes.com/event/focus-holiday-boutique-4/
LOCATION:Coronado Cays Yacht Club\, 30 Caribe Cay Boulevard\, Coronado\, CA\, 92118\, United States
CATEGORIES:community,holiday,shopping
END:VEVENT
BEGIN:VEVENT
DTSTART;TZID=America/Los_Angeles:20251122T100000
DTEND;TZID=America/Los_Angeles:20251122T150000
DTSTAMP:20260424T151814
CREATED:20251114T225638Z
LAST-MODIFIED:20251114T225638Z
UID:249276-1763805600-1763823600@coronadotimes.com
SUMMARY:Holiday book and gift sale
DESCRIPTION:FALL FUNDRAISER 🍂\nHoliday Books & Gift Sale \nFind pre-loved books for children and adults\, plus coffee table books\, DVDs\, holiday cards\, Christmas books\, and unique gift items — perfect for thoughtful\, sustainable holiday shopping. All proceeds support Library programs — visit CoronadoFOL.org to learn more about how we help our beloved Coronado Public Library. \nFamily and Member Corner! Enjoy face painting and fun activities for young readers while you browse. The Friends of the Coronado Public Library are also hosting a special book signing with Eric Wolfinger in celebration of his latest work\, The Blue Food Cookbook (book signing 12-1 pm). \nCredit and debit cards preferred. Please bring your own bags. \nEvent will be canceled in the event of rain.
URL:https://coronadotimes.com/event/holiday-book-and-gift-sale/
LOCATION:Coronado Public Library\, 640 Orange Ave\, Coronado\, CA\, 92118\, United States
CATEGORIES:books,community,holiday,shopping
END:VEVENT
BEGIN:VEVENT
DTSTART;VALUE=DATE:20251129
DTEND;VALUE=DATE:20251130
DTSTAMP:20260424T151814
CREATED:20251115T213512Z
LAST-MODIFIED:20251125T205454Z
UID:249311-1764374400-1764460799@coronadotimes.com
SUMMARY:Shop Small - Small Business Saturday
DESCRIPTION:Small Business Saturday is a community and family event that gives residents and visitors extra incentives to go out and visit all of their favorite places. \nSmall Business Saturday in Coronado is a vital occasion that encourages support of the unique local shops and services that define our charming island community. On this special day\, shoppers can explore the distinctive boutiques\, art galleries\, and eateries that offer everything from handcrafted gifts to delicious treats\, showcasing the creativity and entrepreneurial spirit of Coronado’s small business owners. Supporting these local establishments not only helps boost the economy but also fosters a strong sense of community\, allowing residents to connect with their neighbors and celebrate the character of our town. By choosing to shop local on Small Business Saturday\, we can ensure that Coronado remains vibrant and thriving\, making it a truly special place to live and visit. \nCoronado MainStreet is providing prizes of an Electra Bike donated by Hollands Bicycles\, $100\, and $50 in Coronado Cash\, for five lucky shoppers. There will be entertainment at various spots during the day and some stores will offer surprises of their own. \nEmerald Keepers will be offering sustainable gift wrapping using recyclable and compostable material. If you’re out shopping\, be sure to stop by the gift-wrapping station at Rotary Plaza on Orange Avenue. \nTo be eligible for a prize\, turn in your Shop Small passport at the Coronado MainStreet table in Rotary Park between 11 am and 3 pm on Nov. 29 for a chance to win.
URL:https://coronadotimes.com/event/shop-small-small-business-saturday-2/
LOCATION:CA
CATEGORIES:community,holiday,shopping
END:VEVENT
END:VCALENDAR