BEGIN:VCALENDAR
VERSION:2.0
PRODID:-//Coronado Times - ECPv6.5.1.5//NONSGML v1.0//EN
CALSCALE:GREGORIAN
METHOD:PUBLISH
X-ORIGINAL-URL:https://coronadotimes.com
X-WR-CALDESC:Events for Coronado Times
REFRESH-INTERVAL;VALUE=DURATION:PT1H
X-Robots-Tag:noindex
X-PUBLISHED-TTL:PT1H
BEGIN:VTIMEZONE
TZID:America/Los_Angeles
BEGIN:DAYLIGHT
TZOFFSETFROM:-0800
TZOFFSETTO:-0700
TZNAME:PDT
DTSTART:20250309T100000
END:DAYLIGHT
BEGIN:STANDARD
TZOFFSETFROM:-0700
TZOFFSETTO:-0800
TZNAME:PST
DTSTART:20251102T090000
END:STANDARD
END:VTIMEZONE
BEGIN:VEVENT
DTSTART;TZID=America/Los_Angeles:20251023T160000
DTEND;TZID=America/Los_Angeles:20251023T190000
DTSTAMP:20260424T165119
CREATED:20251013T184033Z
LAST-MODIFIED:20251023T175807Z
UID:247720-1761235200-1761246000@coronadotimes.com
SUMMARY:Sip\, Shop & Shuffle - Mahjong for a Cause
DESCRIPTION:Sip\, Shop and Shuffle is Cancer Cartel’s take on the perfect Coronado afternoon. \nBubbles\, bites\, beats\, a little Mahjong for those who want to play! Plus great prizes from the Opportunity Drawing. \nWe will be gathering at the Coronado Fire Station Venue\, a perfect backdrop for an afternoon of connection and community. \nWhether you are an experienced player\, a total newbie\, or just want to learn\, this event is for you. Or just come to mix\, mingle\, shop\, and make an impact. For the shoppers\, there will be a sampling of designer fashion donated by A Line Boutique. \nIt is all to support Cancer Cartel and its mission to help people facing the crushing cost of cancer. Hang out\, have fun\, and be part of something that truly makes a difference. \nThank you to the Coronado Mahjong Club for their generous support and partnership. Their time\, energy\, and enthusiasm are helping to bring this event to life. \nLocal DJ Tee Lynn will be keeping the vibe high\, Emerald Spear Tequila will have a specialty cocktail\, and the event will be supported by two local photographers: Ally Boyer-Sprouse and Golden Flutter Photography. \n100% of proceeds go directly to those in need.
URL:https://coronadotimes.com/event/sip-shop-shuffle-mahjong-for-a-cause/
LOCATION:Fire Station Venue\, 126 Orange Ave\, Coronado\, CA\, 92118\, United States
CATEGORIES:community,entertainment,Philanthropy,shopping
END:VEVENT
END:VCALENDAR