BEGIN:VCALENDAR
VERSION:2.0
PRODID:-//Coronado Times - ECPv6.5.1.5//NONSGML v1.0//EN
CALSCALE:GREGORIAN
METHOD:PUBLISH
X-ORIGINAL-URL:https://coronadotimes.com
X-WR-CALDESC:Events for Coronado Times
REFRESH-INTERVAL;VALUE=DURATION:PT1H
X-Robots-Tag:noindex
X-PUBLISHED-TTL:PT1H
BEGIN:VTIMEZONE
TZID:America/Los_Angeles
BEGIN:DAYLIGHT
TZOFFSETFROM:-0800
TZOFFSETTO:-0700
TZNAME:PDT
DTSTART:20260308T100000
END:DAYLIGHT
BEGIN:STANDARD
TZOFFSETFROM:-0700
TZOFFSETTO:-0800
TZNAME:PST
DTSTART:20261101T090000
END:STANDARD
END:VTIMEZONE
BEGIN:VEVENT
DTSTART;TZID=America/Los_Angeles:20260425T100000
DTEND;TZID=America/Los_Angeles:20260425T120000
DTSTAMP:20260420T202034
CREATED:20260420T182745Z
LAST-MODIFIED:20260421T013449Z
UID:254836-1777111200-1777118400@coronadotimes.com
SUMMARY:CWC Shredding & E-Waste event
DESCRIPTION:The Coronado Woman’s Club next shredding and e-waste event will take place on Saturday\, April 25\, from 10 am to 12 noon\, at the US Bank parking lot on D Avenue\, near 8th Street. A contribution of $8/box is suggested for shredding.
URL:https://coronadotimes.com/event/cwc-shredding-e-waste-event/
LOCATION:U.S. Bank Coronado Branch\, 800 Orange Ave\, Coronado\, CA\, 92118\, United States
CATEGORIES:community,Philanthropy
END:VEVENT
BEGIN:VEVENT
DTSTART;TZID=America/Los_Angeles:20260502T100000
DTEND;TZID=America/Los_Angeles:20260502T190000
DTSTAMP:20260420T202034
CREATED:20260224T210456Z
LAST-MODIFIED:20260224T210456Z
UID:253033-1777716000-1777748400@coronadotimes.com
SUMMARY:Third annual Elleaire Fore Golf Tournament
DESCRIPTION:A little fun making a big impact\nElleaire and her father James Lyons at the Second Annual Elleaire Fore Golf Tournament\nThe third annual charity Elleaire Fore Golf Tournament will take place on Saturday\, May 2 at the Coronado Golf Course. Prepare to tee off to increase awareness\, resources\, and funding for Hereditary Spastic Paraplegia (HSP). ​ \nSpace is limited\, and the event is anticipated to sell out. Registration is $250 for a single golfer and $1\,000 for a foursome. Sponsorship opportunities are available. For sponsorship opportunities\, tournament registration\, or to make a donation\, please visit elleairefore.org.​ \nAll tournament proceeds will benefit the Spastic Paraplegia Foundation\, which is committed to advancing research and finding cures for this rare neuromuscular disorder.
URL:https://coronadotimes.com/event/third-annual-elleaire-fore-golf-tournament/
LOCATION:Coronado Municipal Golf Course\, 2000 Visalia Row\, Coronado\, CA\, 92118\, United States
CATEGORIES:Philanthropy,sports
END:VEVENT
BEGIN:VEVENT
DTSTART;VALUE=DATE:20260509
DTEND;VALUE=DATE:20260510
DTSTAMP:20260420T202034
CREATED:20260125T231923Z
LAST-MODIFIED:20260224T205253Z
UID:251140-1778284800-1778371199@coronadotimes.com
SUMMARY:Coronado Art & Wine Festival
DESCRIPTION:The Coronado Art & Wine Festival is a collaboration between the Coronado Schools Foundation and the Coronado Chamber of Commerce\, two nonprofits bringing together vital areas of our community: the schools\, the arts\, and local businessses. \nAn afternoon dedicated to highlighting the finest artists from Southern California and beyond. Enjoy a captivating display of diverse art styles and mediums. \nMultiple options to purchase tickets for wine tasting.
URL:https://coronadotimes.com/event/coronado-art-wine-festival-2/
LOCATION:CA
CATEGORIES:art,community,entertainment,family,food and drink,music,Philanthropy
END:VEVENT
BEGIN:VEVENT
DTSTART;TZID=America/Los_Angeles:20260514T173000
DTEND;TZID=America/Los_Angeles:20260514T200000
DTSTAMP:20260420T202034
CREATED:20260420T183330Z
LAST-MODIFIED:20260420T183330Z
UID:254840-1778779800-1778788800@coronadotimes.com
SUMMARY:“Flourish” fundraiser - an evening benefitting women and girls
DESCRIPTION:Soroptimist of Coronado’s first in-person fundraising event since 2019 will be an evening at Feast & Fareway showcasing an all-female musical performance by members of Lamb’s Players. For over 75 years\, the Coronado Soroptimist chapter has worked to foster opportunities for women and girls to achieve educational advancement and financial independence. The Lamb’s performers are generously sharing their talents with the community in support of this mission. The event will take place on May 14\, beginning at 5:30 pm. \nGuests will be treated to songs originated by legendary female artists of the 1960s and 1970s\, including “Beautiful” by Carole King\, “You’re So Vain” by Carly Simon\, “Respect” by Aretha Franklin\, and “Feeling Good” by Nina Simone. \nPhoto\, L to R: Sydney Joyner\, Natasha Reese\, Joy Yandell-Hall\, Angela Chatelain Avila. Courtesy photo\nKerry Meads\, the Associate Artistic Director of Lamb’s Players Theatre shared\, “We are honored to partner with Soroptimist International of Coronado for this special evening.  Celebrating the voices of iconic female artists — performed by an all-women cast — beautifully reflects Soroptimist’s mission. We hope to inspire the community to come together in support of women and girls.” \nThe Coronado Soroptimist club invites long-time supporters and all fellow community members for this festive and meaningful evening — an opportunity to connect\, celebrate\, and raise vital funds for scholarships\, grants\, and educational programs that help women and girls flourish. There will be food\, drinks\, and a silent auction. \nTo attend\, make a donation\, or  learn more about Soroptimist\, visit coronadosoroptimist.org. \nTICKETS \n 
URL:https://coronadotimes.com/event/flourish-fundraiser-an-evening-benefitting-women-and-girls/
LOCATION:Feast & Fareway\, 2000 Visalia Row\, Coronado\, CA\, 92118\, United States
CATEGORIES:entertainment,music,Philanthropy
END:VEVENT
END:VCALENDAR