BEGIN:VCALENDAR
VERSION:2.0
PRODID:-//Coronado Times - ECPv6.5.1.5//NONSGML v1.0//EN
CALSCALE:GREGORIAN
METHOD:PUBLISH
X-WR-CALNAME:Coronado Times
X-ORIGINAL-URL:https://coronadotimes.com
X-WR-CALDESC:Events for Coronado Times
REFRESH-INTERVAL;VALUE=DURATION:PT1H
X-Robots-Tag:noindex
X-PUBLISHED-TTL:PT1H
BEGIN:VTIMEZONE
TZID:America/Los_Angeles
BEGIN:DAYLIGHT
TZOFFSETFROM:-0800
TZOFFSETTO:-0700
TZNAME:PDT
DTSTART:20250309T100000
END:DAYLIGHT
BEGIN:STANDARD
TZOFFSETFROM:-0700
TZOFFSETTO:-0800
TZNAME:PST
DTSTART:20251102T090000
END:STANDARD
END:VTIMEZONE
BEGIN:VEVENT
DTSTART;TZID=America/Los_Angeles:20250919T170000
DTEND;TZID=America/Los_Angeles:20250919T170000
DTSTAMP:20260423T005747
CREATED:20250915T183446Z
LAST-MODIFIED:20250915T183446Z
UID:246840-1758301200-1758301200@coronadotimes.com
SUMMARY:Coronado VFW’s Annual POW/MIA Dinner
DESCRIPTION:The Coronado VFW Post 2422 invites the community to its Annual POW/MIA Dinner on Friday\, Sept. 19. The evening is organized by the Post with the support of VFW Auxiliary volunteers. \nThe 2024 POW/MIA Dinner speakers were Paul Granger (CAPT USAF) and Albert Molinare (LT USN)\, both POW survivors. Photo courtesy of VFW Post 2422.\nGuests will hear from two Coronado residents: Lou De Beer (LCPL\, USMC)\, a Korean War veteran and World War II prison camp survivor\, and Taylor Stockdale\, son of VADM James Stockdale\, Medal of Honor recipient and senior officer held as a POW in Hanoi during the Vietnam War. Taylor’s mother\, Sybil Stockdale\, led the formation of the League of Families in the 1970s\, pushing the Pentagon and Department of Defense to release vital POW/MIA information to families. Col. Chris Ellinger (USMC\, Ret.) will serve as the evening’s master of ceremonies. \nA suggested donation of $20 reserves a seat\, with fewer than 80 seats available. Tickets may be purchased at the Coronado VFW Post\, 557 Orange Avenue. Dinner will feature pasta Bolognese with meatball\, or a vegetarian primavera pasta with spinach\, mushrooms\, and seasonal vegetables\, accompanied by Caesar salad\, artisan bread with butter\, and a dessert tray of brownies and lemon bites. \nGuests are asked to arrive at 5 p.m. for seating; the program begins at 5:30 p.m. Dress is casual. \nThe Coronado VFW thanks you for your support to the organization and veterans.
URL:https://coronadotimes.com/event/coronado-vfws-annual-pow-mia-dinner/
LOCATION:VFW Post 2422\, 557 Orange Ave\, Coronado\, CA\, 92118\, United States
CATEGORIES:food and drink,memorial
END:VEVENT
END:VCALENDAR