BEGIN:VCALENDAR
VERSION:2.0
PRODID:-//Coronado Times - ECPv6.5.1.5//NONSGML v1.0//EN
CALSCALE:GREGORIAN
METHOD:PUBLISH
X-WR-CALNAME:Coronado Times
X-ORIGINAL-URL:https://coronadotimes.com
X-WR-CALDESC:Events for Coronado Times
REFRESH-INTERVAL;VALUE=DURATION:PT1H
X-Robots-Tag:noindex
X-PUBLISHED-TTL:PT1H
BEGIN:VTIMEZONE
TZID:America/Los_Angeles
BEGIN:DAYLIGHT
TZOFFSETFROM:-0800
TZOFFSETTO:-0700
TZNAME:PDT
DTSTART:20240310T100000
END:DAYLIGHT
BEGIN:STANDARD
TZOFFSETFROM:-0700
TZOFFSETTO:-0800
TZNAME:PST
DTSTART:20241103T090000
END:STANDARD
END:VTIMEZONE
BEGIN:VEVENT
DTSTART;TZID=America/Los_Angeles:20241102T103000
DTEND;TZID=America/Los_Angeles:20241102T120000
DTSTAMP:20260424T151825
CREATED:20241017T045325Z
LAST-MODIFIED:20241027T024008Z
UID:226455-1730543400-1730548800@coronadotimes.com
SUMMARY:Avenue of Heroes Dedication Ceremony
DESCRIPTION:The City of Coronado and the Avenue of Heroes Committee invite the community to attend a ceremony to honor the latest group of hometown military veterans or active-duty service members on Saturday\, November 2 at 10:30 am in the Coronado Performing Arts Center. \nThe “hometown heroes” who call or have called Coronado home will be celebrated as part of the program’s 19th group. Banners for the honorees will be displayed in November through mid-May along the “Avenue of Heroes\,” located along Third and Fourth Streets from Orange Avenue to Naval Air Station North Island. \nThe Avenue of Heroes is a military service recognition program sponsored by the City of Coronado and the Avenue of Heroes Committee. The program provides the Coronado community the opportunity to honor the many men and women who are or have lived in the city during their military careers. The program was introduced in 2014 by the City of Coronado\, VFW Post 2422\, the Third & Fourth Streets Neighborhood Association\, and the Coronado Historical Association. \nAVENUE OF HEROES CEREMONY\nNovember 2\, 2024\nDoors open at 10 am\nCeremony: 10:30 am to 12 noon\nCoronado Performing Arts Center\, 650 D Avenue\nRefreshments provided\, golf carts available to shuttle attendees.
URL:https://coronadotimes.com/event/avenue-of-heroes-dedication-ceremony/
LOCATION:Coronado Performing Arts Center\, 650 D Avenue\, Coronado\, CA\, 92118\, United States
CATEGORIES:community,history,memorial
END:VEVENT
END:VCALENDAR