BEGIN:VCALENDAR
VERSION:2.0
PRODID:-//Coronado Times - ECPv6.5.1.5//NONSGML v1.0//EN
CALSCALE:GREGORIAN
METHOD:PUBLISH
X-WR-CALNAME:Coronado Times
X-ORIGINAL-URL:https://coronadotimes.com
X-WR-CALDESC:Events for Coronado Times
REFRESH-INTERVAL;VALUE=DURATION:PT1H
X-Robots-Tag:noindex
X-PUBLISHED-TTL:PT1H
BEGIN:VTIMEZONE
TZID:America/Los_Angeles
BEGIN:DAYLIGHT
TZOFFSETFROM:-0800
TZOFFSETTO:-0700
TZNAME:PDT
DTSTART:20260308T100000
END:DAYLIGHT
BEGIN:STANDARD
TZOFFSETFROM:-0700
TZOFFSETTO:-0800
TZNAME:PST
DTSTART:20261101T090000
END:STANDARD
END:VTIMEZONE
BEGIN:VEVENT
DTSTART;TZID=America/Los_Angeles:20260117T110000
DTEND;TZID=America/Los_Angeles:20260117T123000
DTSTAMP:20260423T121238
CREATED:20260112T211124Z
LAST-MODIFIED:20260112T211124Z
UID:250775-1768647600-1768653000@coronadotimes.com
SUMMARY:Democratic Club meeting with guest speaker Jeremy Addis-Mills
DESCRIPTION:Start the new year informed and empowered:\nSocial media training at Coronado Democratic Club’s January meeting \nThe Coronado Democratic Club invites like-minded individuals interested in constructive ways to make a difference to its first general meeting of 2026 on Saturday\, January 17\, featuring a timely and practical program on using social media as a tool for civic engagement. Doors open at 10:30 am\, with the meeting running from 11 am to 12:30 pm in the Winn Room at the Coronado Library. \nThe featured speaker\, Jeremy Addis-Mills\, is the founder of Digital Impact!\, a communications firm that helps organizations and individuals communicate more effectively online. His presentation\, “Become a Social Media Activist\,” will focus on how everyday people can use social media thoughtfully and responsibly to share information\, connect with others\, and make their voices heard on issues that matter to them. \nRather than focusing on politics as conflict\, this training emphasizes communication\, influence\, and participation — offering practical guidance on crafting messages\, engaging audiences\, and understanding why social media has become such a powerful platform for community dialogue. \nThe meeting will also include the election of club officers for 2026. \nCommunity members interested in learning how to better navigate today’s digital landscape — regardless of experience level — are encouraged to attend.
URL:https://coronadotimes.com/event/democratic-club-meeting-with-guest-speaker-jeremy-addis-mills/
LOCATION:Coronado Library Winn Room\, 640 Orange Avenue\, Coronado\, CA\, 92118\, United States
CATEGORIES:community,lecture,meeting
END:VEVENT
BEGIN:VEVENT
DTSTART;TZID=America/Los_Angeles:20260126T094000
DTEND;TZID=America/Los_Angeles:20260126T094000
DTSTAMP:20260423T121238
CREATED:20260112T205404Z
LAST-MODIFIED:20260112T205404Z
UID:250771-1769420400-1769420400@coronadotimes.com
SUMMARY:Bridge and Bay Garden Club meeting
DESCRIPTION:Learn about the jungle theme of the 2026 flower show and make a hand-tied bouquet. No cost to attend. \nThe Bridge and Bay Garden Club encourages interest in all phases of home gardening\, better horticultural practices\, civic activities\, the principles of artistic design and the conservation of natural resources. \nCome join in the fun; you do not need to be an expert or have a green thumb\, a little enthusiasm and love of our community is all it takes! \nThe Coronado Flower Show art was created by Gina Falletta design. This is Falletta’s fourth year creating the show’s art.
URL:https://coronadotimes.com/event/bridge-and-bay-garden-club-meeting/
LOCATION:Winn Room\, Coronado Public Library\, 640 Orange Ave\, Coronado\, CA\, 92118\, United States
CATEGORIES:community,craft,meeting
END:VEVENT
BEGIN:VEVENT
DTSTART;TZID=America/Los_Angeles:20260126T140000
DTEND;TZID=America/Los_Angeles:20260126T150000
DTSTAMP:20260423T121238
CREATED:20260106T212805Z
LAST-MODIFIED:20260106T212805Z
UID:250395-1769436000-1769439600@coronadotimes.com
SUMMARY:Mystery Book Club: M is for Malice
DESCRIPTION:The Coronado Public Library’s Mystery Book club will meet regularly on the third Monday of each month. Due to the holiday this month\, we will be meeting on the fourth Monday. Receive reminder emails about our meeting by registering below. Registration is encouraged but not required. \nWe will be discussing M is for Malice by Sue Grafton. Check out the book in print or ebook format from the Coronado Library Catalog by clicking here.
URL:https://coronadotimes.com/event/mystery-book-club-m-is-for-malice/
LOCATION:Coronado Public Library\, 640 Orange Ave\, Coronado\, CA\, 92118\, United States
CATEGORIES:books,community,meeting
END:VEVENT
BEGIN:VEVENT
DTSTART;TZID=America/Los_Angeles:20260128T110000
DTEND;TZID=America/Los_Angeles:20260128T120000
DTSTAMP:20260423T121238
CREATED:20260115T175350Z
LAST-MODIFIED:20260115T175742Z
UID:250399-1769598000-1769601600@coronadotimes.com
SUMMARY:Best of the Best Book Club: "The Narrow Road to the Deep North" by Richard Flanagan
DESCRIPTION:The Coronado Public Library’s Best of the Best Book Club meets regularly on the fourth Wednesday of each month to discuss books that have won major awards. \nFor our January meeting\, we will discuss the 2014 Booker Prize Winner The Narrow Road to the Deep North by Richard Flanagan\, a magisterial novel of love and war that traces the life of one man from World War II to the present. \nPlace this title on hold via our online catalog\, or check out the e-book through the CloudLibrary app. \nAbout The Narrow Road to the Deep North \nAugust\, 1943: Australian surgeon Dorrigo Evans is haunted by his affair with his uncle’s young wife two years earlier. His life\, in a brutal Japanese POW camp on the Thai-Burma Death Railway\, is a daily struggle to save the men under his command. Until he receives a letter that will change him forever. \nA savagely beautiful novel about the many forms of good and evil\, of truth and transcendence\, as one man comes of age\, prospers\, only to discover all that he has lost.
URL:https://coronadotimes.com/event/best-of-the-best-book-club-the-narrow-road-to-the-deep-north-by-richard-flanagan/
LOCATION:Coronado Public Library\, 640 Orange Ave\, Coronado\, CA\, 92118\, United States
CATEGORIES:books,community,meeting
END:VEVENT
END:VCALENDAR