BEGIN:VCALENDAR
VERSION:2.0
PRODID:-//Coronado Times - ECPv6.5.1.5//NONSGML v1.0//EN
CALSCALE:GREGORIAN
METHOD:PUBLISH
X-ORIGINAL-URL:https://coronadotimes.com
X-WR-CALDESC:Events for Coronado Times
REFRESH-INTERVAL;VALUE=DURATION:PT1H
X-Robots-Tag:noindex
X-PUBLISHED-TTL:PT1H
BEGIN:VTIMEZONE
TZID:America/Los_Angeles
BEGIN:DAYLIGHT
TZOFFSETFROM:-0800
TZOFFSETTO:-0700
TZNAME:PDT
DTSTART:20220313T100000
END:DAYLIGHT
BEGIN:STANDARD
TZOFFSETFROM:-0700
TZOFFSETTO:-0800
TZNAME:PST
DTSTART:20221106T090000
END:STANDARD
END:VTIMEZONE
BEGIN:VEVENT
DTSTART;TZID=America/Los_Angeles:20220523T183000
DTEND;TZID=America/Los_Angeles:20220523T200000
DTSTAMP:20260425T210141
CREATED:20220509T201538Z
LAST-MODIFIED:20220509T201538Z
UID:181846-1653330600-1653336000@coronadotimes.com
SUMMARY:Friends & Family Speaker Series: LGBTQ+|Allies
DESCRIPTION:In partnership with the Coronado Public Library\, join Safe Harbor Coronado for a vibrant conversation about the LGBTQ+ community\, how to speak the language\, and what it means to be an ally. Our speaker is Holly Reese (she/her/hers)\, the Director of Advocacy and Training at The LGBTQIA+ Center of Southern Nevada. She worked with Gender Justice Nevada\, a transgender-focused non-profit\, and helped establish Las Vegas TransPride. Holly creates a safe place to ask questions and dive into untangling the alphabet soup while discussing current social issues and moving towards a greater understanding of today’s queer culture. \nThis event is sponsored by The Pecus Group \nPresentation followed by audience Q & A  \nReservations appreciated\, this event is FREE to the public \nClick here to Register \n  \n 
URL:https://coronadotimes.com/event/friends-family-speaker-series-lgbtqallies/
LOCATION:Coronado Library Winn Room\, 640 Orange Avenue\, Coronado\, CA\, 92118\, United States
CATEGORIES:lecture,workshop
ATTACH;FMTTYPE=image/jpeg:https://coronadotimes.com/wp-content/uploads/2022/05/LGBTQ_Pecus.jpg
ORGANIZER;CN="Safe Harbor Coronado":MAILTO:info@safeharborcoronado.org
END:VEVENT
END:VCALENDAR