BEGIN:VCALENDAR
VERSION:2.0
PRODID:-//Coronado Times - ECPv6.5.1.5//NONSGML v1.0//EN
CALSCALE:GREGORIAN
METHOD:PUBLISH
X-WR-CALNAME:Coronado Times
X-ORIGINAL-URL:https://coronadotimes.com
X-WR-CALDESC:Events for Coronado Times
REFRESH-INTERVAL;VALUE=DURATION:PT1H
X-Robots-Tag:noindex
X-PUBLISHED-TTL:PT1H
BEGIN:VTIMEZONE
TZID:America/Los_Angeles
BEGIN:DAYLIGHT
TZOFFSETFROM:-0800
TZOFFSETTO:-0700
TZNAME:PDT
DTSTART:20220313T100000
END:DAYLIGHT
BEGIN:STANDARD
TZOFFSETFROM:-0700
TZOFFSETTO:-0800
TZNAME:PST
DTSTART:20221106T090000
END:STANDARD
END:VTIMEZONE
BEGIN:VEVENT
DTSTART;TZID=America/Los_Angeles:20220509T180000
DTEND;TZID=America/Los_Angeles:20220509T193000
DTSTAMP:20260425T150330
CREATED:20220430T181640Z
LAST-MODIFIED:20220505T171229Z
UID:181841-1652119200-1652124600@coronadotimes.com
SUMMARY:Parent Engagement Series: The Building Blocks of Resiliency
DESCRIPTION:The intention of the presentation will be to have parents and caregivers have the answers to the following questions: \n\nWhat is resilience?\nHow can parents better support children\, and themselves\, becoming more resilient?\nWhy\, especially in this day and age\, is building resilience important?\n\nOur speaker for this presentation is Dr. Katherine Williams\, a psychologist at Rady Children’s Hospital. As a child and adolescent psychologist at a large children’s hospital and top-ranked large public university\, Dr. Williams has created a pediatric child and adolescent anxiety and OCD clinic\, developed an autism assessment program across five sites\, and co-authored a nationally-lauded treatment book\, The Building Blocks of Resiliency. In partnership with Rady Children’s Hospital and Coronado Unified School District. \nHave a Questions? Submit it HERE. \nLocation: ZOOM\, click this link to join the webinar. Passcode 508202 \nThis event is FREE to the public.
URL:https://coronadotimes.com/event/friends-family-speaker-series-student-resiliency/
LOCATION:On Zoom\, Coronado\, CA\, 92118\, United States
CATEGORIES:lecture,workshop
ATTACH;FMTTYPE=image/jpeg:https://coronadotimes.com/wp-content/uploads/2022/04/Safe-HarborResiliency.jpg
ORGANIZER;CN="Safe Harbor Coronado":MAILTO:info@safeharborcoronado.org
END:VEVENT
END:VCALENDAR