BEGIN:VCALENDAR
VERSION:2.0
PRODID:-//Coronado Times - ECPv6.5.1.5//NONSGML v1.0//EN
CALSCALE:GREGORIAN
METHOD:PUBLISH
X-ORIGINAL-URL:https://coronadotimes.com
X-WR-CALDESC:Events for Coronado Times
REFRESH-INTERVAL;VALUE=DURATION:PT1H
X-Robots-Tag:noindex
X-PUBLISHED-TTL:PT1H
BEGIN:VTIMEZONE
TZID:America/Los_Angeles
BEGIN:DAYLIGHT
TZOFFSETFROM:-0800
TZOFFSETTO:-0700
TZNAME:PDT
DTSTART:20220313T100000
END:DAYLIGHT
BEGIN:STANDARD
TZOFFSETFROM:-0700
TZOFFSETTO:-0800
TZNAME:PST
DTSTART:20221106T090000
END:STANDARD
END:VTIMEZONE
BEGIN:VEVENT
DTSTART;TZID=America/Los_Angeles:20220503T183000
DTEND;TZID=America/Los_Angeles:20220503T200000
DTSTAMP:20260425T163059
CREATED:20220428T155133Z
LAST-MODIFIED:20220428T155133Z
UID:181835-1651602600-1651608000@coronadotimes.com
SUMMARY:Friends & Family Speaker Series: PTSD
DESCRIPTION:In partnership with the Coronado Public Library\, this FREE presentation will focus on the impact of PTSD on family members and caregivers\, and how loved ones can identify a need for more help. Our speaker is LT Julianne Demery\, PsyD\, who is a wife\, mother\, and Clinical Psychologist. She is a U.S. Navy Clinical Psychologist\, Division Officer for Adult Outpatient Mental Health in San Diego\, and specializes in trauma treatment. She is aware first-hand of the impacts that combat-related trauma has on family members\, friends\, and coworkers. Her husband’s aviation unit deployed multiple times to the Middle East and they\, their coworkers\, and friends have dealt with the impacts of combat exposure\, PTSD\, and suicide. \n30-minute presentation followed by audience Q & A \nReservations appreciated\, this event is FREE to the public \n 
URL:https://coronadotimes.com/event/friends-family-speaker-series-ptsd/
LOCATION:Coronado Library Winn Room\, 640 Orange Avenue\, Coronado\, CA\, 92118\, United States
CATEGORIES:lecture
ATTACH;FMTTYPE=image/png:https://coronadotimes.com/wp-content/uploads/2022/04/PTSD_SafeHarbor.png
ORGANIZER;CN="Safe Harbor Coronado":MAILTO:info@safeharborcoronado.org
END:VEVENT
END:VCALENDAR