BEGIN:VCALENDAR
VERSION:2.0
PRODID:-//Coronado Times - ECPv6.5.1.5//NONSGML v1.0//EN
CALSCALE:GREGORIAN
METHOD:PUBLISH
X-ORIGINAL-URL:https://coronadotimes.com
X-WR-CALDESC:Events for Coronado Times
REFRESH-INTERVAL;VALUE=DURATION:PT1H
X-Robots-Tag:noindex
X-PUBLISHED-TTL:PT1H
BEGIN:VTIMEZONE
TZID:America/Los_Angeles
BEGIN:DAYLIGHT
TZOFFSETFROM:-0800
TZOFFSETTO:-0700
TZNAME:PDT
DTSTART:20260308T100000
END:DAYLIGHT
BEGIN:STANDARD
TZOFFSETFROM:-0700
TZOFFSETTO:-0800
TZNAME:PST
DTSTART:20261101T090000
END:STANDARD
END:VTIMEZONE
BEGIN:VEVENT
DTSTART;TZID=America/Los_Angeles:20260412T140000
DTEND;TZID=America/Los_Angeles:20260412T140000
DTSTAMP:20260423T233557
CREATED:20260405T214954Z
LAST-MODIFIED:20260405T214954Z
UID:254294-1776002400-1776002400@coronadotimes.com
SUMMARY:Earth Day local author visit\, book signing at Stop and Grow Books
DESCRIPTION:Coronado author\, Marianne Blackstone Tabner\, will be at Stop and Grow Books on April 12 in celebration of Earth Day doing a book reading and signing of her book “Taking Turns.”
URL:https://coronadotimes.com/event/earth-day-local-author-visit-book-signing-at-stop-and-grow-books/
LOCATION:Stop and Grow\, 1339 Orange Avenue\, Suite 8B\, Coronado\, CA\, 92118\, United States
CATEGORIES:books,family,kids
END:VEVENT
BEGIN:VEVENT
DTSTART;TZID=America/Los_Angeles:20260413T153000
DTEND;TZID=America/Los_Angeles:20260413T163000
DTSTAMP:20260423T233557
CREATED:20260413T180002Z
LAST-MODIFIED:20260413T180002Z
UID:254565-1776094200-1776097800@coronadotimes.com
SUMMARY:Plant a Seed\, Read!
DESCRIPTION:Come enjoy Plant a Seed\, Read! with Amazing Dana the Magician. This interactive program is filled with colorful magic\, audience participation\, and engaging storytelling. Kids will see ideas grow\, books come alive\, and discover how reading can spark imagination.
URL:https://coronadotimes.com/event/plant-a-seed-read/
LOCATION:Coronado Public Library\, 640 Orange Ave\, Coronado\, CA\, 92118\, United States
CATEGORIES:books,community,kids
END:VEVENT
BEGIN:VEVENT
DTSTART;TZID=America/Los_Angeles:20260417T150000
DTEND;TZID=America/Los_Angeles:20260417T170000
DTSTAMP:20260423T233557
CREATED:20260326T180654Z
LAST-MODIFIED:20260326T180654Z
UID:254009-1776438000-1776445200@coronadotimes.com
SUMMARY:Coronado’s 2026 brochure release party
DESCRIPTION:The countdown to summer starts now. Join Recreation and Golf Services for its first-ever Summer Brochure 2026 Release Party on Friday\, April 17 from 3 to 5 pm at the Coronado Community Center. This free\, family-friendly event offers an exclusive sneak peek at the exciting programs\, camps\, and activities planned for summer 2026. \nExplore hands-on activities\, enjoy fun giveaways\, and mingle with summer staff who are ready to answer your questions and help you get a head start on registration. Be among the first to flip through the hot-off-the-press summer brochure and start planning unforgettable experiences for the whole family.  \nCall 619-522-7342 for more details. \n 
URL:https://coronadotimes.com/event/coronados-2026-brochure-release-party/
LOCATION:Coronado Community Center\, 1845 Strand Way\, Coronado\, CA\, 92118\, United States
CATEGORIES:community,entertainment,family,kids,teens
END:VEVENT
BEGIN:VEVENT
DTSTART;TZID=America/Los_Angeles:20260418T100000
DTEND;TZID=America/Los_Angeles:20260418T160000
DTSTAMP:20260423T233557
CREATED:20260405T213741Z
LAST-MODIFIED:20260405T213752Z
UID:254291-1776506400-1776528000@coronadotimes.com
SUMMARY:The Friends’ 54th annual Spring Book Fair
DESCRIPTION:The Friends of the Coronado Public Library (Friends) 54th Annual Spring Book Fair will be held on Saturday\, April 18\, from 10 am to 4 pm\, outside the Coronado Public Library. \nThis community tradition\, held alongside the Coronado Flower Show\, allows book lovers\, families\, and neighbors alike to browse thousands of books at exceptional prices\, from bestsellers and hidden gems to children’s favorites and timeless classics. Visitors can also discover even more titles at the Honor Shop inside the library lobby and the Friends Bookstore\, along with popular pre-loved books and ready-to-give gift items — perfect for any occasion. \nPhoto Credit: Jena WIllard for the Friends
URL:https://coronadotimes.com/event/the-friends-54th-annual-spring-book-fair/
LOCATION:Coronado Public Library\, 640 Orange Ave\, Coronado\, CA\, 92118\, United States
CATEGORIES:books,community,family,kids,shopping,teens
END:VEVENT
BEGIN:VEVENT
DTSTART;TZID=America/Los_Angeles:20260421T153000
DTEND;TZID=America/Los_Angeles:20260421T163000
DTSTAMP:20260423T233557
CREATED:20260416T000910Z
LAST-MODIFIED:20260416T000910Z
UID:254584-1776785400-1776789000@coronadotimes.com
SUMMARY:The Science Guys of San Diego: Frostbite Frenzy
DESCRIPTION:Tinker Tuesday presents: The Science Guys of San Diego! Come explore pressure and states of matter\, with dry ice as the star of the show. Kids will go crazy for the insane cup popper and dry ice bubbles. Learn about sublimation and increasing pressure\, ending with silly explosions. \nTinker Tuesdays is a hands-on educational program that allows children to explore\, create\, design\, and problem solve focusing on STEAM (Science\, Technology\, Engineering\, Art and Math) concepts.
URL:https://coronadotimes.com/event/the-science-guys-of-san-diego-frostbite-frenzy/
LOCATION:Coronado Public Library\, 640 Orange Ave\, Coronado\, CA\, 92118\, United States
CATEGORIES:education,entertainment,kids
END:VEVENT
BEGIN:VEVENT
DTSTART;TZID=America/Los_Angeles:20260423T110000
DTEND;TZID=America/Los_Angeles:20260423T120000
DTSTAMP:20260423T233557
CREATED:20260416T004454Z
LAST-MODIFIED:20260416T004454Z
UID:254591-1776942000-1776945600@coronadotimes.com
SUMMARY:Musical Fun with Nightingale Music
DESCRIPTION:Enjoy a special musical hour Nightingale Music. We’ll play with lollipop drums\, rainbow scarves\, tambourines\, maracas and more. Marvin the Monkey will come by and teach us the major scale and we’ll learn to stomp and dance like the elephants in the jungle. We’ll pop bubbles to the beat and have a guitar time sing-a-long. \nNightingale Music classes bring out your child’s natural ability for music and creates a relaxed\, playful environment for learning\, so don’t miss the fun Thursday\, April 23 at 11 am.
URL:https://coronadotimes.com/event/musical-fun-with-nightingale-music-2/
LOCATION:Coronado Public Library\, 640 Orange Ave\, Coronado\, CA\, 92118\, United States
CATEGORIES:entertainment,kids,music
END:VEVENT
BEGIN:VEVENT
DTSTART;TZID=America/Los_Angeles:20260425T100000
DTEND;TZID=America/Los_Angeles:20260425T113000
DTSTAMP:20260423T233557
CREATED:20260408T222930Z
LAST-MODIFIED:20260408T223128Z
UID:254385-1777111200-1777116600@coronadotimes.com
SUMMARY:Kids Eco Camp: Recycling and composting
DESCRIPTION:These fun\, free camps\, led by Emerald Keepers high school interns and held at the Emerald Keepers High School Garden\, are designed as an introduction to environmental stewardship for elementary schoolchildren. Campers will be gardening and playing games while learning about the environment. \nFirst through fifth graders are welcome.
URL:https://coronadotimes.com/event/kids-eco-camp-recycling-and-composting/
LOCATION:Coronado High School Garden\, Garden behind the high school stadium\, Coronado\, CA\, 92118\, United States
CATEGORIES:education,kids
ORGANIZER;CN="Emerald Keepers":MAILTO:info@emeraldkeepers.org
END:VEVENT
BEGIN:VEVENT
DTSTART;TZID=America/Los_Angeles:20260502T140000
DTEND;TZID=America/Los_Angeles:20260502T150000
DTSTAMP:20260423T233557
CREATED:20260419T210048Z
LAST-MODIFIED:20260419T210048Z
UID:254603-1777730400-1777734000@coronadotimes.com
SUMMARY:Strawberry Shortcake Children's Tea
DESCRIPTION:Strawberry Shortcake is here for tea! Bring your little ones for the annual Coronado Public Library’s Children’s Tea. Enjoy a fruity photobooth\, games\, and snacks. Register for some fruit filled fun today. * \n* PLEASE REGISTER EACH ATTENDEE (CHILDREN AND ADULTS) SEPERATELY. This helps ensure correct numbers for seats.
URL:https://coronadotimes.com/event/strawberry-shortcake-childrens-tea/
LOCATION:Coronado Public Library\, 640 Orange Ave\, Coronado\, CA\, 92118\, United States
CATEGORIES:family,food and drink,kids
END:VEVENT
BEGIN:VEVENT
DTSTART;TZID=America/Los_Angeles:20260503T120000
DTEND;TZID=America/Los_Angeles:20260503T163000
DTSTAMP:20260423T233557
CREATED:20260422T201144Z
LAST-MODIFIED:20260422T201144Z
UID:254546-1777809600-1777825800@coronadotimes.com
SUMMARY:Youth chess tournament
DESCRIPTION:Calling youth chess enthusiasts! The eightn annual Youth Chess Tournament will take place on Saturday\, May 3 at the Coronado Public Library. The tournament\, co-sponsored by the Republic of Azerbaijan and the Global Neighborhood Project (GNP)\, welcomes chess players from the ages of 8 to 18 to showcase their skills and passion for chess. Not only can youth showcase their skills and passion for chess\, but they will also have an opportunity to meet Chess Grandmaster Vasif Durarbayli. The GNP is a nonprofit organization that partners with neighborhoods around the world to connect people and cultures. \nThere is no charge to players who want to participate in the event. The free event will run from 12 to 4:30 p.m. Interested participants can register online through the Coronado Public Library’s website at cplevents.org.
URL:https://coronadotimes.com/event/youth-chess-tournament/
LOCATION:Coronado Public Library\, 640 Orange Ave\, Coronado\, CA\, 92118\, United States
CATEGORIES:community,kids,teens
END:VEVENT
END:VCALENDAR