BEGIN:VCALENDAR
VERSION:2.0
PRODID:-//Coronado Times - ECPv6.5.1.5//NONSGML v1.0//EN
CALSCALE:GREGORIAN
METHOD:PUBLISH
X-WR-CALNAME:Coronado Times
X-ORIGINAL-URL:https://coronadotimes.com
X-WR-CALDESC:Events for Coronado Times
REFRESH-INTERVAL;VALUE=DURATION:PT1H
X-Robots-Tag:noindex
X-PUBLISHED-TTL:PT1H
BEGIN:VTIMEZONE
TZID:America/Los_Angeles
BEGIN:DAYLIGHT
TZOFFSETFROM:-0800
TZOFFSETTO:-0700
TZNAME:PDT
DTSTART:20250309T100000
END:DAYLIGHT
BEGIN:STANDARD
TZOFFSETFROM:-0700
TZOFFSETTO:-0800
TZNAME:PST
DTSTART:20251102T090000
END:STANDARD
END:VTIMEZONE
BEGIN:VEVENT
DTSTART;TZID=America/Los_Angeles:20251212T110000
DTEND;TZID=America/Los_Angeles:20251212T120000
DTSTAMP:20260423T134238
CREATED:20251127T155745Z
LAST-MODIFIED:20251127T155745Z
UID:249783-1765537200-1765540800@coronadotimes.com
SUMMARY:Santa Storytime
DESCRIPTION:Bring your littles ones for a special Santa Storytime! Join Santa for a story followed by a photo meet and greet opportunity with the big guy himself.
URL:https://coronadotimes.com/event/santa-storytime-2/
LOCATION:Coronado Public Library\, 640 Orange Ave\, Coronado\, CA\, 92118\, United States
CATEGORIES:books,holiday,kids
END:VEVENT
BEGIN:VEVENT
DTSTART;TZID=America/Los_Angeles:20251212T170000
DTEND;TZID=America/Los_Angeles:20251212T200000
DTSTAMP:20260423T134238
CREATED:20251120T184850Z
LAST-MODIFIED:20251120T184850Z
UID:249533-1765558800-1765569600@coronadotimes.com
SUMMARY:Grinch Goo-tastic Kids Night Out holiday workshop
DESCRIPTION:Coronado Recreation is gearing up for an evening of merry mischief\, gooey creations\, and festive cheer with their second annual Grinch Goo-tastic Kids Night Out on Friday\, December 12\, from 5 to 8 pm. This unique event\, designed especially for children ages 6–11\, promises a night of frolicking\, fun\, and festivities that your kids won’t want to miss.  \nGrinch enthusiasts will make their very own Grinch Slime\, decorate holiday cookies\, and create Grinch Crafts. There will be pizza\, many games\, and crazy\, crazy contests.  \nParticipants are encouraged to wear their favorite holiday jammies\, adding an extra dose of Grinch-tacularity to the night. With so many activities packed into three fun-filled hours\, the Grinch Goo-tastic Kids Night Out offers the perfect way for children to celebrate the season while parents enjoy a well-deserved evening break.  \nSpace is limited\, so register today for a goo-tastic good time! Call 619-522-7342 or go to coronado.ca.us. \nDirect Link: https://bit.ly/GrinchKidsNightOutDec12 \n 
URL:https://coronadotimes.com/event/grinch-goo-tastic-kids-night-out-holiday-workshop-2-2/
LOCATION:Coronado Community Center\, 1845 Strand Way\, Coronado\, CA\, 92118\, United States
CATEGORIES:holiday,kids
END:VEVENT
END:VCALENDAR