BEGIN:VCALENDAR
VERSION:2.0
PRODID:-//Coronado Times - ECPv6.5.1.5//NONSGML v1.0//EN
CALSCALE:GREGORIAN
METHOD:PUBLISH
X-WR-CALNAME:Coronado Times
X-ORIGINAL-URL:https://coronadotimes.com
X-WR-CALDESC:Events for Coronado Times
REFRESH-INTERVAL;VALUE=DURATION:PT1H
X-Robots-Tag:noindex
X-PUBLISHED-TTL:PT1H
BEGIN:VTIMEZONE
TZID:America/Los_Angeles
BEGIN:DAYLIGHT
TZOFFSETFROM:-0800
TZOFFSETTO:-0700
TZNAME:PDT
DTSTART:20250309T100000
END:DAYLIGHT
BEGIN:STANDARD
TZOFFSETFROM:-0700
TZOFFSETTO:-0800
TZNAME:PST
DTSTART:20251102T090000
END:STANDARD
END:VTIMEZONE
BEGIN:VEVENT
DTSTART;TZID=America/Los_Angeles:20251124T130000
DTEND;TZID=America/Los_Angeles:20251124T160000
DTSTAMP:20260423T163747
CREATED:20251112T204207Z
LAST-MODIFIED:20251112T204207Z
UID:248886-1763989200-1764000000@coronadotimes.com
SUMMARY:Play Fairy: Creative Play for Kids
DESCRIPTION:Come enjoy a magical free play zone at the Library. The Play Fairy will create an open-ended play land for children of all ages. Children are invited to experience the joys and complexities of life through play in a safe environment. Using loose parts to encourage deep exploration\, children are guided by their own curiosity as they play\, build\, and create freely. This unstructured play supports confidence\, socialization\, and pure imagination.
URL:https://coronadotimes.com/event/play-fairy-creative-play-for-kids-2/
LOCATION:Coronado Public Library\, 640 Orange Ave\, Coronado\, CA\, 92118\, United States
CATEGORIES:kids
END:VEVENT
END:VCALENDAR