BEGIN:VCALENDAR
VERSION:2.0
PRODID:-//Coronado Times - ECPv6.5.1.5//NONSGML v1.0//EN
CALSCALE:GREGORIAN
METHOD:PUBLISH
X-ORIGINAL-URL:https://coronadotimes.com
X-WR-CALDESC:Events for Coronado Times
REFRESH-INTERVAL;VALUE=DURATION:PT1H
X-Robots-Tag:noindex
X-PUBLISHED-TTL:PT1H
BEGIN:VTIMEZONE
TZID:America/Los_Angeles
BEGIN:DAYLIGHT
TZOFFSETFROM:-0800
TZOFFSETTO:-0700
TZNAME:PDT
DTSTART:20250309T100000
END:DAYLIGHT
BEGIN:STANDARD
TZOFFSETFROM:-0700
TZOFFSETTO:-0800
TZNAME:PST
DTSTART:20251102T090000
END:STANDARD
END:VTIMEZONE
BEGIN:VEVENT
DTSTART;TZID=America/Los_Angeles:20251110T100000
DTEND;TZID=America/Los_Angeles:20251110T113000
DTSTAMP:20260423T163834
CREATED:20251030T032412Z
LAST-MODIFIED:20251030T032412Z
UID:248660-1762768800-1762774200@coronadotimes.com
SUMMARY:Lil Pilgrim’s Party brings Thanksgiving fun on a day off school
DESCRIPTION:Looking for something fun to do on your child’s day off from school? Join us for the Lil Pilgrim’s Party (with parents)\, a special Thanksgiving celebration for little ones age 3-5 and their favorite adults.  \nTogether you’ll enjoy cooking holiday treats\, singing songs\, listening to stories\, and playing festive games — all in the spirit of gratitude and togetherness. Don’t miss this heartwarming morning of fun on Monday\, Nov. 10\, from 10–11:30 a.m. at the Club Room Room in Glorietta Bay Park. Register now at coronado.ca.us/register or call 619-522-7342. Also\, Check out the FREE Preschool Spanish Rhyme Time Class\, right before from 9:00-9:40 am at the community center. \nDirect Link: https://bit.ly/LilPilgrimsParty
URL:https://coronadotimes.com/event/lil-pilgrims-party-brings-thanksgiving-fun-on-a-day-off-school/
LOCATION:Club Room\, 1985 Strand Way\, Coronado\, CA\, 92118\, United States
CATEGORIES:kids
END:VEVENT
BEGIN:VEVENT
DTSTART;TZID=America/Los_Angeles:20251110T130000
DTEND;TZID=America/Los_Angeles:20251110T143000
DTSTAMP:20260423T163834
CREATED:20251030T031954Z
LAST-MODIFIED:20251030T055437Z
UID:248657-1762779600-1762785000@coronadotimes.com
SUMMARY:Turkey Time Fun: A gobble-worthy day of games and treats
DESCRIPTION:Looking for a fun way to keep your little turkeys busy on their day off from school on Nov. 10? Join us for Turkey Time Fun\, a Thanksgiving celebration that welcomes all young friends ages 6–11. They’ll spend the afternoon playing Turkey-themed games\, making T-riffic Slime\, munching on Thanksgiving treats\, and competing in T-Day tournaments.  \nOur little chefs and champions will cook\, compete\, and cheer their way through this festive holiday event. Don’t miss out on the fun on Monday\, Nov. 10\, from 1 to 2:30 pm at the Club Room in Glorietta Bay Park. Register now at coronado.ca.us/register or call 619-522-7342.  \nAlso\, Check out the FREE Spanish Adventures for Kids Class\, right before from 11:45 am to 12:40 pm at the community center.  \nDirect Link: https://bit.ly/TurkeyTimeFun 
URL:https://coronadotimes.com/event/turkey-time-fun-a-gobble-worthy-gay-of-games-and-treats-2/
LOCATION:Club Room\, 1985 Strand Way\, Coronado\, CA\, 92118\, United States
CATEGORIES:kids
END:VEVENT
END:VCALENDAR