BEGIN:VCALENDAR
VERSION:2.0
PRODID:-//Coronado Times - ECPv6.5.1.5//NONSGML v1.0//EN
CALSCALE:GREGORIAN
METHOD:PUBLISH
X-ORIGINAL-URL:https://coronadotimes.com
X-WR-CALDESC:Events for Coronado Times
REFRESH-INTERVAL;VALUE=DURATION:PT1H
X-Robots-Tag:noindex
X-PUBLISHED-TTL:PT1H
BEGIN:VTIMEZONE
TZID:America/Los_Angeles
BEGIN:DAYLIGHT
TZOFFSETFROM:-0800
TZOFFSETTO:-0700
TZNAME:PDT
DTSTART:20250309T100000
END:DAYLIGHT
BEGIN:STANDARD
TZOFFSETFROM:-0700
TZOFFSETTO:-0800
TZNAME:PST
DTSTART:20251102T090000
END:STANDARD
END:VTIMEZONE
BEGIN:VEVENT
DTSTART;TZID=America/Los_Angeles:20251105T190000
DTEND;TZID=America/Los_Angeles:20251105T190000
DTSTAMP:20260423T134239
CREATED:20251030T184111Z
LAST-MODIFIED:20251030T184730Z
UID:248715-1762369200-1762369200@coronadotimes.com
SUMMARY:“A Very Special Christmas Tree” Performance
DESCRIPTION:  \nTwo performances of “A Very Special Christmas Tree” will take place on Nov. 5 — a 12:30  pm show for elementary students and a 7 pm show for the community. The narrator is Coronado High School Principal Karin Mellina. \nThis show is written expressly for children and is 45-50 minutes in length. Performers are students in a dance class through the CHS physical education department\, and most have not danced prior to this class; what progress they’ve made in their dancing and commitment to provide a community service and mentorship for younger students. \nBecause of some wonderful donors\, this performance is FREE and is guaranteed to put you in the holiday spirit. \nA Very Special Christmas Tree\nDeep in the forest where the fairies dwell\, a little pine tree grows among her lush and lofty neighbors. Her branches droop\, her needles are sparse\, and every other tree towers above her. Her greatest wish is to grow taller and stronger\, so she will be chosen to stand in a special place for the Christmas season.\nAfter every other tree finds a glorious home for the holiday\, the little tree is disappointed to find where she has been taken.\nBut with the help of a kind man and a wise angel\, the little tree discovers the true spirit of Christmas and that her greatest wish has come true.\n 
URL:https://coronadotimes.com/event/a-very-special-christmas-tree-performance-2/
LOCATION:Coronado Performing Arts Center\, 650 D Avenue\, Coronado\, CA\, 92118\, United States
CATEGORIES:community,entertainment,holiday,kids
END:VEVENT
BEGIN:VEVENT
DTSTART;TZID=America/Los_Angeles:20251110T100000
DTEND;TZID=America/Los_Angeles:20251110T113000
DTSTAMP:20260423T134239
CREATED:20251030T032412Z
LAST-MODIFIED:20251030T032412Z
UID:248660-1762768800-1762774200@coronadotimes.com
SUMMARY:Lil Pilgrim’s Party brings Thanksgiving fun on a day off school
DESCRIPTION:Looking for something fun to do on your child’s day off from school? Join us for the Lil Pilgrim’s Party (with parents)\, a special Thanksgiving celebration for little ones age 3-5 and their favorite adults.  \nTogether you’ll enjoy cooking holiday treats\, singing songs\, listening to stories\, and playing festive games — all in the spirit of gratitude and togetherness. Don’t miss this heartwarming morning of fun on Monday\, Nov. 10\, from 10–11:30 a.m. at the Club Room Room in Glorietta Bay Park. Register now at coronado.ca.us/register or call 619-522-7342. Also\, Check out the FREE Preschool Spanish Rhyme Time Class\, right before from 9:00-9:40 am at the community center. \nDirect Link: https://bit.ly/LilPilgrimsParty
URL:https://coronadotimes.com/event/lil-pilgrims-party-brings-thanksgiving-fun-on-a-day-off-school/
LOCATION:Club Room\, 1985 Strand Way\, Coronado\, CA\, 92118\, United States
CATEGORIES:kids
END:VEVENT
BEGIN:VEVENT
DTSTART;TZID=America/Los_Angeles:20251110T130000
DTEND;TZID=America/Los_Angeles:20251110T143000
DTSTAMP:20260423T134239
CREATED:20251030T031954Z
LAST-MODIFIED:20251030T055437Z
UID:248657-1762779600-1762785000@coronadotimes.com
SUMMARY:Turkey Time Fun: A gobble-worthy day of games and treats
DESCRIPTION:Looking for a fun way to keep your little turkeys busy on their day off from school on Nov. 10? Join us for Turkey Time Fun\, a Thanksgiving celebration that welcomes all young friends ages 6–11. They’ll spend the afternoon playing Turkey-themed games\, making T-riffic Slime\, munching on Thanksgiving treats\, and competing in T-Day tournaments.  \nOur little chefs and champions will cook\, compete\, and cheer their way through this festive holiday event. Don’t miss out on the fun on Monday\, Nov. 10\, from 1 to 2:30 pm at the Club Room in Glorietta Bay Park. Register now at coronado.ca.us/register or call 619-522-7342.  \nAlso\, Check out the FREE Spanish Adventures for Kids Class\, right before from 11:45 am to 12:40 pm at the community center.  \nDirect Link: https://bit.ly/TurkeyTimeFun 
URL:https://coronadotimes.com/event/turkey-time-fun-a-gobble-worthy-gay-of-games-and-treats-2/
LOCATION:Club Room\, 1985 Strand Way\, Coronado\, CA\, 92118\, United States
CATEGORIES:kids
END:VEVENT
BEGIN:VEVENT
DTSTART;TZID=America/Los_Angeles:20251117T153000
DTEND;TZID=America/Los_Angeles:20251117T170000
DTSTAMP:20260423T134239
CREATED:20251104T014245Z
LAST-MODIFIED:20251104T014245Z
UID:248849-1763393400-1763398800@coronadotimes.com
SUMMARY:Sculpt A Turkey
DESCRIPTION:Come play with some clay! This bimonthly program provides two chances to create a work of art using quick dry clay. This month\, Ms. Wendy will be guiding you in creating a turkey.* \n* This program is geared towards kids ages 7 and up. Kids under 7 will require additional parental assistance and may find the class challenging. \nThere is a 10 minute window for arrival. If you do not arrive within 10 minutes of the program starting\, your spot may be given away based on demand.
URL:https://coronadotimes.com/event/sculpt-a-turkey/
LOCATION:Coronado Public Library\, 640 Orange Ave\, Coronado\, CA\, 92118\, United States
CATEGORIES:art,craft,kids
END:VEVENT
BEGIN:VEVENT
DTSTART;TZID=America/Los_Angeles:20251118T110000
DTEND;TZID=America/Los_Angeles:20251118T113000
DTSTAMP:20260423T134239
CREATED:20251107T202148Z
LAST-MODIFIED:20251107T202148Z
UID:248870-1763463600-1763465400@coronadotimes.com
SUMMARY:Musical Storytime Takeover with Nightingale Music
DESCRIPTION:Enjoy a special storytime takeover by Nightingale Music! We’ll play with lollipop drums\, rainbow scarves\, tambourines\, maracas and more. Marvin the Monkey will come by and teach us the major scale and we’ll learn to stomp and dance like the elephants in the jungle. We’ll pop bubbles to the beat and have a guitar time sing-a-long. For ages 0-5 and their favorite adult. \nNightingale Music classes bring out your child’s natural ability for music and creates a relaxed\, playful environment for learning\, so don’t miss the fun Tuesday\, November 18 at 11 am. \nToddler storytime will resume as normal after this fun takeover.
URL:https://coronadotimes.com/event/musical-storytime-takeover-with-nightingale-music-2/
LOCATION:Coronado Public Library\, 640 Orange Ave\, Coronado\, CA\, 92118\, United States
CATEGORIES:books,kids,music
END:VEVENT
BEGIN:VEVENT
DTSTART;TZID=America/Los_Angeles:20251119T190000
DTEND;TZID=America/Los_Angeles:20251119T190000
DTSTAMP:20260423T134239
CREATED:20251111T030107Z
LAST-MODIFIED:20251111T030107Z
UID:249190-1763578800-1763578800@coronadotimes.com
SUMMARY:"Aladdin Jr." with Islander Youth Theater
DESCRIPTION:CoSA Foundation and Playground Players Productions presents Aladdin Jr. with Islander Youth Theater. \nJoin us for a magical evening filled with singing\, dancing\, and fun as our talented young performers bring this beloved story to life. The show will take place at the Coronado Performing Arts Center\, 650 D Ave. on Wednesday\, Nov. 19 and Thursday\, Nov. 20 at 7 pm. \nTickets are available at CoSAFoundation.org or at the door. \nThe cast is composed of 20 TK-1st grade students in the Junior show choir performing a medley prior to the cast of 50 students in 2nd-8th grade (pictured above) performing the main show. It’s family-friendly and great for audiences of all ages. \nTicket link: https://www.eventbrite.com/e/aladdin-jr-with-islander-youth-theater-tickets-1744769836549?aff=oddtdtcreator
URL:https://coronadotimes.com/event/aladdin-jr-with-islander-youth-theater/
LOCATION:Coronado Performing Arts Center\, 650 D Avenue\, Coronado\, CA\, 92118\, United States
CATEGORIES:entertainment,family,kids,teens,theatre
END:VEVENT
BEGIN:VEVENT
DTSTART;TZID=America/Los_Angeles:20251120T190000
DTEND;TZID=America/Los_Angeles:20251120T190000
DTSTAMP:20260423T134239
CREATED:20251111T030216Z
LAST-MODIFIED:20251111T030216Z
UID:249194-1763665200-1763665200@coronadotimes.com
SUMMARY:"Aladdin Jr." with Islander Youth Theater
DESCRIPTION:CoSA Foundation and Playground Players Productions presents Aladdin Jr. with Islander Youth Theater. \nJoin us for a magical evening filled with singing\, dancing\, and fun as our talented young performers bring this beloved story to life. The show will take place at the Coronado Performing Arts Center\, 650 D Ave. on Wednesday\, Nov. 19 and Thursday\, Nov. 20 at 7 pm. \nTickets are available at CoSAFoundation.org or at the door. \nThe cast is composed of 20 TK-1st grade students in the Junior show choir performing a medley prior to the cast of 50 students in 2nd-8th grade (pictured above) performing the main show. It’s family-friendly and great for audiences of all ages. \nTicket link: https://www.eventbrite.com/e/aladdin-jr-with-islander-youth-theater-tickets-1744769836549?aff=oddtdtcreator
URL:https://coronadotimes.com/event/aladdin-jr-with-islander-youth-theater-2/
LOCATION:CA
CATEGORIES:entertainment,family,kids,teens,theatre
END:VEVENT
BEGIN:VEVENT
DTSTART;TZID=America/Los_Angeles:20251124T130000
DTEND;TZID=America/Los_Angeles:20251124T160000
DTSTAMP:20260423T134239
CREATED:20251112T204207Z
LAST-MODIFIED:20251112T204207Z
UID:248886-1763989200-1764000000@coronadotimes.com
SUMMARY:Play Fairy: Creative Play for Kids
DESCRIPTION:Come enjoy a magical free play zone at the Library. The Play Fairy will create an open-ended play land for children of all ages. Children are invited to experience the joys and complexities of life through play in a safe environment. Using loose parts to encourage deep exploration\, children are guided by their own curiosity as they play\, build\, and create freely. This unstructured play supports confidence\, socialization\, and pure imagination.
URL:https://coronadotimes.com/event/play-fairy-creative-play-for-kids-2/
LOCATION:Coronado Public Library\, 640 Orange Ave\, Coronado\, CA\, 92118\, United States
CATEGORIES:kids
END:VEVENT
BEGIN:VEVENT
DTSTART;TZID=America/Los_Angeles:20251125T110000
DTEND;TZID=America/Los_Angeles:20251125T120000
DTSTAMP:20260423T134239
CREATED:20251112T204646Z
LAST-MODIFIED:20251112T204646Z
UID:248889-1764068400-1764072000@coronadotimes.com
SUMMARY:Musical Storytime Takeover with Ralph's World
DESCRIPTION:Get ready for a fun filled morning of music with Ralph’s World at this special Storytime takeover. Perfect for littles (and their bigger siblings) to enjoy musical favorites and interactive fun. \nPreschool storytime will resume as normal the following week.
URL:https://coronadotimes.com/event/musical-storytime-takeover-with-ralphs-world-2/
LOCATION:Coronado Public Library\, 640 Orange Ave\, Coronado\, CA\, 92118\, United States
CATEGORIES:art,entertainment,kids
END:VEVENT
BEGIN:VEVENT
DTSTART;TZID=America/Los_Angeles:20251125T150000
DTEND;TZID=America/Los_Angeles:20251125T160000
DTSTAMP:20260423T134239
CREATED:20251112T205119Z
LAST-MODIFIED:20251112T205119Z
UID:248892-1764082800-1764086400@coronadotimes.com
SUMMARY:Happy Thanksgiving Charlie Brown!
DESCRIPTION:Good Grief! It’s time for Thanksgiving with Charlie Brown! Enjoy the feature film It’s Thanksgiving\, Charlie Brown! with the traditional Peanut’s thanksgiving feast and a craft.
URL:https://coronadotimes.com/event/happy-thanksgiving-charlie-brown/
LOCATION:Coronado Public Library\, 640 Orange Ave\, Coronado\, CA\, 92118\, United States
CATEGORIES:entertainment,family,kids
END:VEVENT
END:VCALENDAR