BEGIN:VCALENDAR
VERSION:2.0
PRODID:-//Coronado Times - ECPv6.5.1.5//NONSGML v1.0//EN
CALSCALE:GREGORIAN
METHOD:PUBLISH
X-WR-CALNAME:Coronado Times
X-ORIGINAL-URL:https://coronadotimes.com
X-WR-CALDESC:Events for Coronado Times
REFRESH-INTERVAL;VALUE=DURATION:PT1H
X-Robots-Tag:noindex
X-PUBLISHED-TTL:PT1H
BEGIN:VTIMEZONE
TZID:America/Los_Angeles
BEGIN:DAYLIGHT
TZOFFSETFROM:-0800
TZOFFSETTO:-0700
TZNAME:PDT
DTSTART:20250309T100000
END:DAYLIGHT
BEGIN:STANDARD
TZOFFSETFROM:-0700
TZOFFSETTO:-0800
TZNAME:PST
DTSTART:20251102T090000
END:STANDARD
END:VTIMEZONE
BEGIN:VEVENT
DTSTART;VALUE=DATE:20251127
DTEND;VALUE=DATE:20251128
DTSTAMP:20260424T212240
CREATED:20251120T205413Z
LAST-MODIFIED:20251120T205413Z
UID:249546-1764201600-1764287999@coronadotimes.com
SUMMARY:Thanksgiving at The Del
DESCRIPTION:Celebrate Thanksgiving with loved ones at The Del’s exquisite buffet. In the beautifully restored Crown Room\, dine beneath soaring sugar pine ceilings and ornate chandeliers designed by Wizard of Oz author L. Frank Baum. Or\, choose the Ocean Ballroom\, where sweeping ocean views and an original 1888 fresco mural make for a truly memorable holiday by the sea. \nEnjoy classic holiday favorites including carved turkey with port wine orange cranberry chutney\, buttermilk mashed potatoes\, and pumpkin tarts\, along with fresh coastal fare like sushi and sashimi.
URL:https://coronadotimes.com/event/thanksgiving-at-the-del-2-2/
LOCATION:Hotel del Coronado\, 1500 Orange Ave\, Coronado\, CA\, 92118\, United States
CATEGORIES:food and drink,holiday
END:VEVENT
BEGIN:VEVENT
DTSTART;TZID=America/Los_Angeles:20251127T080000
DTEND;TZID=America/Los_Angeles:20251127T080000
DTSTAMP:20260424T212240
CREATED:20251030T163839Z
LAST-MODIFIED:20251125T045730Z
UID:248617-1764230400-1764230400@coronadotimes.com
SUMMARY:Coronado Turkey Trot presented by Rady Children's Hospital Auxiliary
DESCRIPTION:Join us for the 12th Annual Turkey Trot presented by the Coronado Unit of the Rady Children’s Hospital Auxiliary on Thanksgiving\, Nov. 27\, at Tidelands Park. This family-friendly 5K welcomes runners and walkers of all ages. Enjoy a beautiful course along the San Diego Bay and celebrate the holiday with a fun\, festive atmosphere. For our 15 and under runners\, your age-based pricing discount is already built in as soon as you enter your birth date. \nAll net proceeds benefit the Orthopedics and Scoliosis Center at Rady Children’s Hospital-San Diego. Register early as this event sells out every year! \n6:30 a.m. – Packet Pick-Up Opens\n7:35 a.m. – Pre-Race Warm Up with Coronado Fitness Club\n8 a.m. – 5K Start\n9:15 a.m. – Awards Ceremony (Overall Winners)\n9:30 a.m. – Event Concludes\n* Subject to change \nPacket Pick-Up\nSaturday November 22nd\, 2025\nSpreckels Park\n601 Orange Ave\, Coronado\, CA 92118\n10 a.m. – 2 p.m. \nRACE DAY\, November 27\, 2025\nTidelands Park\n2000 Mullinex Dr\, Coronado\, CA 92118\n6:30 a.m. – 8 a.m. \nWalk-up Registration is available at Packet Pick-Up if the event is not sold out. Photo IDs are required. You may pick up for a friend if you have a copy of their photo ID. NO EXCEPTIONS! Photos of ID shown on cell phones are accepted. Please plan on attending one of the pre-race packet pick-ups; out-of-towners may pick up on race morning beginning at 6:30 a.m.\, but it is discouraged. \n 
URL:https://coronadotimes.com/event/coronado-turkey-trot-presented-by-rady-childrens-hospital-auxiliary/
LOCATION:Tidelands Park\, 2000 Mullinex Drive\, Coronado\, CA\, 92118\, United States
CATEGORIES:community,family,holiday,running,sports
END:VEVENT
END:VCALENDAR