BEGIN:VCALENDAR
VERSION:2.0
PRODID:-//Coronado Times - ECPv6.5.1.5//NONSGML v1.0//EN
CALSCALE:GREGORIAN
METHOD:PUBLISH
X-WR-CALNAME:Coronado Times
X-ORIGINAL-URL:https://coronadotimes.com
X-WR-CALDESC:Events for Coronado Times
REFRESH-INTERVAL;VALUE=DURATION:PT1H
X-Robots-Tag:noindex
X-PUBLISHED-TTL:PT1H
BEGIN:VTIMEZONE
TZID:America/Los_Angeles
BEGIN:DAYLIGHT
TZOFFSETFROM:-0800
TZOFFSETTO:-0700
TZNAME:PDT
DTSTART:20240310T100000
END:DAYLIGHT
BEGIN:STANDARD
TZOFFSETFROM:-0700
TZOFFSETTO:-0800
TZNAME:PST
DTSTART:20241103T090000
END:STANDARD
END:VTIMEZONE
BEGIN:VEVENT
DTSTART;VALUE=DATE:20241014
DTEND;VALUE=DATE:20241015
DTSTAMP:20260425T075201
CREATED:20241002T194619Z
LAST-MODIFIED:20241002T194619Z
UID:225926-1728864000-1728950399@coronadotimes.com
SUMMARY:Halloween Monster Mash-Up
DESCRIPTION:Monday\, October 14 is a school holiday\, so join us for some awesome\, gruesome fun at the Halloween Monster Mash-Up in the Club Room. We will be creating crafts\, mixing slime\, and cooking treats. We’ll play some Halloween games and compete in chilling contests. Come in a costume if you can. \nThis holiday workshop is open to children ages 5-11. Parents can pick the morning mash-up from 10 to 11:30 am or the afternoon one from 1 to 2:30 pm. Advance registration is required. Register now before it fills up. For more information or to register\, go to coronado.ca.us/register or call 619-522-7342. \nMORNING: https://bit.ly/HalloweenMonsterMashUpMorning \nAFTERNOON: https://bit.ly/HalloweenMonsterMashUpAfternoon
URL:https://coronadotimes.com/event/halloween-monster-mash-up-3/
LOCATION:Club Room\, 1985 Strand Way\, Coronado\, CA\, 92118\, United States
CATEGORIES:craft,entertainment,holiday,kids
END:VEVENT
BEGIN:VEVENT
DTSTART;TZID=America/Los_Angeles:20241025T153000
DTEND;TZID=America/Los_Angeles:20241025T173000
DTSTAMP:20260425T075201
CREATED:20241004T235358Z
LAST-MODIFIED:20241004T235358Z
UID:226024-1729870200-1729877400@coronadotimes.com
SUMMARY:Halloween Happening 2024
DESCRIPTION:Get ready for some family-friendly fun at the City of Coronado Recreation and Golf Services annual “Halloween Happening” on Friday\, October 25 from 3:30 to 5:30 p.m. “Ghouls\,” “Boos” and their families are encouraged to dress in costume and head over to Spreckels Park to enjoy music\, enchanting entertainment\, trick-or-treating\, “Spooktacular” games\, jumpees\, crafts\, prizes\, candy and activities including a Life-size Candyland game at no cost. Food and beverages will be available for purchase as well. \nThe fun continues across the street with a Halloween Scavenger Hunt through the Coronado Public Library at 6 p.m. \nCall 619-522-7342 for details. \n 
URL:https://coronadotimes.com/event/halloween-happening-2024-2/
LOCATION:Spreckels Park\, 601 Orange Ave\, Coronado\, CA\, 92118\, United States
CATEGORIES:community,family,holiday,kids
END:VEVENT
BEGIN:VEVENT
DTSTART;TZID=America/Los_Angeles:20241025T180000
DTEND;TZID=America/Los_Angeles:20241025T190000
DTSTAMP:20260425T075201
CREATED:20241022T033911Z
LAST-MODIFIED:20241022T033911Z
UID:226688-1729879200-1729882800@coronadotimes.com
SUMMARY:Spooky Library Scavenger Hunt
DESCRIPTION:ENTER THE LIBRARY IF YOU DARE… \nIf you do\, you must find all the potion ingredients to break the spell to rejoin the living world. Enjoy a special after hours Halloween event! \nRecommended for ages 5 and up. \nThis event is put on by the Junior Volunteers and sponsored by the Friends of the Library.
URL:https://coronadotimes.com/event/spooky-library-scavenger-hunt/
LOCATION:Coronado Public Library\, 640 Orange Ave\, Coronado\, CA\, 92118\, United States
CATEGORIES:holiday,kids
END:VEVENT
BEGIN:VEVENT
DTSTART;TZID=America/Los_Angeles:20241031T150000
DTEND;TZID=America/Los_Angeles:20241031T173000
DTSTAMP:20260425T075201
CREATED:20241024T173326Z
LAST-MODIFIED:20241024T173326Z
UID:226799-1730386800-1730395800@coronadotimes.com
SUMMARY:MainStreet Goes Ghostly
DESCRIPTION:It’s time for the annual spooktacular celebration as “MainStreet Goes Ghostly” this Halloween! \nGet ready for an afternoon of frightful fun\, trick-or-treating\, and raffle drawings Bring your little ghouls and boys for a family-friendly evening filled with thrills and chills as Coronado merchants welcome trick-or-treaters. \nDon’t forget to tag Coronado MainStreet in your best costume photos and use #MainStreetGoesGhostly for a chance to be featured. \n  \n 
URL:https://coronadotimes.com/event/mainstreet-goes-ghostly/
LOCATION:CA
CATEGORIES:family,holiday,kids
END:VEVENT
END:VCALENDAR