BEGIN:VCALENDAR
VERSION:2.0
PRODID:-//Coronado Times - ECPv6.5.1.5//NONSGML v1.0//EN
CALSCALE:GREGORIAN
METHOD:PUBLISH
X-ORIGINAL-URL:https://coronadotimes.com
X-WR-CALDESC:Events for Coronado Times
REFRESH-INTERVAL;VALUE=DURATION:PT1H
X-Robots-Tag:noindex
X-PUBLISHED-TTL:PT1H
BEGIN:VTIMEZONE
TZID:America/Los_Angeles
BEGIN:DAYLIGHT
TZOFFSETFROM:-0800
TZOFFSETTO:-0700
TZNAME:PDT
DTSTART:20260308T100000
END:DAYLIGHT
BEGIN:STANDARD
TZOFFSETFROM:-0700
TZOFFSETTO:-0800
TZNAME:PST
DTSTART:20261101T090000
END:STANDARD
END:VTIMEZONE
BEGIN:VEVENT
DTSTART;TZID=America/Los_Angeles:20260409T100000
DTEND;TZID=America/Los_Angeles:20260409T153000
DTSTAMP:20260423T021403
CREATED:20260402T192933Z
LAST-MODIFIED:20260406T203314Z
UID:254232-1775728800-1775748600@coronadotimes.com
SUMMARY:Mobile Blood Drive at Sharp Coronado
DESCRIPTION:The community is invited to “keep the magic alive” for hospital patients this month by donating blood. As a special thank-you\, all donors receive an exclusive Disney Goofy T-shirt while sizes and supplies last. \nThe T-shirt is available April 1 – 30\, 2026 at all San Diego Blood Bank blood drives and donor centers throughout San Diego\, Los Angeles\, Orange\, Riverside\, and Imperial Counties. \nOn April 8\, a mobile drive will be held at Sharp Coronado Hospital\n265 Soledad Place\nParked next to Auditorium
URL:https://coronadotimes.com/event/254232/
LOCATION:Sharp Coronado Hospital Auditorium Sandermann Education Center\, 265 Soledad Place\, Coronado\, CA\, 92118\, United States
CATEGORIES:community,health
END:VEVENT
END:VCALENDAR