BEGIN:VCALENDAR
VERSION:2.0
PRODID:-//Coronado Times - ECPv6.5.1.5//NONSGML v1.0//EN
CALSCALE:GREGORIAN
METHOD:PUBLISH
X-ORIGINAL-URL:https://coronadotimes.com
X-WR-CALDESC:Events for Coronado Times
REFRESH-INTERVAL;VALUE=DURATION:PT1H
X-Robots-Tag:noindex
X-PUBLISHED-TTL:PT1H
BEGIN:VTIMEZONE
TZID:America/Los_Angeles
BEGIN:DAYLIGHT
TZOFFSETFROM:-0800
TZOFFSETTO:-0700
TZNAME:PDT
DTSTART:20220313T100000
END:DAYLIGHT
BEGIN:STANDARD
TZOFFSETFROM:-0700
TZOFFSETTO:-0800
TZNAME:PST
DTSTART:20221106T090000
END:STANDARD
END:VTIMEZONE
BEGIN:VEVENT
DTSTART;TZID=America/Los_Angeles:20220818T150000
DTEND;TZID=America/Los_Angeles:20220818T160000
DTSTAMP:20260420T172607
CREATED:20220805T030437Z
LAST-MODIFIED:20220805T030437Z
UID:187363-1660834800-1660838400@coronadotimes.com
SUMMARY:Maintaining Brain Health
DESCRIPTION:You’re never too young to start paying attention to brain health\, and it’s never too late to make changes to improve brain health\, which results in a better quality of life. Join Sharp Coronado Hospital clinicians from the Senior Intensive Outpatient program for an informative presentation on “Maintaining Brain Health.” \nAttendees will learn about cognitive functioning as we age and what we can do to “love” our brains. Self care is important at all ages and this is a great opportunity to learn about thoughtful care for your mind. A Sharp Coronado Hospital Mindful Café chef will also give a delicious healthful cooking demonstration and will provide samples! \nThis Sharp Coronado Hospital presentation will be held at the John D. Spreckels Center and is free to the public. If you would like to learn more about how you can care for your mind as you age\, head over to the Spreckels Center at 1019 Seventh Street on Thursday\, August 18 at 3 pm. For more information\, call 619-522-7343.
URL:https://coronadotimes.com/event/maintaining-brain-health/
LOCATION:John D. Spreckels Center\, 1019 Seventh Street\, Coronado\, CA\, 92118\, United States
CATEGORIES:health,lecture
ATTACH;FMTTYPE=image/jpeg:https://coronadotimes.com/wp-content/uploads/2022/08/brain-health.jpg
END:VEVENT
END:VCALENDAR