BEGIN:VCALENDAR
VERSION:2.0
PRODID:-//Coronado Times - ECPv6.5.1.5//NONSGML v1.0//EN
CALSCALE:GREGORIAN
METHOD:PUBLISH
X-ORIGINAL-URL:https://coronadotimes.com
X-WR-CALDESC:Events for Coronado Times
REFRESH-INTERVAL;VALUE=DURATION:PT1H
X-Robots-Tag:noindex
X-PUBLISHED-TTL:PT1H
BEGIN:VTIMEZONE
TZID:America/Los_Angeles
BEGIN:DAYLIGHT
TZOFFSETFROM:-0800
TZOFFSETTO:-0700
TZNAME:PDT
DTSTART:20260308T100000
END:DAYLIGHT
BEGIN:STANDARD
TZOFFSETFROM:-0700
TZOFFSETTO:-0800
TZNAME:PST
DTSTART:20261101T090000
END:STANDARD
END:VTIMEZONE
BEGIN:VEVENT
DTSTART;TZID=America/Los_Angeles:20260424T143000
DTEND;TZID=America/Los_Angeles:20260424T153000
DTSTAMP:20260425T084628
CREATED:20260416T164322Z
LAST-MODIFIED:20260416T164322Z
UID:254595-1777041000-1777044600@coronadotimes.com
SUMMARY:April Spice It Up\, Coronado!
DESCRIPTION:Like a book club\, but for cooking! Explore new spices each month\, pick up a sample\, cook at home\, and discuss your creations in our monthly Zoom discussion. \nFor the month of April we will be sampling North African spice blend\, Rose Harissa. \nSee photographs and recipes from past Spice It Up\, Coronado! HERE (click on Open Access). \n\nDisclaimer(s)\n\n\n\nFood Allergies\n\nWe cannot guarantee that food served at this program has not come into contact with tree nuts\, soy\, or other allergens. \n\n\n\n\n\nFree and open to the public.
URL:https://coronadotimes.com/event/april-spice-it-up-coronado/
LOCATION:Coronado Public Library\, 640 Orange Ave\, Coronado\, CA\, 92118\, United States
CATEGORIES:community,food and drink,workshop
END:VEVENT
BEGIN:VEVENT
DTSTART;TZID=America/Los_Angeles:20260502T120000
DTEND;TZID=America/Los_Angeles:20260502T150000
DTSTAMP:20260425T084628
CREATED:20260415T235341Z
LAST-MODIFIED:20260419T220508Z
UID:254729-1777723200-1777734000@coronadotimes.com
SUMMARY:Chili Cook-off
DESCRIPTION:Safe Harbor\, in partnership with the Optimist Coronado Club\, and sponsored by the Rotary Club of Coronado\, presents a Chili Cook-off. \nAll skill levels welcome to enter this friendly competition. Sign up today to showcase your skills and bring a batch of your chili to this fun afternoon.
URL:https://coronadotimes.com/event/chili-cook-off-2/
LOCATION:VFW Post 2422\, 557 Orange Ave\, Coronado\, CA\, 92118\, United States
CATEGORIES:entertainment,food and drink
ORGANIZER;CN="Safe Harbor Coronado":MAILTO:info@safeharborcoronado.org
END:VEVENT
BEGIN:VEVENT
DTSTART;TZID=America/Los_Angeles:20260502T140000
DTEND;TZID=America/Los_Angeles:20260502T150000
DTSTAMP:20260425T084628
CREATED:20260419T210048Z
LAST-MODIFIED:20260419T210048Z
UID:254603-1777730400-1777734000@coronadotimes.com
SUMMARY:Strawberry Shortcake Children's Tea
DESCRIPTION:Strawberry Shortcake is here for tea! Bring your little ones for the annual Coronado Public Library’s Children’s Tea. Enjoy a fruity photobooth\, games\, and snacks. Register for some fruit filled fun today. * \n* PLEASE REGISTER EACH ATTENDEE (CHILDREN AND ADULTS) SEPERATELY. This helps ensure correct numbers for seats.
URL:https://coronadotimes.com/event/strawberry-shortcake-childrens-tea/
LOCATION:Coronado Public Library\, 640 Orange Ave\, Coronado\, CA\, 92118\, United States
CATEGORIES:family,food and drink,kids
END:VEVENT
BEGIN:VEVENT
DTSTART;TZID=America/Los_Angeles:20260508T130000
DTEND;TZID=America/Los_Angeles:20260508T150000
DTSTAMP:20260425T084628
CREATED:20260318T183927Z
LAST-MODIFIED:20260318T183927Z
UID:253763-1778245200-1778252400@coronadotimes.com
SUMMARY:Spring Tea Party
DESCRIPTION:Immerse yourself in an authentic tea setting with elegantly arranged tables adorned with exquisite bone china sets\, featuring delicate cups\, saucers\, plates\, and silver cutlery. Savor a selection of delicious finger sandwiches\, scrumptious pastries\, freshly baked scones\, and a delectable dessert\, perfectly paired with your choice of two fragrant teas. Whether you bring a friend or meet someone new\, this charming gathering promises to be a lovely way to celebrate spring. 
URL:https://coronadotimes.com/event/spring-tea-party-2/
LOCATION:John D. Spreckels Center and Bowling Green\, 1019 7th Street\, Coronado\, CA\, 92118\, United States
CATEGORIES:community,food and drink
ORGANIZER;CN="City of Coronado%2C John D. Spreckels Center":MAILTO:spreckelscenter@coronado.ca.us
END:VEVENT
BEGIN:VEVENT
DTSTART;TZID=America/Los_Angeles:20260508T130000
DTEND;TZID=America/Los_Angeles:20260508T150000
DTSTAMP:20260425T084628
CREATED:20260417T202241Z
LAST-MODIFIED:20260417T202241Z
UID:254786-1778245200-1778252400@coronadotimes.com
SUMMARY:Spring Tea Party
DESCRIPTION:The John D. Spreckels Center is inviting the community to celebrate the season in style at its upcoming Spring Tea Party\, happening Friday\, May 8 from 1 to 3 p.m. \nGuests will enjoy an authentic tea experience\, complete with elegant table settings featuring fine bone china and silverware. The menu will include a delightful assortment of finger sandwiches\, a savory cheese and onion pasty\, freshly baked scones\, decadent desserts\, and two fragrant teas. \nAttendees are encouraged to embrace the spirit of the occasion by dressing up for tea — think spring dresses\, hats\, gloves\, or dapper attire — to add an extra touch of fun and elegance to the afternoon. \nThe event offers a warm and welcoming atmosphere\, perfect for gathering with friends or meeting new ones in the community. \nTickets are $40 for residents and $50 for nonresidents. Advance registration is required by May 1. To register\, visit www.coronado.ca.us/civicrec\, call 619-522-7343\, or stop by the front desk at 1019 Seventh St. for more information.
URL:https://coronadotimes.com/event/spring-tea-party-3/
LOCATION:John D. Spreckels Center\, 1019 Seventh Street\, Coronado\, CA\, 92118\, United States
CATEGORIES:community,food and drink
END:VEVENT
BEGIN:VEVENT
DTSTART;VALUE=DATE:20260509
DTEND;VALUE=DATE:20260510
DTSTAMP:20260425T084628
CREATED:20260125T231923Z
LAST-MODIFIED:20260224T205253Z
UID:251140-1778284800-1778371199@coronadotimes.com
SUMMARY:Coronado Art & Wine Festival
DESCRIPTION:The Coronado Art & Wine Festival is a collaboration between the Coronado Schools Foundation and the Coronado Chamber of Commerce\, two nonprofits bringing together vital areas of our community: the schools\, the arts\, and local businessses. \nAn afternoon dedicated to highlighting the finest artists from Southern California and beyond. Enjoy a captivating display of diverse art styles and mediums. \nMultiple options to purchase tickets for wine tasting.
URL:https://coronadotimes.com/event/coronado-art-wine-festival-2/
LOCATION:CA
CATEGORIES:art,community,entertainment,family,food and drink,music,Philanthropy
END:VEVENT
BEGIN:VEVENT
DTSTART;TZID=America/Los_Angeles:20260510T100000
DTEND;TZID=America/Los_Angeles:20260510T150000
DTSTAMP:20260425T084628
CREATED:20260411T000814Z
LAST-MODIFIED:20260411T000814Z
UID:254493-1778407200-1778425200@coronadotimes.com
SUMMARY:Mother's Day Brunch at Hotel del Coronado
DESCRIPTION:On Sunday\, May 10 from 10 am to 3 pm\, pamper Mom with an elegant Mother’s Day Brunch in The Del’s Crown Room. \nThis special brunch will feature a selection of culinary delights including a chilled seafood bar\, fan-favorite brunch classics\, carving stations\, a dessert bar\, and more\, paired with a champagne toast to kick off the celebrations. \nTickets can be purchased here. \nCrown Room (Wimberly Interiors)\n 
URL:https://coronadotimes.com/event/mothers-day-brunch-at-hotel-del-coronado/
LOCATION:Hotel del Coronado Crown Room\, 1500 Orange Ave\, Coronado\, CA\, 92118\, United States
CATEGORIES:family,food and drink
END:VEVENT
BEGIN:VEVENT
DTSTART;VALUE=DATE:20260912
DTEND;VALUE=DATE:20260913
DTSTAMP:20260425T084628
CREATED:20260324T234809Z
LAST-MODIFIED:20260324T234809Z
UID:253917-1789171200-1789257599@coronadotimes.com
SUMMARY:CSF Gala at The Del
DESCRIPTION:
URL:https://coronadotimes.com/event/csf-gala-at-the-del/
LOCATION:Hotel del Coronado\, 1500 Orange Ave\, Coronado\, CA\, 92118\, United States
CATEGORIES:community,education,entertainment,food and drink
END:VEVENT
END:VCALENDAR