BEGIN:VCALENDAR
VERSION:2.0
PRODID:-//Coronado Times - ECPv6.5.1.5//NONSGML v1.0//EN
CALSCALE:GREGORIAN
METHOD:PUBLISH
X-WR-CALNAME:Coronado Times
X-ORIGINAL-URL:https://coronadotimes.com
X-WR-CALDESC:Events for Coronado Times
REFRESH-INTERVAL;VALUE=DURATION:PT1H
X-Robots-Tag:noindex
X-PUBLISHED-TTL:PT1H
BEGIN:VTIMEZONE
TZID:America/Los_Angeles
BEGIN:DAYLIGHT
TZOFFSETFROM:-0800
TZOFFSETTO:-0700
TZNAME:PDT
DTSTART:20260308T100000
END:DAYLIGHT
BEGIN:STANDARD
TZOFFSETFROM:-0700
TZOFFSETTO:-0800
TZNAME:PST
DTSTART:20261101T090000
END:STANDARD
END:VTIMEZONE
BEGIN:VEVENT
DTSTART;TZID=America/Los_Angeles:20260213T163000
DTEND;TZID=America/Los_Angeles:20260213T180000
DTSTAMP:20260424T202554
CREATED:20260121T235946Z
LAST-MODIFIED:20260212T055247Z
UID:251022-1771000200-1771005600@coronadotimes.com
SUMMARY:SOLD OUT / Wine & Chocolate Walk - North of Fourth
DESCRIPTION:SOLD OUT \n \nThe first Wine & Chocolate Walk will take place on Friday Feb. 13 from 4:30 to 6:00 p.m. The delicious event will be a progressive walk around the uptown end of Coronado — north of Fourth. Visit businesses for a sip or sweet bite and enjoy all that Uptown Coronado has to offer\, from Orange Ave to the Ferry Landing. \nStart and finish at Coronado Tasting Room. \nOnly 100 tickets will be sold and the event is expected to sell out. Get your tickets on Eventbrite.
URL:https://coronadotimes.com/event/wine-chocolate-walk/
LOCATION:Coronado Ferry Landing\, 1201 First Street\, Coronado\, CA\, 92118\, United States
CATEGORIES:community,food and drink,shopping
END:VEVENT
BEGIN:VEVENT
DTSTART;TZID=America/Los_Angeles:20260227T143000
DTEND;TZID=America/Los_Angeles:20260227T153000
DTSTAMP:20260424T202554
CREATED:20260210T201541Z
LAST-MODIFIED:20260210T201541Z
UID:251435-1772202600-1772206200@coronadotimes.com
SUMMARY:February Spice It Up\, Coronado!
DESCRIPTION:Like a book club\, but for cooking! Explore new spices each month\, pick up a sample\, cook at home\, and discuss your creations in our monthly Zoom discussion. \nFor the month of February we will be sampling hawaij. \nSee photographs and recipes from past Spice It Up\, Coronado! HERE\, then click on Open Access. \n\nDisclaimer(s)\n\n\n\nFood Allergies\n\nWe cannot guarantee that food served at this program has not come into contact with tree nuts\, soy\, or other allergens.
URL:https://coronadotimes.com/event/february-spice-it-up-coronado-3/
LOCATION:Coronado Public Library\, 640 Orange Ave\, Coronado\, CA\, 92118\, United States
CATEGORIES:community,education,food and drink
END:VEVENT
END:VCALENDAR