BEGIN:VCALENDAR
VERSION:2.0
PRODID:-//Coronado Times - ECPv6.5.1.5//NONSGML v1.0//EN
CALSCALE:GREGORIAN
METHOD:PUBLISH
X-WR-CALNAME:Coronado Times
X-ORIGINAL-URL:https://coronadotimes.com
X-WR-CALDESC:Events for Coronado Times
REFRESH-INTERVAL;VALUE=DURATION:PT1H
X-Robots-Tag:noindex
X-PUBLISHED-TTL:PT1H
BEGIN:VTIMEZONE
TZID:America/Los_Angeles
BEGIN:DAYLIGHT
TZOFFSETFROM:-0800
TZOFFSETTO:-0700
TZNAME:PDT
DTSTART:20250309T100000
END:DAYLIGHT
BEGIN:STANDARD
TZOFFSETFROM:-0700
TZOFFSETTO:-0800
TZNAME:PST
DTSTART:20251102T090000
END:STANDARD
END:VTIMEZONE
BEGIN:VEVENT
DTSTART;TZID=America/Los_Angeles:20251002T170000
DTEND;TZID=America/Los_Angeles:20251002T193000
DTSTAMP:20260425T100219
CREATED:20250909T192449Z
LAST-MODIFIED:20250925T185056Z
UID:246677-1759424400-1759433400@coronadotimes.com
SUMMARY:Celebrate Coronado! Community Awards & Dinner
DESCRIPTION:Ticket sales have closed \nThe Chamber of Commerce’s annual appreciation event to recognize the Police Department\, Fire Department\, Life Guard and City Manager’s Employees of the Year\, Lewis Hardy Community Service Awardee and Chamber Milestone Members.
URL:https://coronadotimes.com/event/celebrate-coronado-community-awards-dinner-2/
LOCATION:Feast & Fareway\, 2000 Visalia Row\, Coronado\, CA\, 92118\, United States
CATEGORIES:community,food and drink
END:VEVENT
BEGIN:VEVENT
DTSTART;TZID=America/Los_Angeles:20251007T110000
DTEND;TZID=America/Los_Angeles:20251007T150000
DTSTAMP:20260425T100219
CREATED:20250827T220003Z
LAST-MODIFIED:20250908T202639Z
UID:246293-1759834800-1759849200@coronadotimes.com
SUMMARY:Coronado Historical Association's 6th Annual Collections Luncheon
DESCRIPTION:The Coronado Historical Association\, with Honorary Chair Mary Ann Chapple\,\ninvites you to a Luncheon Celebrating History and Preservation. \nJoin us for an afternoon of giving as Curator of Collections\, Vickie Stone\, presents an exclusive overview of CHA’s ongoing preservation efforts\, showcasing highlights from our treasured collection. \nThis event directly supports CHA’s essential mission. \nA silent auction of donated baked goods will be featured. \nLuncheon: $75 per person. \nTables of eight are available for $550. Call 619-435-7242 to reserve a table. \nKindly reserve early\, as space is limited.\nCredit card purchases can be made by calling 619-435-7242 or with the “Register Now” link below. \nREGISTER NOW
URL:https://coronadotimes.com/event/coronado-historical-associations-6th-annual-collections-luncheon/
LOCATION:Coronado Cays Yacht Club\, 30 Caribe Cay Blvd.\, Coronado\, CA\, 92118\, United States
CATEGORIES:community,education,food and drink,history
END:VEVENT
BEGIN:VEVENT
DTSTART;TZID=America/Los_Angeles:20251007T160000
DTEND;TZID=America/Los_Angeles:20251007T200000
DTSTAMP:20260425T100220
CREATED:20251006T183735Z
LAST-MODIFIED:20251006T183844Z
UID:247472-1759852800-1759867200@coronadotimes.com
SUMMARY:CHS girls volleyball "Dig Pink": Fundraiser for metastatic breast cancer
DESCRIPTION:Image: SideOut.org\nCommunity invited to wear pink\, enjoy tacos\, and rally for a cause Tuesday\, October 7. \nThe Coronado High School girls volleyball program will host its annual Dig Pink Night on Tuesday\, October 7\, to raise awareness and funds for the Side-Out Foundation\, which supports metastatic breast cancer research and clinical trials. \nThe Islanders have set a fundraising goal of $2\,500 this year and invite the Coronado community to get involved through several fun and meaningful ways: \n\n🌮 Tacos for a Cause: Enjoy three tacos and a drink for $12 ($13 with credit card). The goal is to sell 100 plates. Food will be served from 4 to 6pm.\n🛍️ Dig Pink Goodie Bags: Send a sweet surprise to a CHS player\, sibling\, or friend\, delivered during school on 10/7 — each order raises funds and spreads awareness.\n👚 Limited Edition Dig Pink Shirts: Available while supplies last\, with proceeds donated to the Side-Out Foundation.\n🧁 Pink Bake Sale: Players and families will host a bake sale featuring pink-themed treats\, with all proceeds going to charity.\n💖 Direct Donations: Supporters can donate directly through the team’s official Side-Out campaign page\, with many companies offering donation-matching programs that can double contributions.\n🏐 Attend the Match: All admission donations will go toward the team’s fundraising total. Match begins at 6:15pm on Tuesday\, Oct. 7 in the CHS gym.\n\n“Dig Pink is one of the most inspiring nights of our season\,” said a Coronado Volleyball Booster representative. “It’s incredible to see our athletes\, families\, and community come together for something bigger than the game.” \nAll fundraising links\, pre-sale items\, and donation options can be found through the team’s Square Store at fundraising goal. \nThe team invites the community to fill the stands\, wear pink\, and help make a difference in the fight against breast cancer. \n\n\nRELATED (2024) \nDigging Pink: CHS Volleyball to Host Big Event for Breast Cancer Research
URL:https://coronadotimes.com/event/chs-girls-volleyball-dig-pink/
LOCATION:Coronado High School Gym\, 801 7th Street\, Coronado\, CA\, 92118\, United States
CATEGORIES:community,entertainment,food and drink,Philanthropy,sports,teens
END:VEVENT
BEGIN:VEVENT
DTSTART;TZID=America/Los_Angeles:20251008T170000
DTEND;TZID=America/Los_Angeles:20251008T210000
DTSTAMP:20260425T100220
CREATED:20251002T195807Z
LAST-MODIFIED:20251002T195807Z
UID:247360-1759942800-1759957200@coronadotimes.com
SUMMARY:A Taste of Coronado
DESCRIPTION:Coronado Junior Woman’s Club presents the 16th Annual A Taste of Coronado – an indulgent evening of bites\, sips\, and community spirit on October 8\, 2025. Stroll\, bike\, or trolley your way through Coronado’s finest restaurants\, shops\, and bars. A curated map guides your journey through delicious tastes all across town. \nGET TICKETS \nUpgrade to VIP for the ultimate experience at our VIP Lounge at Stake Coronado\, where your evening begins early at 4:30 pm. Enjoy live-action bites & immersive entertainment in a carousel-inspired experience honoring our main beneficiary\, Forever Balboa Park\, and Coronado’s historic carousel. \nSpecial thanks to our presenting sponsor: Hotel Del Coronado \nOur VIP Experience made possible by our sponsors: The Canu Family & Calprivate Bank \nOur host sponsors: McKay & Associates and the Richardson Family
URL:https://coronadotimes.com/event/a-taste-of-coronado-2/
LOCATION:CA
CATEGORIES:entertainment,food and drink
END:VEVENT
BEGIN:VEVENT
DTSTART;TZID=America/Los_Angeles:20251011T130000
DTEND;TZID=America/Los_Angeles:20251011T150000
DTSTAMP:20260425T100220
CREATED:20250915T213631Z
LAST-MODIFIED:20250915T213631Z
UID:246848-1760187600-1760194800@coronadotimes.com
SUMMARY:Old-Fashioned Ice Cream Social to Celebrate Coronado Rotary's 100th Anniversary
DESCRIPTION:Coronado Rotary is celebrating its 100th anniversary by providing various gifts to Coronado throughout the year. \nOn Saturday\, Oct. 11\, they will hold an old-fashioned Ice Cream Social from 1 to 3 pm in Spreckels Park. Enjoy MooTime ice cream\, music\, and fellowship. The event is free and all are welcome! \nRotary members Suzanne Manuel\, John Matthews\, Fred Eckert\, Suzanne Frontz\, President Natalie Bailey\, Jane Simeral\, Ginger Cox\, Carol Sommer\, Steve Duermeyer. Courtesy photo.
URL:https://coronadotimes.com/event/old-fashioned-ice-cream-social-to-celebrate-coronado-rotarys-100th-anniversary/
LOCATION:Spreckels Park\, 601 Orange Ave\, Coronado\, CA\, 92118\, United States
CATEGORIES:community,entertainment,family,food and drink
END:VEVENT
BEGIN:VEVENT
DTSTART;TZID=America/Los_Angeles:20251011T160000
DTEND;TZID=America/Los_Angeles:20251011T210000
DTSTAMP:20260425T100220
CREATED:20251002T185526Z
LAST-MODIFIED:20251002T185526Z
UID:247347-1760198400-1760216400@coronadotimes.com
SUMMARY:Oktoberfest with the Marine Corps League Coronado
DESCRIPTION:Join the Marine Corps League Coronado for its 7th annual Oktoberfest celebration! Enjoy German music by local band The Beer Mugs\, great food and drinks\, and lively contests\, all while supporting Marine Corps League charities. \nWrist bands will be issued at the door and food/beer tickets can be purchased inside. Cash only at the event please. \nAdmission & Prices\nEntry donation: $10\nPlate of food: $20 (bratwurst\, potato salad\, sauerkraut\, and a pretzel)\nBeer: $5 each or 5 for $20 \nContests & Fun\nPotato Salad Contest (drop off by 3pm\, cash prizes for top three)\nStein Holding Contest\nBest Dressed Contest \nProceeds benefit: Fisher House\, Workshop for Warriors\, Jimmy Miller Foundation\, Recruiting Station San Diego\, Honor Flight San Diego\, and Tunnel for Towers. \nBreak out the lederhosen and dirndl and join the fun!
URL:https://coronadotimes.com/event/oktoberfest-with-the-marine-corps-league-coronado/
LOCATION:VFW Post 2422\, 557 Orange Ave\, Coronado\, CA\, 92118\, United States
CATEGORIES:community,entertainment,food and drink,Philanthropy
END:VEVENT
BEGIN:VEVENT
DTSTART;TZID=America/Los_Angeles:20251017T140000
DTEND;TZID=America/Los_Angeles:20251017T153000
DTSTAMP:20260425T100220
CREATED:20250920T201425Z
LAST-MODIFIED:20250920T201639Z
UID:246935-1760709600-1760715000@coronadotimes.com
SUMMARY:Savor the Season: Fall Cooking Workshop at the Spreckels Center
DESCRIPTION:Celebrate the tastes of autumn at the John D. Spreckels Center’s upcoming cooking workshop on Friday\, October 17\, from 2 to 3:30 p.m. Join Spreckels Center chefs Naomi and Norma for a hands-on class featuring a seasonal menu: \n\nfall harvest honeycrisp apple & kale salad\,\ncomforting pot roast rigatoni\, and\nperfectly spiced pumpkin squares.\n\nEach participant will take home a serving of each dish to enjoy later. \nPricing varies with resident and senior discounts. All experience levels are welcome\, and those interested should register by Wednesday\, October 15. \nTo register or learn more\, visit www.coronado.ca.us/civicrec\, call 619-522-7343\, or stop by the Spreckels Center in person.
URL:https://coronadotimes.com/event/savor-the-season-fall-cooking-workshop-at-the-spreckels-center/
LOCATION:John D. Spreckels Center\, 1019 Seventh Street\, Coronado\, CA\, 92118\, United States
CATEGORIES:food and drink,workshop
END:VEVENT
BEGIN:VEVENT
DTSTART;TZID=America/Los_Angeles:20251018T100000
DTEND;TZID=America/Los_Angeles:20251018T140000
DTSTAMP:20260425T100220
CREATED:20251006T201446Z
LAST-MODIFIED:20251016T195449Z
UID:247499-1760781600-1760796000@coronadotimes.com
SUMMARY:Coronado Coven Witches Walk
DESCRIPTION:A whimsical walk through the streets of Coronado starting with brunch and continuing with stops along the way. Buy your ticket\, don your witches gear\, and head out with the Coronado Coven. \nLEARN MORE: \nBurning questions: An interview with Head Witch of the Coronado Coven Witches Walk
URL:https://coronadotimes.com/event/coronado-coven-witches-walk/
LOCATION:CA
CATEGORIES:entertainment,food and drink,holiday
END:VEVENT
BEGIN:VEVENT
DTSTART;TZID=America/Los_Angeles:20251028T180000
DTEND;TZID=America/Los_Angeles:20251028T180000
DTSTAMP:20260425T100220
CREATED:20251014T194128Z
LAST-MODIFIED:20251014T194301Z
UID:247776-1761674400-1761674400@coronadotimes.com
SUMMARY:"Midnight in Montmartre” wine and storytelling dinner
DESCRIPTION:Little Frenchie invites you to a night where French elegance meets the mysterious spirit of Halloween. A one-night celebration of French culinary artistry and gothic storytelling. Guests will enjoy a five-course menu\, each course paired with wines expertly curated by our sommelier and inspired by the tales shared throughout the evening. Drawing from folklore\, history\, and classic gothic literature\, the stories will set a moody yet festive tone for a night of mystery\, flavor\, and fun. \nTo keep the magic alive\, a portion of the evening’s proceeds will help bring more stories to the children’s section of the Coronado Public Library. \nCostumes welcomed! \nRSVP
URL:https://coronadotimes.com/event/midnight-in-montmartre-wine-and-storytelling-dinner/
LOCATION:Little Frenchie\, 1166 Orange Ave\, Coronado\, CA\, 92118\, United States
CATEGORIES:food and drink
END:VEVENT
BEGIN:VEVENT
DTSTART;TZID=America/Los_Angeles:20251031T143000
DTEND;TZID=America/Los_Angeles:20251031T153000
DTSTAMP:20260425T100220
CREATED:20251003T011141Z
LAST-MODIFIED:20251003T011141Z
UID:247330-1761921000-1761924600@coronadotimes.com
SUMMARY:October Spice It Up\, Coronado!
DESCRIPTION:Like a book club\, but for cooking! Explore new spices each month\, pick up samples\, cook at home\, and share your creations in our monthly Zoom discussion. \nFor the month of October we will be sampling Georgian spice & herb blend Khmeli Suneli. \nSee photographs and recipes from past Spice It Up\, Coronado! HERE\, then click on Open Access. \n\nDisclaimer(s)\n\n\n\nFood Allergies\n\nWe cannot guarantee that food served at this program has not come into contact with tree nuts\, soy\, or other allergens.
URL:https://coronadotimes.com/event/october-spice-it-up-coronado/
LOCATION:Coronado Public Library\, 640 Orange Ave\, Coronado\, CA\, 92118\, United States
CATEGORIES:community,education,food and drink,workshop
END:VEVENT
END:VCALENDAR