BEGIN:VCALENDAR
VERSION:2.0
PRODID:-//Coronado Times - ECPv6.5.1.5//NONSGML v1.0//EN
CALSCALE:GREGORIAN
METHOD:PUBLISH
X-ORIGINAL-URL:https://coronadotimes.com
X-WR-CALDESC:Events for Coronado Times
REFRESH-INTERVAL;VALUE=DURATION:PT1H
X-Robots-Tag:noindex
X-PUBLISHED-TTL:PT1H
BEGIN:VTIMEZONE
TZID:America/Los_Angeles
BEGIN:DAYLIGHT
TZOFFSETFROM:-0800
TZOFFSETTO:-0700
TZNAME:PDT
DTSTART:20210314T100000
END:DAYLIGHT
BEGIN:STANDARD
TZOFFSETFROM:-0700
TZOFFSETTO:-0800
TZNAME:PST
DTSTART:20211107T090000
END:STANDARD
END:VTIMEZONE
BEGIN:VEVENT
DTSTART;TZID=America/Los_Angeles:20211008T210000
DTEND;TZID=America/Los_Angeles:20211008T214500
DTSTAMP:20260422T185358
CREATED:20220925T163239Z
LAST-MODIFIED:20220925T163239Z
UID:190282-1633726800-1633729500@coronadotimes.com
SUMMARY:Haunted Happenings Tour
DESCRIPTION:Learn the official account of Kate Morgan’s 1892 visit to The Del and why her spirit never left in this guided ghostly tour of the resort. Walk in Kate’s footsteps as you uncover the mystery of her death\, other spirits who haunt the hotel and ghostly guest encounters. \n45 minutes | $30 per person | Ages 12+ \n 
URL:https://coronadotimes.com/event/haunted-happenings-tour-3/
LOCATION:Hotel del Coronado\, 1500 Orange Ave\, Coronado\, CA\, 92118\, United States
CATEGORIES:entertainment
ATTACH;FMTTYPE=image/jpeg:https://coronadotimes.com/wp-content/uploads/2021/10/Kate-Morgan-The-Del-image.jpg
END:VEVENT
BEGIN:VEVENT
DTSTART;TZID=America/Los_Angeles:20211004T190000
DTEND;TZID=America/Los_Angeles:20211004T194500
DTSTAMP:20260422T185358
CREATED:20211004T200609Z
LAST-MODIFIED:20211004T200609Z
UID:171369-1633374000-1633376700@coronadotimes.com
SUMMARY:Haunted Happenings Tour
DESCRIPTION:Learn the official account of Kate Morgan’s 1892 visit to The Del and why her spirit never left in this guided ghostly tour of the resort. Walk in Kate’s footsteps as you uncover the mystery of her death\, other spirits who haunt the hotel and ghostly guest encounters. \n45 minutes | $30 per person | Ages 12+ \n 
URL:https://coronadotimes.com/event/haunted-happenings-tour/
LOCATION:Hotel del Coronado\, 1500 Orange Ave\, Coronado\, CA\, 92118\, United States
CATEGORIES:entertainment
ATTACH;FMTTYPE=image/jpeg:https://coronadotimes.com/wp-content/uploads/2021/10/Kate-Morgan-The-Del-image.jpg
END:VEVENT
BEGIN:VEVENT
DTSTART;TZID=America/Los_Angeles:20211004T190000
DTEND;TZID=America/Los_Angeles:20211004T194500
DTSTAMP:20260422T185358
CREATED:20211004T200609Z
LAST-MODIFIED:20211004T200609Z
UID:171369-1633374000-1633376700@coronadotimes.com
SUMMARY:Haunted Happenings Tour
DESCRIPTION:Learn the official account of Kate Morgan’s 1892 visit to The Del and why her spirit never left in this guided ghostly tour of the resort. Walk in Kate’s footsteps as you uncover the mystery of her death\, other spirits who haunt the hotel and ghostly guest encounters. \n45 minutes | $30 per person | Ages 12+ \n 
URL:https://coronadotimes.com/event/haunted-happenings-tour/
LOCATION:Hotel del Coronado\, 1500 Orange Ave\, Coronado\, CA\, 92118\, United States
CATEGORIES:entertainment
ATTACH;FMTTYPE=image/jpeg:https://coronadotimes.com/wp-content/uploads/2021/10/Kate-Morgan-The-Del-image.jpg
END:VEVENT
BEGIN:VEVENT
DTSTART;TZID=America/Los_Angeles:20211004T190000
DTEND;TZID=America/Los_Angeles:20211004T194500
DTSTAMP:20260422T185358
CREATED:20211004T200609Z
LAST-MODIFIED:20211004T200609Z
UID:171369-1633374000-1633376700@coronadotimes.com
SUMMARY:Haunted Happenings Tour
DESCRIPTION:Learn the official account of Kate Morgan’s 1892 visit to The Del and why her spirit never left in this guided ghostly tour of the resort. Walk in Kate’s footsteps as you uncover the mystery of her death\, other spirits who haunt the hotel and ghostly guest encounters. \n45 minutes | $30 per person | Ages 12+ \n 
URL:https://coronadotimes.com/event/haunted-happenings-tour/
LOCATION:Hotel del Coronado\, 1500 Orange Ave\, Coronado\, CA\, 92118\, United States
CATEGORIES:entertainment
ATTACH;FMTTYPE=image/jpeg:https://coronadotimes.com/wp-content/uploads/2021/10/Kate-Morgan-The-Del-image.jpg
END:VEVENT
BEGIN:VEVENT
DTSTART;TZID=America/Los_Angeles:20211004T190000
DTEND;TZID=America/Los_Angeles:20211004T194500
DTSTAMP:20260422T185358
CREATED:20211004T200609Z
LAST-MODIFIED:20211004T200609Z
UID:171369-1633374000-1633376700@coronadotimes.com
SUMMARY:Haunted Happenings Tour
DESCRIPTION:Learn the official account of Kate Morgan’s 1892 visit to The Del and why her spirit never left in this guided ghostly tour of the resort. Walk in Kate’s footsteps as you uncover the mystery of her death\, other spirits who haunt the hotel and ghostly guest encounters. \n45 minutes | $30 per person | Ages 12+ \n 
URL:https://coronadotimes.com/event/haunted-happenings-tour/
LOCATION:Hotel del Coronado\, 1500 Orange Ave\, Coronado\, CA\, 92118\, United States
CATEGORIES:entertainment
ATTACH;FMTTYPE=image/jpeg:https://coronadotimes.com/wp-content/uploads/2021/10/Kate-Morgan-The-Del-image.jpg
END:VEVENT
BEGIN:VEVENT
DTSTART;TZID=America/Los_Angeles:20211004T190000
DTEND;TZID=America/Los_Angeles:20211004T194500
DTSTAMP:20260422T185358
CREATED:20211004T200609Z
LAST-MODIFIED:20211004T200609Z
UID:171369-1633374000-1633376700@coronadotimes.com
SUMMARY:Haunted Happenings Tour
DESCRIPTION:Learn the official account of Kate Morgan’s 1892 visit to The Del and why her spirit never left in this guided ghostly tour of the resort. Walk in Kate’s footsteps as you uncover the mystery of her death\, other spirits who haunt the hotel and ghostly guest encounters. \n45 minutes | $30 per person | Ages 12+ \n 
URL:https://coronadotimes.com/event/haunted-happenings-tour/
LOCATION:Hotel del Coronado\, 1500 Orange Ave\, Coronado\, CA\, 92118\, United States
CATEGORIES:entertainment
ATTACH;FMTTYPE=image/jpeg:https://coronadotimes.com/wp-content/uploads/2021/10/Kate-Morgan-The-Del-image.jpg
END:VEVENT
BEGIN:VEVENT
DTSTART;TZID=America/Los_Angeles:20211004T190000
DTEND;TZID=America/Los_Angeles:20211004T194500
DTSTAMP:20260422T185358
CREATED:20211004T200609Z
LAST-MODIFIED:20211004T200609Z
UID:171369-1633374000-1633376700@coronadotimes.com
SUMMARY:Haunted Happenings Tour
DESCRIPTION:Learn the official account of Kate Morgan’s 1892 visit to The Del and why her spirit never left in this guided ghostly tour of the resort. Walk in Kate’s footsteps as you uncover the mystery of her death\, other spirits who haunt the hotel and ghostly guest encounters. \n45 minutes | $30 per person | Ages 12+ \n 
URL:https://coronadotimes.com/event/haunted-happenings-tour/
LOCATION:Hotel del Coronado\, 1500 Orange Ave\, Coronado\, CA\, 92118\, United States
CATEGORIES:entertainment
ATTACH;FMTTYPE=image/jpeg:https://coronadotimes.com/wp-content/uploads/2021/10/Kate-Morgan-The-Del-image.jpg
END:VEVENT
BEGIN:VEVENT
DTSTART;TZID=America/Los_Angeles:20211008T210000
DTEND;TZID=America/Los_Angeles:20211008T214500
DTSTAMP:20260422T185358
CREATED:20220925T163239Z
LAST-MODIFIED:20220925T163239Z
UID:190282-1633726800-1633729500@coronadotimes.com
SUMMARY:Haunted Happenings Tour
DESCRIPTION:Learn the official account of Kate Morgan’s 1892 visit to The Del and why her spirit never left in this guided ghostly tour of the resort. Walk in Kate’s footsteps as you uncover the mystery of her death\, other spirits who haunt the hotel and ghostly guest encounters. \n45 minutes | $30 per person | Ages 12+ \n 
URL:https://coronadotimes.com/event/haunted-happenings-tour-3/
LOCATION:Hotel del Coronado\, 1500 Orange Ave\, Coronado\, CA\, 92118\, United States
CATEGORIES:entertainment
ATTACH;FMTTYPE=image/jpeg:https://coronadotimes.com/wp-content/uploads/2021/10/Kate-Morgan-The-Del-image.jpg
END:VEVENT
BEGIN:VEVENT
DTSTART;TZID=America/Los_Angeles:20211004T190000
DTEND;TZID=America/Los_Angeles:20211004T194500
DTSTAMP:20260422T185358
CREATED:20211004T200609Z
LAST-MODIFIED:20211004T200609Z
UID:171369-1633374000-1633376700@coronadotimes.com
SUMMARY:Haunted Happenings Tour
DESCRIPTION:Learn the official account of Kate Morgan’s 1892 visit to The Del and why her spirit never left in this guided ghostly tour of the resort. Walk in Kate’s footsteps as you uncover the mystery of her death\, other spirits who haunt the hotel and ghostly guest encounters. \n45 minutes | $30 per person | Ages 12+ \n 
URL:https://coronadotimes.com/event/haunted-happenings-tour/
LOCATION:Hotel del Coronado\, 1500 Orange Ave\, Coronado\, CA\, 92118\, United States
CATEGORIES:entertainment
ATTACH;FMTTYPE=image/jpeg:https://coronadotimes.com/wp-content/uploads/2021/10/Kate-Morgan-The-Del-image.jpg
END:VEVENT
BEGIN:VEVENT
DTSTART;TZID=America/Los_Angeles:20211008T210000
DTEND;TZID=America/Los_Angeles:20211008T214500
DTSTAMP:20260422T185358
CREATED:20220925T163239Z
LAST-MODIFIED:20220925T163239Z
UID:190282-1633726800-1633729500@coronadotimes.com
SUMMARY:Haunted Happenings Tour
DESCRIPTION:Learn the official account of Kate Morgan’s 1892 visit to The Del and why her spirit never left in this guided ghostly tour of the resort. Walk in Kate’s footsteps as you uncover the mystery of her death\, other spirits who haunt the hotel and ghostly guest encounters. \n45 minutes | $30 per person | Ages 12+ \n 
URL:https://coronadotimes.com/event/haunted-happenings-tour-3/
LOCATION:Hotel del Coronado\, 1500 Orange Ave\, Coronado\, CA\, 92118\, United States
CATEGORIES:entertainment
ATTACH;FMTTYPE=image/jpeg:https://coronadotimes.com/wp-content/uploads/2021/10/Kate-Morgan-The-Del-image.jpg
END:VEVENT
BEGIN:VEVENT
DTSTART;TZID=America/Los_Angeles:20211004T190000
DTEND;TZID=America/Los_Angeles:20211004T194500
DTSTAMP:20260422T185358
CREATED:20211004T200609Z
LAST-MODIFIED:20211004T200609Z
UID:171369-1633374000-1633376700@coronadotimes.com
SUMMARY:Haunted Happenings Tour
DESCRIPTION:Learn the official account of Kate Morgan’s 1892 visit to The Del and why her spirit never left in this guided ghostly tour of the resort. Walk in Kate’s footsteps as you uncover the mystery of her death\, other spirits who haunt the hotel and ghostly guest encounters. \n45 minutes | $30 per person | Ages 12+ \n 
URL:https://coronadotimes.com/event/haunted-happenings-tour/
LOCATION:Hotel del Coronado\, 1500 Orange Ave\, Coronado\, CA\, 92118\, United States
CATEGORIES:entertainment
ATTACH;FMTTYPE=image/jpeg:https://coronadotimes.com/wp-content/uploads/2021/10/Kate-Morgan-The-Del-image.jpg
END:VEVENT
BEGIN:VEVENT
DTSTART;TZID=America/Los_Angeles:20211004T190000
DTEND;TZID=America/Los_Angeles:20211004T194500
DTSTAMP:20260422T185358
CREATED:20211004T200609Z
LAST-MODIFIED:20211004T200609Z
UID:171369-1633374000-1633376700@coronadotimes.com
SUMMARY:Haunted Happenings Tour
DESCRIPTION:Learn the official account of Kate Morgan’s 1892 visit to The Del and why her spirit never left in this guided ghostly tour of the resort. Walk in Kate’s footsteps as you uncover the mystery of her death\, other spirits who haunt the hotel and ghostly guest encounters. \n45 minutes | $30 per person | Ages 12+ \n 
URL:https://coronadotimes.com/event/haunted-happenings-tour/
LOCATION:Hotel del Coronado\, 1500 Orange Ave\, Coronado\, CA\, 92118\, United States
CATEGORIES:entertainment
ATTACH;FMTTYPE=image/jpeg:https://coronadotimes.com/wp-content/uploads/2021/10/Kate-Morgan-The-Del-image.jpg
END:VEVENT
BEGIN:VEVENT
DTSTART;TZID=America/Los_Angeles:20211004T190000
DTEND;TZID=America/Los_Angeles:20211004T194500
DTSTAMP:20260422T185358
CREATED:20211004T200609Z
LAST-MODIFIED:20211004T200609Z
UID:171369-1633374000-1633376700@coronadotimes.com
SUMMARY:Haunted Happenings Tour
DESCRIPTION:Learn the official account of Kate Morgan’s 1892 visit to The Del and why her spirit never left in this guided ghostly tour of the resort. Walk in Kate’s footsteps as you uncover the mystery of her death\, other spirits who haunt the hotel and ghostly guest encounters. \n45 minutes | $30 per person | Ages 12+ \n 
URL:https://coronadotimes.com/event/haunted-happenings-tour/
LOCATION:Hotel del Coronado\, 1500 Orange Ave\, Coronado\, CA\, 92118\, United States
CATEGORIES:entertainment
ATTACH;FMTTYPE=image/jpeg:https://coronadotimes.com/wp-content/uploads/2021/10/Kate-Morgan-The-Del-image.jpg
END:VEVENT
BEGIN:VEVENT
DTSTART;TZID=America/Los_Angeles:20211004T190000
DTEND;TZID=America/Los_Angeles:20211004T194500
DTSTAMP:20260422T185358
CREATED:20211004T200609Z
LAST-MODIFIED:20211004T200609Z
UID:171369-1633374000-1633376700@coronadotimes.com
SUMMARY:Haunted Happenings Tour
DESCRIPTION:Learn the official account of Kate Morgan’s 1892 visit to The Del and why her spirit never left in this guided ghostly tour of the resort. Walk in Kate’s footsteps as you uncover the mystery of her death\, other spirits who haunt the hotel and ghostly guest encounters. \n45 minutes | $30 per person | Ages 12+ \n 
URL:https://coronadotimes.com/event/haunted-happenings-tour/
LOCATION:Hotel del Coronado\, 1500 Orange Ave\, Coronado\, CA\, 92118\, United States
CATEGORIES:entertainment
ATTACH;FMTTYPE=image/jpeg:https://coronadotimes.com/wp-content/uploads/2021/10/Kate-Morgan-The-Del-image.jpg
END:VEVENT
BEGIN:VEVENT
DTSTART;TZID=America/Los_Angeles:20211004T190000
DTEND;TZID=America/Los_Angeles:20211004T194500
DTSTAMP:20260422T185358
CREATED:20211004T200609Z
LAST-MODIFIED:20211004T200609Z
UID:171369-1633374000-1633376700@coronadotimes.com
SUMMARY:Haunted Happenings Tour
DESCRIPTION:Learn the official account of Kate Morgan’s 1892 visit to The Del and why her spirit never left in this guided ghostly tour of the resort. Walk in Kate’s footsteps as you uncover the mystery of her death\, other spirits who haunt the hotel and ghostly guest encounters. \n45 minutes | $30 per person | Ages 12+ \n 
URL:https://coronadotimes.com/event/haunted-happenings-tour/
LOCATION:Hotel del Coronado\, 1500 Orange Ave\, Coronado\, CA\, 92118\, United States
CATEGORIES:entertainment
ATTACH;FMTTYPE=image/jpeg:https://coronadotimes.com/wp-content/uploads/2021/10/Kate-Morgan-The-Del-image.jpg
END:VEVENT
BEGIN:VEVENT
DTSTART;TZID=America/Los_Angeles:20211004T190000
DTEND;TZID=America/Los_Angeles:20211004T194500
DTSTAMP:20260422T185358
CREATED:20211004T200609Z
LAST-MODIFIED:20211004T200609Z
UID:171369-1633374000-1633376700@coronadotimes.com
SUMMARY:Haunted Happenings Tour
DESCRIPTION:Learn the official account of Kate Morgan’s 1892 visit to The Del and why her spirit never left in this guided ghostly tour of the resort. Walk in Kate’s footsteps as you uncover the mystery of her death\, other spirits who haunt the hotel and ghostly guest encounters. \n45 minutes | $30 per person | Ages 12+ \n 
URL:https://coronadotimes.com/event/haunted-happenings-tour/
LOCATION:Hotel del Coronado\, 1500 Orange Ave\, Coronado\, CA\, 92118\, United States
CATEGORIES:entertainment
ATTACH;FMTTYPE=image/jpeg:https://coronadotimes.com/wp-content/uploads/2021/10/Kate-Morgan-The-Del-image.jpg
END:VEVENT
BEGIN:VEVENT
DTSTART;TZID=America/Los_Angeles:20211008T210000
DTEND;TZID=America/Los_Angeles:20211008T214500
DTSTAMP:20260422T185358
CREATED:20220925T163239Z
LAST-MODIFIED:20220925T163239Z
UID:190282-1633726800-1633729500@coronadotimes.com
SUMMARY:Haunted Happenings Tour
DESCRIPTION:Learn the official account of Kate Morgan’s 1892 visit to The Del and why her spirit never left in this guided ghostly tour of the resort. Walk in Kate’s footsteps as you uncover the mystery of her death\, other spirits who haunt the hotel and ghostly guest encounters. \n45 minutes | $30 per person | Ages 12+ \n 
URL:https://coronadotimes.com/event/haunted-happenings-tour-3/
LOCATION:Hotel del Coronado\, 1500 Orange Ave\, Coronado\, CA\, 92118\, United States
CATEGORIES:entertainment
ATTACH;FMTTYPE=image/jpeg:https://coronadotimes.com/wp-content/uploads/2021/10/Kate-Morgan-The-Del-image.jpg
END:VEVENT
BEGIN:VEVENT
DTSTART;TZID=America/Los_Angeles:20211004T190000
DTEND;TZID=America/Los_Angeles:20211004T194500
DTSTAMP:20260422T185358
CREATED:20211004T200609Z
LAST-MODIFIED:20211004T200609Z
UID:171369-1633374000-1633376700@coronadotimes.com
SUMMARY:Haunted Happenings Tour
DESCRIPTION:Learn the official account of Kate Morgan’s 1892 visit to The Del and why her spirit never left in this guided ghostly tour of the resort. Walk in Kate’s footsteps as you uncover the mystery of her death\, other spirits who haunt the hotel and ghostly guest encounters. \n45 minutes | $30 per person | Ages 12+ \n 
URL:https://coronadotimes.com/event/haunted-happenings-tour/
LOCATION:Hotel del Coronado\, 1500 Orange Ave\, Coronado\, CA\, 92118\, United States
CATEGORIES:entertainment
ATTACH;FMTTYPE=image/jpeg:https://coronadotimes.com/wp-content/uploads/2021/10/Kate-Morgan-The-Del-image.jpg
END:VEVENT
BEGIN:VEVENT
DTSTART;TZID=America/Los_Angeles:20211008T210000
DTEND;TZID=America/Los_Angeles:20211008T214500
DTSTAMP:20260422T185358
CREATED:20220925T163239Z
LAST-MODIFIED:20220925T163239Z
UID:190282-1633726800-1633729500@coronadotimes.com
SUMMARY:Haunted Happenings Tour
DESCRIPTION:Learn the official account of Kate Morgan’s 1892 visit to The Del and why her spirit never left in this guided ghostly tour of the resort. Walk in Kate’s footsteps as you uncover the mystery of her death\, other spirits who haunt the hotel and ghostly guest encounters. \n45 minutes | $30 per person | Ages 12+ \n 
URL:https://coronadotimes.com/event/haunted-happenings-tour-3/
LOCATION:Hotel del Coronado\, 1500 Orange Ave\, Coronado\, CA\, 92118\, United States
CATEGORIES:entertainment
ATTACH;FMTTYPE=image/jpeg:https://coronadotimes.com/wp-content/uploads/2021/10/Kate-Morgan-The-Del-image.jpg
END:VEVENT
BEGIN:VEVENT
DTSTART;TZID=America/Los_Angeles:20211004T190000
DTEND;TZID=America/Los_Angeles:20211004T194500
DTSTAMP:20260422T185358
CREATED:20211004T200609Z
LAST-MODIFIED:20211004T200609Z
UID:171369-1633374000-1633376700@coronadotimes.com
SUMMARY:Haunted Happenings Tour
DESCRIPTION:Learn the official account of Kate Morgan’s 1892 visit to The Del and why her spirit never left in this guided ghostly tour of the resort. Walk in Kate’s footsteps as you uncover the mystery of her death\, other spirits who haunt the hotel and ghostly guest encounters. \n45 minutes | $30 per person | Ages 12+ \n 
URL:https://coronadotimes.com/event/haunted-happenings-tour/
LOCATION:Hotel del Coronado\, 1500 Orange Ave\, Coronado\, CA\, 92118\, United States
CATEGORIES:entertainment
ATTACH;FMTTYPE=image/jpeg:https://coronadotimes.com/wp-content/uploads/2021/10/Kate-Morgan-The-Del-image.jpg
END:VEVENT
BEGIN:VEVENT
DTSTART;TZID=America/Los_Angeles:20211004T190000
DTEND;TZID=America/Los_Angeles:20211004T194500
DTSTAMP:20260422T185358
CREATED:20211004T200609Z
LAST-MODIFIED:20211004T200609Z
UID:171369-1633374000-1633376700@coronadotimes.com
SUMMARY:Haunted Happenings Tour
DESCRIPTION:Learn the official account of Kate Morgan’s 1892 visit to The Del and why her spirit never left in this guided ghostly tour of the resort. Walk in Kate’s footsteps as you uncover the mystery of her death\, other spirits who haunt the hotel and ghostly guest encounters. \n45 minutes | $30 per person | Ages 12+ \n 
URL:https://coronadotimes.com/event/haunted-happenings-tour/
LOCATION:Hotel del Coronado\, 1500 Orange Ave\, Coronado\, CA\, 92118\, United States
CATEGORIES:entertainment
ATTACH;FMTTYPE=image/jpeg:https://coronadotimes.com/wp-content/uploads/2021/10/Kate-Morgan-The-Del-image.jpg
END:VEVENT
BEGIN:VEVENT
DTSTART;TZID=America/Los_Angeles:20211004T190000
DTEND;TZID=America/Los_Angeles:20211004T194500
DTSTAMP:20260422T185358
CREATED:20211004T200609Z
LAST-MODIFIED:20211004T200609Z
UID:171369-1633374000-1633376700@coronadotimes.com
SUMMARY:Haunted Happenings Tour
DESCRIPTION:Learn the official account of Kate Morgan’s 1892 visit to The Del and why her spirit never left in this guided ghostly tour of the resort. Walk in Kate’s footsteps as you uncover the mystery of her death\, other spirits who haunt the hotel and ghostly guest encounters. \n45 minutes | $30 per person | Ages 12+ \n 
URL:https://coronadotimes.com/event/haunted-happenings-tour/
LOCATION:Hotel del Coronado\, 1500 Orange Ave\, Coronado\, CA\, 92118\, United States
CATEGORIES:entertainment
ATTACH;FMTTYPE=image/jpeg:https://coronadotimes.com/wp-content/uploads/2021/10/Kate-Morgan-The-Del-image.jpg
END:VEVENT
BEGIN:VEVENT
DTSTART;TZID=America/Los_Angeles:20211004T190000
DTEND;TZID=America/Los_Angeles:20211004T194500
DTSTAMP:20260422T185358
CREATED:20211004T200609Z
LAST-MODIFIED:20211004T200609Z
UID:171369-1633374000-1633376700@coronadotimes.com
SUMMARY:Haunted Happenings Tour
DESCRIPTION:Learn the official account of Kate Morgan’s 1892 visit to The Del and why her spirit never left in this guided ghostly tour of the resort. Walk in Kate’s footsteps as you uncover the mystery of her death\, other spirits who haunt the hotel and ghostly guest encounters. \n45 minutes | $30 per person | Ages 12+ \n 
URL:https://coronadotimes.com/event/haunted-happenings-tour/
LOCATION:Hotel del Coronado\, 1500 Orange Ave\, Coronado\, CA\, 92118\, United States
CATEGORIES:entertainment
ATTACH;FMTTYPE=image/jpeg:https://coronadotimes.com/wp-content/uploads/2021/10/Kate-Morgan-The-Del-image.jpg
END:VEVENT
BEGIN:VEVENT
DTSTART;TZID=America/Los_Angeles:20211004T190000
DTEND;TZID=America/Los_Angeles:20211004T194500
DTSTAMP:20260422T185358
CREATED:20211004T200609Z
LAST-MODIFIED:20211004T200609Z
UID:171369-1633374000-1633376700@coronadotimes.com
SUMMARY:Haunted Happenings Tour
DESCRIPTION:Learn the official account of Kate Morgan’s 1892 visit to The Del and why her spirit never left in this guided ghostly tour of the resort. Walk in Kate’s footsteps as you uncover the mystery of her death\, other spirits who haunt the hotel and ghostly guest encounters. \n45 minutes | $30 per person | Ages 12+ \n 
URL:https://coronadotimes.com/event/haunted-happenings-tour/
LOCATION:Hotel del Coronado\, 1500 Orange Ave\, Coronado\, CA\, 92118\, United States
CATEGORIES:entertainment
ATTACH;FMTTYPE=image/jpeg:https://coronadotimes.com/wp-content/uploads/2021/10/Kate-Morgan-The-Del-image.jpg
END:VEVENT
BEGIN:VEVENT
DTSTART;TZID=America/Los_Angeles:20211004T190000
DTEND;TZID=America/Los_Angeles:20211004T194500
DTSTAMP:20260422T185358
CREATED:20211004T200609Z
LAST-MODIFIED:20211004T200609Z
UID:171369-1633374000-1633376700@coronadotimes.com
SUMMARY:Haunted Happenings Tour
DESCRIPTION:Learn the official account of Kate Morgan’s 1892 visit to The Del and why her spirit never left in this guided ghostly tour of the resort. Walk in Kate’s footsteps as you uncover the mystery of her death\, other spirits who haunt the hotel and ghostly guest encounters. \n45 minutes | $30 per person | Ages 12+ \n 
URL:https://coronadotimes.com/event/haunted-happenings-tour/
LOCATION:Hotel del Coronado\, 1500 Orange Ave\, Coronado\, CA\, 92118\, United States
CATEGORIES:entertainment
ATTACH;FMTTYPE=image/jpeg:https://coronadotimes.com/wp-content/uploads/2021/10/Kate-Morgan-The-Del-image.jpg
END:VEVENT
BEGIN:VEVENT
DTSTART;TZID=America/Los_Angeles:20211008T210000
DTEND;TZID=America/Los_Angeles:20211008T214500
DTSTAMP:20260422T185358
CREATED:20220925T163239Z
LAST-MODIFIED:20220925T163239Z
UID:190282-1633726800-1633729500@coronadotimes.com
SUMMARY:Haunted Happenings Tour
DESCRIPTION:Learn the official account of Kate Morgan’s 1892 visit to The Del and why her spirit never left in this guided ghostly tour of the resort. Walk in Kate’s footsteps as you uncover the mystery of her death\, other spirits who haunt the hotel and ghostly guest encounters. \n45 minutes | $30 per person | Ages 12+ \n 
URL:https://coronadotimes.com/event/haunted-happenings-tour-3/
LOCATION:Hotel del Coronado\, 1500 Orange Ave\, Coronado\, CA\, 92118\, United States
CATEGORIES:entertainment
ATTACH;FMTTYPE=image/jpeg:https://coronadotimes.com/wp-content/uploads/2021/10/Kate-Morgan-The-Del-image.jpg
END:VEVENT
BEGIN:VEVENT
DTSTART;TZID=America/Los_Angeles:20211004T190000
DTEND;TZID=America/Los_Angeles:20211004T194500
DTSTAMP:20260422T185358
CREATED:20211004T200609Z
LAST-MODIFIED:20211004T200609Z
UID:171369-1633374000-1633376700@coronadotimes.com
SUMMARY:Haunted Happenings Tour
DESCRIPTION:Learn the official account of Kate Morgan’s 1892 visit to The Del and why her spirit never left in this guided ghostly tour of the resort. Walk in Kate’s footsteps as you uncover the mystery of her death\, other spirits who haunt the hotel and ghostly guest encounters. \n45 minutes | $30 per person | Ages 12+ \n 
URL:https://coronadotimes.com/event/haunted-happenings-tour/
LOCATION:Hotel del Coronado\, 1500 Orange Ave\, Coronado\, CA\, 92118\, United States
CATEGORIES:entertainment
ATTACH;FMTTYPE=image/jpeg:https://coronadotimes.com/wp-content/uploads/2021/10/Kate-Morgan-The-Del-image.jpg
END:VEVENT
BEGIN:VEVENT
DTSTART;TZID=America/Los_Angeles:20211008T210000
DTEND;TZID=America/Los_Angeles:20211008T214500
DTSTAMP:20260422T185358
CREATED:20220925T163239Z
LAST-MODIFIED:20220925T163239Z
UID:190282-1633726800-1633729500@coronadotimes.com
SUMMARY:Haunted Happenings Tour
DESCRIPTION:Learn the official account of Kate Morgan’s 1892 visit to The Del and why her spirit never left in this guided ghostly tour of the resort. Walk in Kate’s footsteps as you uncover the mystery of her death\, other spirits who haunt the hotel and ghostly guest encounters. \n45 minutes | $30 per person | Ages 12+ \n 
URL:https://coronadotimes.com/event/haunted-happenings-tour-3/
LOCATION:Hotel del Coronado\, 1500 Orange Ave\, Coronado\, CA\, 92118\, United States
CATEGORIES:entertainment
ATTACH;FMTTYPE=image/jpeg:https://coronadotimes.com/wp-content/uploads/2021/10/Kate-Morgan-The-Del-image.jpg
END:VEVENT
BEGIN:VEVENT
DTSTART;TZID=America/Los_Angeles:20211004T190000
DTEND;TZID=America/Los_Angeles:20211004T194500
DTSTAMP:20260422T185358
CREATED:20211004T200609Z
LAST-MODIFIED:20211004T200609Z
UID:171369-1633374000-1633376700@coronadotimes.com
SUMMARY:Haunted Happenings Tour
DESCRIPTION:Learn the official account of Kate Morgan’s 1892 visit to The Del and why her spirit never left in this guided ghostly tour of the resort. Walk in Kate’s footsteps as you uncover the mystery of her death\, other spirits who haunt the hotel and ghostly guest encounters. \n45 minutes | $30 per person | Ages 12+ \n 
URL:https://coronadotimes.com/event/haunted-happenings-tour/
LOCATION:Hotel del Coronado\, 1500 Orange Ave\, Coronado\, CA\, 92118\, United States
CATEGORIES:entertainment
ATTACH;FMTTYPE=image/jpeg:https://coronadotimes.com/wp-content/uploads/2021/10/Kate-Morgan-The-Del-image.jpg
END:VEVENT
BEGIN:VEVENT
DTSTART;TZID=America/Los_Angeles:20211004T190000
DTEND;TZID=America/Los_Angeles:20211004T194500
DTSTAMP:20260422T185358
CREATED:20211004T200609Z
LAST-MODIFIED:20211004T200609Z
UID:171369-1633374000-1633376700@coronadotimes.com
SUMMARY:Haunted Happenings Tour
DESCRIPTION:Learn the official account of Kate Morgan’s 1892 visit to The Del and why her spirit never left in this guided ghostly tour of the resort. Walk in Kate’s footsteps as you uncover the mystery of her death\, other spirits who haunt the hotel and ghostly guest encounters. \n45 minutes | $30 per person | Ages 12+ \n 
URL:https://coronadotimes.com/event/haunted-happenings-tour/
LOCATION:Hotel del Coronado\, 1500 Orange Ave\, Coronado\, CA\, 92118\, United States
CATEGORIES:entertainment
ATTACH;FMTTYPE=image/jpeg:https://coronadotimes.com/wp-content/uploads/2021/10/Kate-Morgan-The-Del-image.jpg
END:VEVENT
END:VCALENDAR