BEGIN:VCALENDAR
VERSION:2.0
PRODID:-//Coronado Times - ECPv6.5.1.5//NONSGML v1.0//EN
CALSCALE:GREGORIAN
METHOD:PUBLISH
X-ORIGINAL-URL:https://coronadotimes.com
X-WR-CALDESC:Events for Coronado Times
REFRESH-INTERVAL;VALUE=DURATION:PT1H
X-Robots-Tag:noindex
X-PUBLISHED-TTL:PT1H
BEGIN:VTIMEZONE
TZID:America/Los_Angeles
BEGIN:DAYLIGHT
TZOFFSETFROM:-0800
TZOFFSETTO:-0700
TZNAME:PDT
DTSTART:20260308T100000
END:DAYLIGHT
BEGIN:STANDARD
TZOFFSETFROM:-0700
TZOFFSETTO:-0800
TZNAME:PST
DTSTART:20261101T090000
END:STANDARD
END:VTIMEZONE
BEGIN:VEVENT
DTSTART;TZID=America/Los_Angeles:20260514T173000
DTEND;TZID=America/Los_Angeles:20260514T200000
DTSTAMP:20260421T202844
CREATED:20260420T183330Z
LAST-MODIFIED:20260420T183330Z
UID:254840-1778779800-1778788800@coronadotimes.com
SUMMARY:“Flourish” fundraiser - an evening benefitting women and girls
DESCRIPTION:Soroptimist of Coronado’s first in-person fundraising event since 2019 will be an evening at Feast & Fareway showcasing an all-female musical performance by members of Lamb’s Players. For over 75 years\, the Coronado Soroptimist chapter has worked to foster opportunities for women and girls to achieve educational advancement and financial independence. The Lamb’s performers are generously sharing their talents with the community in support of this mission. The event will take place on May 14\, beginning at 5:30 pm. \nGuests will be treated to songs originated by legendary female artists of the 1960s and 1970s\, including “Beautiful” by Carole King\, “You’re So Vain” by Carly Simon\, “Respect” by Aretha Franklin\, and “Feeling Good” by Nina Simone. \nPhoto\, L to R: Sydney Joyner\, Natasha Reese\, Joy Yandell-Hall\, Angela Chatelain Avila. Courtesy photo\nKerry Meads\, the Associate Artistic Director of Lamb’s Players Theatre shared\, “We are honored to partner with Soroptimist International of Coronado for this special evening.  Celebrating the voices of iconic female artists — performed by an all-women cast — beautifully reflects Soroptimist’s mission. We hope to inspire the community to come together in support of women and girls.” \nThe Coronado Soroptimist club invites long-time supporters and all fellow community members for this festive and meaningful evening — an opportunity to connect\, celebrate\, and raise vital funds for scholarships\, grants\, and educational programs that help women and girls flourish. There will be food\, drinks\, and a silent auction. \nTo attend\, make a donation\, or  learn more about Soroptimist\, visit coronadosoroptimist.org. \nTICKETS \n 
URL:https://coronadotimes.com/event/flourish-fundraiser-an-evening-benefitting-women-and-girls/
LOCATION:Feast & Fareway\, 2000 Visalia Row\, Coronado\, CA\, 92118\, United States
CATEGORIES:entertainment,music,Philanthropy
END:VEVENT
BEGIN:VEVENT
DTSTART;VALUE=DATE:20260619
DTEND;VALUE=DATE:20260622
DTSTAMP:20260421T202844
CREATED:20260330T200701Z
LAST-MODIFIED:20260413T190550Z
UID:251819-1781827200-1782086399@coronadotimes.com
SUMMARY:NASCAR race weekend at Naval Base Coronado
DESCRIPTION:NASCAR San Diego Weekend will be a three-day racing event headlined by the stars of the Cup Series on Sunday\, along with the O’Reilly Auto Parts Series on Saturday\, and the CRAFTSMAN Truck Series on Friday \nFriday\, June 19\, 4 pm – NASCAR Craftsman Truck Series\nSaturday\, June 20\, 2 pm – NASCAR O’Reilly Auto Parts Series\nSunday\, June 21\, 1 pm – NASCAR Cup Series (Anduril 250)\nAccess to a federal military base requires a government-issued ID for U.S. citizens and a passport for foreign nationals for any guest 18 and older. Please ensure you have this with you to access NASCAR San Diego weekend. \nLEARN MORE
URL:https://coronadotimes.com/event/nascar-race-weekend-at-naval-base-coronado/
LOCATION:CA
CATEGORIES:entertainment,sports
END:VEVENT
BEGIN:VEVENT
DTSTART;TZID=America/Los_Angeles:20260619T193000
DTEND;TZID=America/Los_Angeles:20260619T193000
DTSTAMP:20260421T202844
CREATED:20260405T223059Z
LAST-MODIFIED:20260405T223059Z
UID:254309-1781897400-1781897400@coronadotimes.com
SUMMARY:CIFF screening of "Talladega Nights: The Ballad of Ricky Bobby"
DESCRIPTION:This June\, as the checkered flag goes down on the inaugural NASCAR San Diego Weekend\, the Coronado Island Film Festival (CIFF) will celebrate with a special  screening of Talladega Nights: The Ballad of Ricky Bobby (PG-13). \nThe screening will take place at the Coronado Performing Arts Center\, 650 D Avenue. Doors open at 7 pm and the film begins at 7:45 pm. General admission is $10 and  a limited number of “Pit Crew” VIP Sponsor Packages are available for $200. \n \nTICKETS ON SALE HERE
URL:https://coronadotimes.com/event/ciff-screening-of-talladega-nights-the-ballad-of-ricky-bobby/
LOCATION:Coronado Performing Arts Center\, 650 D Avenue\, Coronado\, CA\, 92118\, United States
CATEGORIES:community,entertainment,film
END:VEVENT
BEGIN:VEVENT
DTSTART;TZID=America/Los_Angeles:20260626T190000
DTEND;TZID=America/Los_Angeles:20260626T190000
DTSTAMP:20260421T202844
CREATED:20260415T022347Z
LAST-MODIFIED:20260415T022347Z
UID:254705-1782500400-1782500400@coronadotimes.com
SUMMARY:Coronado Island Film Festival presents Movie on the Beach: "Dirty Dancing"
DESCRIPTION:The Coronado Island Film Festival invites guests to step into the summer of 1963 on Friday\, June 26\, for its annual Movie on the Beach fundraiser — this year featuring the classic Dirty Dancing\, presented under the stars on the Coronado shoreline. \n \nWith the Hotel del Coronado as the backdrop\, the evening will transform the beach into a nostalgic coastal homage to Kellerman’s Mountain House in the Catskills. As the sun sets over the Pacific\, guests will be welcomed by glowing bonfires\, ocean breezes\, and the nostalgic soundtrack that will have you “Swayzing” as DJ Trisha Lynn and Marilyn Klisser of Club Coronado bring some heat to the sand. \nBeach chairs will be provided\, and guests are encouraged to bring blankets or jackets as the night may get chilly when the evening breeze rolls in. With a themed cocktail in hand and feet in the sand\, attendees can settle in for a unique cinematic experience. \nFor those seeking an elevated experience\, a limited number of exclusive fire pit lounges are available. Each includes a private fire pit\, seating for up to six guests\, a double-wide chaise lounge\, and a bespoke gift\, offering an intimate way to experience the evening. \nMovie on the Beach serves as a critical fundraiser supporting CIFF’s mission\, year-round outreach\, and cultural programming. \n“Year after year\, our movie on the beach — made possible by the Hotel del Coronado — grows into something more spectacular than the last\,” said Merridee Book\, CEO & Artistic Director\, Coronado Island Film Festival. “And yet the heart of this gathering has never been about the spectacle. It is about what happens when a community comes together around something it loves — and chooses to invest in it. The funds raised sustain our five-day festival and the free educational programming that reaches students\, emerging filmmakers\, and film lovers throughout the year. This is cinematic magic with real\, lasting impact.” \nTICKETS \nSponsorship opportunities are available for this event. Contact Jon Book at  sponsorship@coronadofilm.com.
URL:https://coronadotimes.com/event/coronado-island-film-festival-presents-movie-on-the-beach-dirty-dancing/
LOCATION:Hotel Del Beach
CATEGORIES:community,entertainment,film
END:VEVENT
BEGIN:VEVENT
DTSTART;VALUE=DATE:20260912
DTEND;VALUE=DATE:20260913
DTSTAMP:20260421T202844
CREATED:20260324T234809Z
LAST-MODIFIED:20260324T234809Z
UID:253917-1789171200-1789257599@coronadotimes.com
SUMMARY:CSF Gala at The Del
DESCRIPTION:
URL:https://coronadotimes.com/event/csf-gala-at-the-del/
LOCATION:Hotel del Coronado\, 1500 Orange Ave\, Coronado\, CA\, 92118\, United States
CATEGORIES:community,education,entertainment,food and drink
END:VEVENT
END:VCALENDAR