BEGIN:VCALENDAR
VERSION:2.0
PRODID:-//Coronado Times - ECPv6.5.1.5//NONSGML v1.0//EN
CALSCALE:GREGORIAN
METHOD:PUBLISH
X-WR-CALNAME:Coronado Times
X-ORIGINAL-URL:https://coronadotimes.com
X-WR-CALDESC:Events for Coronado Times
REFRESH-INTERVAL;VALUE=DURATION:PT1H
X-Robots-Tag:noindex
X-PUBLISHED-TTL:PT1H
BEGIN:VTIMEZONE
TZID:America/Los_Angeles
BEGIN:DAYLIGHT
TZOFFSETFROM:-0800
TZOFFSETTO:-0700
TZNAME:PDT
DTSTART:20260308T100000
END:DAYLIGHT
BEGIN:STANDARD
TZOFFSETFROM:-0700
TZOFFSETTO:-0800
TZNAME:PST
DTSTART:20261101T090000
END:STANDARD
END:VTIMEZONE
BEGIN:VEVENT
DTSTART;TZID=America/Los_Angeles:20260501T130000
DTEND;TZID=America/Los_Angeles:20260501T140000
DTSTAMP:20260425T133815
CREATED:20260417T035913Z
LAST-MODIFIED:20260417T035913Z
UID:254557-1777640400-1777644000@coronadotimes.com
SUMMARY:Trio Aquarelle Concert
DESCRIPTION:Trio Aquarelle takes its name from Philippe Gaubert’s luminous Trois Aquarelles — three musical watercolors painted in sound for flute\, cello\, and piano. Like watercolor itself\, this rare and intimate instrumentation can shimmer with brilliance one moment and breathe with quiet tenderness the next. \nFormed by three musicians whose roots span different corners of the world\, Trio Aquarelle brings a richly layered perspective to the chamber music stage. Elena Yarritu\, of Japanese and Mexican descent\, holds advanced degrees from Yale University and Stony Brook University\, has studied and concertized throughout Europe\, and performed at Carnegie Hall’s Weill Recital Hall — her recordings on MSR Classics have been hailed as “fearsome and adventurous” and “jubilantly virtuosic.” Daniel Grab brings a globe-spanning energy to the ensemble — at home as principal cellist in Southern California concert halls and each summer on faculty at the Burgos International Music Festival in Spain. When not on stage\, he can be found exploring the Southern California coastline in search of uncrowded waves\, occasionally with a cello student in tow. Cho-Hyun Park\, a native of South Korea\, holds a Doctor of Musical Arts degree from the University of Texas at Austin and took first prize at the Bartók-Kabalevsky-Prokofiev International Piano Competition in Italy\, a distinction that led to her Carnegie Hall debut in 2015. Together\, they move fluidly across a wide expressive range\, from high-spirited virtuosity to moments of the most sublime lyricism — and it is precisely this diversity of background\, temperament\, and training that gives the ensemble its distinctive spark. \nCentral to Trio Aquarelle’s mission is a commitment to music that tells a fuller story. The ensemble actively champions works by women composers across the ages\, believing that great music has always existed in more voices than history has acknowledged. They are passionate about bringing newly discovered and rarely heard works to light\, programming them alongside the beloved standards audiences know and love — creating concerts that feel both like a homecoming and an adventure. \nTrio Aquarelle invites you into their world — one where music transcends the familiar\, carries you somewhere unexpected\, and stays with you long after the last note fades.
URL:https://coronadotimes.com/event/trio-aquarelle-concert/
LOCATION:Coronado Public Library\, 640 Orange Ave\, Coronado\, CA\, 92118\, United States
CATEGORIES:community,entertainment,music
END:VEVENT
BEGIN:VEVENT
DTSTART;TZID=America/Los_Angeles:20260501T143000
DTEND;TZID=America/Los_Angeles:20260501T143000
DTSTAMP:20260425T133815
CREATED:20260420T182222Z
LAST-MODIFIED:20260420T182222Z
UID:254834-1777645800-1777645800@coronadotimes.com
SUMMARY:Double Served Tennis Tournament
DESCRIPTION:The Coronado Junior Woman’s Club’s (CJWC) sixth annual “Double Served” Tennis Tournament will be held on May 1 (doors open at 2:30) at the Coronado Tennis Center. \nThe event draws both competitive and casual players\, local food lovers\, and supporters of a worthy cause. This year’s tournament experience offers expanded play\, local restaurant samplings\, raffle prizes\, and a high-energy atmosphere that brings the Coronado community together. \nPlayers can expect exciting tennis matches surrounded by creative team names and some of the most entertaining on-court outfits around. Spectators join in the fun with food from local restaurants\, drinks\, music\, raffles\, and a silent auction — all included with a $53.74 ticket. \n“We’ve seen this event grow every year\, and we’re expecting our biggest turnout yet\,” said Lyle Anderson\, Chair of the Double Served Tournament. “Whether you’re competing\, cheering\, or just coming for the food and fun\, it’s a great way to support Coronado and give back.” \nTicket Information\nTeam Registration (2 players): $184.74 \nSpectator Tickets: $53.74 – Includes access to all the food\, drinks\, and festivities \nProceeds benefit Safe Harbor Coronado\, a nonprofit supporting the mental health and emotional well-being of local youth and families\, as well as ongoing philanthropic work of CJWC\, a 501(c)(3) organization serving Coronado since 1960. \nTickets are limited and expected to sell out. \nLEARN MORE HERE \nPURCHASE TICKETS HERE
URL:https://coronadotimes.com/event/double-served-tennis-tournament/
LOCATION:Coronado Tennis Center\, 1501 Glorietta Boulevard\, Coronado\, CA\, 92118\, United States
CATEGORIES:community,entertainment,sports
END:VEVENT
BEGIN:VEVENT
DTSTART;TZID=America/Los_Angeles:20260501T200000
DTEND;TZID=America/Los_Angeles:20260501T200000
DTSTAMP:20260425T133815
CREATED:20260325T002319Z
LAST-MODIFIED:20260325T002319Z
UID:253941-1777665600-1777665600@coronadotimes.com
SUMMARY:Movies on the Beach: "Forrest Gump" (1994)
DESCRIPTION:Snuggle up on Del Beach for favorite family movies and cult classics in a theater under the stars. Guests can cuddle up around a private bonfire with s’mores and relax in a beach daybed or enjoy seating in Del Beach sand chairs. \n \nGeneral Admission:\nEnjoy the movie from a comfortable Del Beach sand chair. \nRoast Family Movie Package:\nIncluding sand chairs\, a beach bonfire\, s’mores\, and tickets for up to six people. \nRoast Bonfire Package with Beach Daybed:\nIncluding a Del Beach daybed\, sand chairs\, a beach bonfire\, unlimited s’mores\, and tickets for up to six people. \nUpcoming Schedule:\nFriday\, May 1 – 8:00PM\nForrest Gump (1994)
URL:https://coronadotimes.com/event/movies-on-the-beach-forrest-gump-1994/
LOCATION:Hotel del Coronado\, 1500 Orange Ave\, Coronado\, CA\, 92118\, United States
CATEGORIES:community,entertainment,family,film
END:VEVENT
END:VCALENDAR