BEGIN:VCALENDAR
VERSION:2.0
PRODID:-//Coronado Times - ECPv6.5.1.5//NONSGML v1.0//EN
CALSCALE:GREGORIAN
METHOD:PUBLISH
X-ORIGINAL-URL:https://coronadotimes.com
X-WR-CALDESC:Events for Coronado Times
REFRESH-INTERVAL;VALUE=DURATION:PT1H
X-Robots-Tag:noindex
X-PUBLISHED-TTL:PT1H
BEGIN:VTIMEZONE
TZID:America/Los_Angeles
BEGIN:DAYLIGHT
TZOFFSETFROM:-0800
TZOFFSETTO:-0700
TZNAME:PDT
DTSTART:20260308T100000
END:DAYLIGHT
BEGIN:STANDARD
TZOFFSETFROM:-0700
TZOFFSETTO:-0800
TZNAME:PST
DTSTART:20261101T090000
END:STANDARD
END:VTIMEZONE
BEGIN:VEVENT
DTSTART;TZID=America/Los_Angeles:20260306T080000
DTEND;TZID=America/Los_Angeles:20260306T170000
DTSTAMP:20260419T172355
CREATED:20260306T160624Z
LAST-MODIFIED:20260306T160624Z
UID:253324-1772784000-1772816400@coronadotimes.com
SUMMARY:Wine & Lecture: Rooted in History\, The Coronado Flower Show's Century of Blooms
DESCRIPTION:On Thursday\, March 19\, the Coronado Historical Association invites you to explore the vibrant legacy of the Coronado Flower Show at its Wine & Lecture installment\, “Rooted in History: The Coronado Flower Show’s Century of Blooms.” \nThe event begins with a wine and cheese reception at 5:30 pm\, followed by the panel discussion from 6 to 7 pm at the Coronado Historical Association\, located at 1100 Orange Avenue. Tickets are $15 for CHA or Coronado Floral Association members and $20 for non-members. Because capacity is limited and reservations are required\, guests are encouraged to register early at coronadohistory.org. For questions\, please contact info@coronadohistory.org or call 619-435-7242. \n  \nLEARN MORE HERE: \nRooted in history: Celebrating a century of the Coronado Flower Show \n \n 
URL:https://coronadotimes.com/event/wine-lecture-rooted-in-history-the-coronado-flower-shows-century-of-blooms/
LOCATION:CA
CATEGORIES:community,education,history,lecture
END:VEVENT
BEGIN:VEVENT
DTSTART;TZID=America/Los_Angeles:20260307T100000
DTEND;TZID=America/Los_Angeles:20260307T170000
DTSTAMP:20260419T172355
CREATED:20260224T204803Z
LAST-MODIFIED:20260224T204803Z
UID:253023-1772877600-1772902800@coronadotimes.com
SUMMARY:San Diego Festival of Science & Engineering
DESCRIPTION:More than 100+ activities\, performances are planned for this free event on Saturday\, March 7. \n \nThe San Diego Festival of Science & Engineering will be held on Saturday\, March 7\, 10 am-5 pm at Petco Park\, and will be a full day of science\, technology\, engineering\, arts\, and math (STEAM) fun provided by hundreds of San Diego area businesses\, schools\, libraries\, and museums. Admission is free and open to the public\, no registration is required. A clear bag policy will also be in effect. \n\n			\n				\n			\n			\n				\n			\n			\n				\n			\n			\n				\n			\n		\n\nThis year’s event is presented by Illumina Corporate Foundation and more than 20\,000 people are expected. Featured areas include: \n\nCollege and Career Connections: This will foster awareness and create meaningful connections for local middle and high school students who will have the opportunity to meet with over 20 higher education and industry partners\, including San Diego State University. There will be two panels: at 11 am and 2 pm.\nThe Art Pavilion: Back by popular demand\, The Madhatters return to teach attendees how to knit baby caps that will be donated to the local children’s hospital. Students and community groups will showcase their creative expressions infusing the STEM experience with artistic flair. This exciting new space will encapsulate the powerful synergy between science\, technology\, engineering\, arts\, and mathematics.\nTeacher Workshops: The ScienceBridge Enzyme Lab will take place between 11 am and 1 pm and is for educators with students in the 9th-12th grade. The Algae Academy is appropriate for any K-12 teacher\, and will be held from 2-4 pm.\n\nSara Pagano\, Executive Director of the San Diego Festival of Science & Engineering\, says\, “The festival aims to make STEAM learning enjoyable for all ages\, from pre-K to gray. The event highlights San Diego’s leadership and innovation in science\, technology and engineering fields and simplifies complex subjects for everyone.” \nThere will be dozens of returning hands-on learning experiences\, interactive activities\, and experiments to inspire kids (and kids at heart!) to engage in all things STEAM. \nTwo main stages will offer a variety of performances including math raps sung by The Music Notes\, a High-Temperature Fusion show from General Atomics\, an SD Mad Science-Fire & Ice performance\, Fleet Science Center’s spectacle: Don’t Try This at Home\, and EcoVivarium’s ‘Reptiles\, Amphibians\, and Bugs\, Oh Why?’ \nADDITIONAL ON-SITE ACTIVITIES INCLUDE: \n\nDNA fun and genomics education with Illumina Corporate Foundation\nThe pre-K zone is filled with engaging activities for little learners\nVirtual reality experiences\nRockets and explosions with General Atomics\nMake slime\, learn about underwater sea life\, play with robots\, watch a drone show and more!\n\nThe San Diego Festival of Science and Engineering’s mission is to engage kids in science and engineering. By doing this\, the organization expands the general public’s understanding of the relevancy of science and engineering in everyday lives\, illuminates why the United States must maintain its leadership role in science and technology\, and work with parents and teachers to inspire today’s students to become tomorrow’s science\, technology\, engineering\, arts and mathematical (STEAM) innovators.
URL:https://coronadotimes.com/event/san-diego-festival-of-science-engineering/
LOCATION:Petco Park\, 100 Park Boulevard\, San Diego\, CA\, 92101\, United States
CATEGORIES:education,family,kids,teens
END:VEVENT
BEGIN:VEVENT
DTSTART;TZID=America/Los_Angeles:20260309T180000
DTEND;TZID=America/Los_Angeles:20260309T200000
DTSTAMP:20260419T172355
CREATED:20260306T160045Z
LAST-MODIFIED:20260306T160045Z
UID:253249-1773079200-1773086400@coronadotimes.com
SUMMARY:College List Masterclass: Finding your best-fit schools
DESCRIPTION:Get ready for your college visits with this strategic workshop. \nStop guessing. Start strategizing. \nJoin Eva Goetze\, Founder of College Advising Boutique\, for a high-octane workshop designed to transform college stress into a sophisticated roadmap. This isn’t just a presentation — it’s a strategic planning session. \nIn this “Power Hour\,” families will: \n\nCurate an Elite List: Learn to align ambitious academic goals with the current admissions landscape.\nThe 76% Rule: Use our signature Diversity & Culture metric to identify where students will actually thrive.\nTour Like a Pro: Master the “Audit Method” for upcoming spring college visits.\nThe Bonus: Every student receives a Personalized College Scorecard to rank and track their top-tier schools in real-time.\n\nStick around after the presentation for a chance to chat with your peers and get your questions answered. \nAbout the presenter: Eva Goetze | Founder\, College Advising Boutique \nSpecialized in students in grades 8–10\, Ms. G. transforms admissions into a strategic\, stress-free roadmap. A former COO\, she brings executive precision to her niche: integrating high-value internships and career matching with the college search. Over 18 years\, Eva has guided 2\,000+ students into elite institutions like Yale\, Duke\, Rice\, and USC. A leader in the Coronado and San Diego communities and a member of the Coronado Chamber\, she provides personalized 1:1 consulting — in-person and virtually. Her methodology allows parents to just be parents by handling the strategy and accountability\, ensuring the journey remains fun and focused on results.
URL:https://coronadotimes.com/event/college-list-masterclass-finding-your-best-fit-schools/
LOCATION:Coronado Public Library\, 640 Orange Ave\, Coronado\, CA\, 92118\, United States
CATEGORIES:education,teens,workshop
END:VEVENT
BEGIN:VEVENT
DTSTART;VALUE=DATE:20260311
DTEND;VALUE=DATE:20260615
DTSTAMP:20260419T172355
CREATED:20260316T221203Z
LAST-MODIFIED:20260317T004745Z
UID:253562-1773187200-1781481599@coronadotimes.com
SUMMARY:A Century of Service: 100 years of the Rotary Club of Coronado
DESCRIPTION:On view through June 14\nCelebrate a century of community impact. Since 1926\, Coronado Rotarians have lived by the motto “Service Above Self\,” shaping the spirit of Coronado island and improving lives across the globe. \nThis landmark Centennial exhibit offers an exclusive look into the Rotary Club’s storied history\, featuring never-before-seen photographs\, artifacts\, and personal stories. The exhibit highlights the decades-long partnership between Rotary and the Coronado Historical Association (CHA)\, a collaboration that was formalized in 2024 when CHA was designated as the official repository for the club’s historical records. By moving these treasures from private garages into CHA’s professional archives\, 100 years of “Service Above Self” is protected and accessible for generations to come. \nThe archives and artifacts in the exhibit show how a century of dedication has nurtured the civic and cultural fabric of Coronado\, from local youth programs to international humanitarian efforts. See why the Rotary Club remains a cornerstone of our community.
URL:https://coronadotimes.com/event/a-century-of-service-100-years-of-the-rotary-club-of-coronado/
LOCATION:1000 Orange Ave\, 1000 Orange Ave\, Coronado\, CA\, 92118\, United States
CATEGORIES:community,education,history
END:VEVENT
BEGIN:VEVENT
DTSTART;TZID=America/Los_Angeles:20260319T173000
DTEND;TZID=America/Los_Angeles:20260319T190000
DTSTAMP:20260419T172355
CREATED:20260123T215639Z
LAST-MODIFIED:20260319T185711Z
UID:250239-1773941400-1773946800@coronadotimes.com
SUMMARY:SOLD OUT Wine & Lecture: Rooted in History
DESCRIPTION:The event is sold out. \n\nThe Coronado Historical Association invites you to join us for this month’s installment of the popular Wine & Lecture Series on Thursday\, March 19. Rooted in History: The Coronado Flower Show’s Century of Blooms will dive into the vibrant history of the Flower Show\, a community tradition spanning over 100 years. Join our panel of organizers as they share personal stories\, behind-the-scenes insights\, and the show‘s evolution from a village event to a cherished community centerpiece. \nJoin us for a wine & cheese reception at 5:30 pm\, followed by the panel discussion from 6 to 7 pm. \nTickets are available now on our website. \n\nMember: $15.00\nNon-Member: $20.00\n\nImportant Registration Information: Capacity is limited and reservations are required. No walk-ins will be admitted. \nIf you have any questions\, please email info@coronadohistory.org or call 619-435-7242. \nHarold Taylor Slide 116. Coronado Historical Association.
URL:https://coronadotimes.com/event/wine-lecture-rooted-in-history/
LOCATION:1000 Orange Ave\, 1000 Orange Ave\, Coronado\, CA\, 92118\, United States
CATEGORIES:education,history
END:VEVENT
BEGIN:VEVENT
DTSTART;TZID=America/Los_Angeles:20260319T173000
DTEND;TZID=America/Los_Angeles:20260319T193000
DTSTAMP:20260419T172355
CREATED:20260317T003614Z
LAST-MODIFIED:20260317T003614Z
UID:253693-1773941400-1773948600@coronadotimes.com
SUMMARY:Flower Show Workshop – Learn how to enter
DESCRIPTION:At the Friends and Flowers event on Thursday\, March 19\, attendees will get an overview of the 2026 Coronado Flower Show (April 18-19) with its “Welcome to the Jungle” theme. \nFeaturing the Section Chairs for Cactus and Succulents\, this presentation will provide information from the Horticulture Division of the Flower Show. You will learn how to enter the various categories at the annual show for which you might just bring home a coveted blue ribbon. \nAll are welcome to this informative workshop in the Winn Room at the Coronado Library\, 5:30-7 pm\, on Thursday evening. \nThe Coronado Flower Show art was created by Gina Falletta design. This is Falletta’s fourth year creating the show’s art.
URL:https://coronadotimes.com/event/flower-show-workshop-learn-how-to-enter/
LOCATION:Winn Room\, Coronado Public Library\, 640 Orange Ave\, Coronado\, CA\, 92118\, United States
CATEGORIES:community,education,workshop
END:VEVENT
BEGIN:VEVENT
DTSTART;TZID=America/Los_Angeles:20260321T100000
DTEND;TZID=America/Los_Angeles:20260321T170000
DTSTAMP:20260419T172355
CREATED:20260302T024358Z
LAST-MODIFIED:20260302T024358Z
UID:253107-1774087200-1774112400@coronadotimes.com
SUMMARY:San Diego Storytelling Festival
DESCRIPTION:Storytelling Festival Returns to the Coronado Public Library  \n \nHead over the Coronado Bridge for the San Diego Storytelling Festival as it returns to the Coronado Public Library on Saturday\, March 21. This year’s theme\, “Light in the Dark\,” invites audiences to explore stories that illuminate hope and resilience through a full day of free performances\, workshops\, and interactive experiences.  \nThe festival opens at 10 am with Light in the Dark\, featuring local and visiting storytellers sharing folktales\, history\, and personal narratives inspired by the international theme  At 11 am\, audiences can choose between Sea to Shining Sea\, celebrating America’s 250th birthday through stories from coast to coast\, and Good Craic: Irish Stories and Music\, where twice All-Ireland storytelling champion Mairtín de Cógáin brings the lively Irish seanchaí tradition to life with wit and charm.  \nThe day will also include a special workshop with Grammy winner Adam Mellema\, who will share his “secret sauce” for gathering and preserving family stories. In the afternoon\, Deidra Davis will create a live art installation with stories during A Community Tree\, while Darci Tucker’s dynamic first-person portrayal in Revolutionary Women offers a vivid look at colonial America.  \nThe day also features Out Loud: Teen Voices\, showcasing student storytellers from Morse High School\, and a Story Circle/Open Mic where community members are invited to share short\, heartfelt stories of their own. The festival concludes with Voices at the Water’s Edge\, an inspiring celebration of personal and traditional stories designed to send audiences home with new stories\, good memories\, and light in the dark.   \nHosted in partnership with Storytellers of San Diego\, which has brought oral storytelling to the region for more than 40 years\, the festival is free and open to the public. Attendees are welcome to join for one event or stay for the day to experience storytelling in its oldest and most vibrant form. Learn more at coronadolibrary.org.
URL:https://coronadotimes.com/event/san-diego-storytelling-festival-3/
LOCATION:Coronado Public Library\, 640 Orange Ave\, Coronado\, CA\, 92118\, United States
CATEGORIES:books,community,education,entertainment,workshop
END:VEVENT
BEGIN:VEVENT
DTSTART;VALUE=DATE:20260326
DTEND;VALUE=DATE:20260914
DTSTAMP:20260419T172355
CREATED:20260328T233059Z
LAST-MODIFIED:20260402T181114Z
UID:254045-1774483200-1789343999@coronadotimes.com
SUMMARY:The Green of West Plaza: 90+ Years of the Coronado Lawn Bowling Club
DESCRIPTION:On view through September 13 \nThe Green of West Plaza: 90+ Years of The Coronado Lawn Bowling Club celebrates over 90 years of the Coronado Lawn Bowling Club (CLBC) with an emphasis on its history\, community involvement\, and contribution to the sport of lawn bowling. The bilingual English/Spanish exhibit features trophies and medals won by members of the CLBC\, highlighting the skill and sportsmanship that women and men have excelled at both on a national and international level. \nTo complement the successes of the club\, the exhibit explains the game of lawn bowls along with the equipment used. Very little equipment is necessary to play bowls\, making it an accessible sport for all demographics. Lawn bowling is one of the few sports that allows women and men to compete together on an equal platform regardless of age. \n 
URL:https://coronadotimes.com/event/the-green-of-west-plaza-90-years-of-the-coronado-lawn-bowling-club/
LOCATION:1000 Orange Ave\, 1000 Orange Ave\, Coronado\, CA\, 92118\, United States
CATEGORIES:community,education,history
END:VEVENT
BEGIN:VEVENT
DTSTART;TZID=America/Los_Angeles:20260328T090000
DTEND;TZID=America/Los_Angeles:20260328T180000
DTSTAMP:20260419T172355
CREATED:20260219T040345Z
LAST-MODIFIED:20260326T202834Z
UID:252842-1774688400-1774720800@coronadotimes.com
SUMMARY:San Diego Writers Festival
DESCRIPTION:The San Diego Writers Festival is a free\, community-based event designed to celebrate the power of writing and storytelling.  \nStories transform both the teller and the listener. In whatever form you welcome a story into your life—by reading a memoir or graphic novel\, listening to a podcast or a poetry reading\, watching a movie or play or going to the theater—stories are our pathways\, our links\, our bridges to one another. \nAt the San Diego Writers Festival\, we ask two important questions: What if there was a place where all stories could be nurtured and heard? What if we opened up our community to stories from those who have been under-served\, disenfranchised\, or neglected? \nWe invite you to join us on our mission to hear one another\, be educated and illuminated by one another\, and inspired by one another—one story at a time. \nJodi Picoult headlines 7th annual San Diego Writers Festival in Coronado
URL:https://coronadotimes.com/event/san-diego-writers-festival-3/
LOCATION:Coronado Public Library\, 640 Orange Ave\, Coronado\, CA\, 92118\, United States
CATEGORIES:books,community,education,entertainment
END:VEVENT
END:VCALENDAR