BEGIN:VCALENDAR
VERSION:2.0
PRODID:-//Coronado Times - ECPv6.5.1.5//NONSGML v1.0//EN
CALSCALE:GREGORIAN
METHOD:PUBLISH
X-WR-CALNAME:Coronado Times
X-ORIGINAL-URL:https://coronadotimes.com
X-WR-CALDESC:Events for Coronado Times
REFRESH-INTERVAL;VALUE=DURATION:PT1H
X-Robots-Tag:noindex
X-PUBLISHED-TTL:PT1H
BEGIN:VTIMEZONE
TZID:America/Los_Angeles
BEGIN:DAYLIGHT
TZOFFSETFROM:-0800
TZOFFSETTO:-0700
TZNAME:PDT
DTSTART:20260308T100000
END:DAYLIGHT
BEGIN:STANDARD
TZOFFSETFROM:-0700
TZOFFSETTO:-0800
TZNAME:PST
DTSTART:20261101T090000
END:STANDARD
END:VTIMEZONE
BEGIN:VEVENT
DTSTART;TZID=America/Los_Angeles:20260208T100000
DTEND;TZID=America/Los_Angeles:20260208T110000
DTSTAMP:20260419T122416
CREATED:20260205T063448Z
LAST-MODIFIED:20260205T063448Z
UID:251619-1770544800-1770548400@coronadotimes.com
SUMMARY:Chanoyu Japanese Tea Ceremony
DESCRIPTION:Experience a moment of tranquility and tradition at a Japanese tea ceremony (Chado) presented by Sokei\, Morita\, certified and experienced tea master. She has been practicing Chado for 18 years with the intention of bringing piece of mind\, which is a universal human desire. Join us for a formal tea preparation where we will honor the principles of harmony\, respect\, purity\, and tranquility. ​ \nEvent includes: \n\n\n\n\nDemonstration \n\n\nMatcha and sweets  \n\n\nLecture: History of tea\, The spirit and philosophy of chanoyu\, Seasonality\, concept of hospitality \n\n\n\nNumber of guests: 5 (maximum)\n\nPrice: $75 per person
URL:https://coronadotimes.com/event/chanoyu-japanese-tea-ceremony/
LOCATION:Choose Healthy\, 171 C Avenue\, Coronado\, CA\, 92118\, United States
CATEGORIES:art,education,health
END:VEVENT
BEGIN:VEVENT
DTSTART;VALUE=DATE:20260219
DTEND;VALUE=DATE:20260220
DTSTAMP:20260419T122416
CREATED:20260212T043323Z
LAST-MODIFIED:20260219T015830Z
UID:251811-1771459200-1771545599@coronadotimes.com
SUMMARY:CSF Day of Giving
DESCRIPTION:The Coronado Schools Foundation (CSF) is proud to announce the return of CSF Day of Giving (AKA the new Telethon) on Thursday\, February 19 — a 24-hour community-wide event dedicated to supporting the programs that make Coronado schools exceptional. This annual celebration of generosity invites residents\, families\, alumni\, and local businesses to give big…and win big too! \n  \nThis year’s event features an exciting new lineup of donor challenges and exclusive prize drawings to inspire participation and amplify community impact. Donors will have the chance to win amazing prize packages including: \n\nA two-night stay at The Bower plus a $100 dining credit to DIVE Rooftop\nA Kona Ice Party for 20 — the coolest party in town\nA two-night stay at Loews Coronado Bay Resort with breakfast for two at Crown Landing\nA curated prize package from Emerald City Surf Shop valued at $500\nA two-night stay at Coronado Island Marriott Resort & Spa plus a $100 gift card to The Henry\nA brand new e-bike from Holland’s Bicycles\n\nFor every $100 donated\, supporters will receive one entry toward the prize drawing of their choice. Donate early and pick the prize of your choice. \nCoronado Schools Foundation is committed to building momentum and excitement for our students. Follow along with us on Feb. 19 for special donor prizes\, including rewards for the first donor\, the first recurring donor\, the first $250 donation\, and many more. We’ll be giving away fantastic prizes including F45 passes\, Sweet Soles gift certificates\, San Diego Zoo & Safari Park passes\, plus additional surprises throughout the day. \nCSF Day of Giving fuels STEM & Arts programs not covered by traditional school funding\, including fine arts\, music\, coding\, robotics\, and hands-on science. Every contribution directly strengthens student learning\, sparks creativity\, and expands access to innovative curriculum-enhancing experiences. Join us\, support our students\, and celebrate with a little fun along the way! \nTo donate or learn more\, visit csfkids.org or follow along with the fun on Instagram at csfkids. \n \n\nA huge thank you to the event sponsors including Mullins Orthodontics\, Hotel del Coronado\, F45\, Dr. Stephen Dao of Coronado Family Dental\, Garage Buona Forchetta\, Kory Kavanewsky of CMG Home Loans\, IB Pet\, Island Integrative Health\, Blanco Cocina & Cantina\, Clayton’s\, Singleton & Schreiber\, Elevate Wellness\, Emerald City Surf Shop\, Nicolls Design + Build\, The Henry\, Holland’s Bicycles\, Loews Coronado Bay Resort\, Coronado Island Marriott\, The Bower\, Kona Ice\, Crown City Magazine\, Golden Flutter Photography\, Spiro’s Mediterranean Cuisine\, & Coastal Carts RMV.\n 
URL:https://coronadotimes.com/event/csf-day-of-giving-4/
LOCATION:CA
CATEGORIES:community,education,Philanthropy
ATTACH;FMTTYPE=image/jpeg:https://coronadotimes.com/wp-content/uploads/2026/02/Day-of-Giving-2026-feature.jpg
END:VEVENT
BEGIN:VEVENT
DTSTART;TZID=America/Los_Angeles:20260219T173000
DTEND;TZID=America/Los_Angeles:20260219T190000
DTSTAMP:20260419T122416
CREATED:20260123T214904Z
LAST-MODIFIED:20260219T170559Z
UID:250237-1771522200-1771527600@coronadotimes.com
SUMMARY:Wine & Lecture: Ellen Browning Scripps - SOLD OUT
DESCRIPTION:SOLD OUT \n\nThe Coronado Historical Association invites you to join us for this month’s installment of the popular Wine & Lecture Series on Thursday\, February 19. Enjoy a captivating evening with a fascinating look into the life and legacy of Ellen Browning Scripps (1836–1932) — the celebrated philanthropist who appeared on the cover of Time Magazine in 1926 after giving away the equivalent of $100 million to institutions such as the Scripps Institution of Oceanography\, Scripps Memorial Hospital\, and Scripps College. \nThis engaging lecture will explore Scripps’s remarkable career as a journalist\, her lifelong dedication to social advocacy\, and the pivotal role she played in shaping modern philanthropy. We will also highlight the broader legacy of women in philanthropy — a powerful tradition of leadership that continues today. \nJoin us for a wine & cheese reception at 5:30 pm\, followed by the lecture from 6 to 7 pm. \nTickets are available now on our website. \n\nMember: $15.00\nNon-Member: $20.00\n\nImportant Registration Information: Reservations are required. Please be aware that tickets for the wine & lecture events are nonrefundable\, as proceeds support our educational mission. \nIf you have any questions\, please email info@coronadohistory.org or call 619-435-7242. \nPurchase the book through the University of Nebraska Press by clicking the image below: \n \n \nAbout the Speaker\nMolly McClain (PhD\, Yale) is a professor of history at the University of San Diego. Her academic honors include USD’s distinguished University Professorship and the Davies Award for Faculty Achievement. A ninth-generation San Diegan\, she is the author of four books and numerous articles\, including Ellen Browning Scripps: New Money and American Philanthropy (2017). An editor of The Journal of San Diego History for over a decade\, she encouraged writers to explore the region’s fascinating and understudied past. McClain has worked on a variety of public history projects\, including the successful designation of the La Jolla Park Coastal Historic District to the National Register of Historic Places in 2024. She is a former board member of the La Jolla Historical Society.
URL:https://coronadotimes.com/event/wine-lecture-ellen-browning-scripps/
LOCATION:1000 Orange Ave\, 1000 Orange Ave\, Coronado\, CA\, 92118\, United States
CATEGORIES:education,lecture
END:VEVENT
BEGIN:VEVENT
DTSTART;TZID=America/Los_Angeles:20260223T173000
DTEND;TZID=America/Los_Angeles:20260223T173000
DTSTAMP:20260419T122416
CREATED:20260210T015139Z
LAST-MODIFIED:20260210T202437Z
UID:251754-1771867800-1771867800@coronadotimes.com
SUMMARY:Soroptimist program on human trafficking awareness and prevention
DESCRIPTION:Children as young as eight years-old can fall victim to trafficking\, and the average age is just thirteen. Trafficking has been reported in all schools in San Diego\, and it happens in plain sight. The Center for Justice & Reconciliation at Point Loma Nazarene University (PLNU) is fighting this attack on our youth with an outreach program showcasing in San Diego middle and high schools. Students in grades six through twelve learn to recognize grooming tactics and hear about practical tools designed to protect themselves and their peers from exploitation. Coronado Soroptimist invite middle/high school students and their families\, CUSD faculty\, as well as all interested community members to attend this important information session on Monday\, Feb. 23 at 5:30 pm in the Winn Room. \nPLNU’s outreach program\, kNOwMORE\, is a drama-based and student-centered human trafficking awareness and prevention curriculum grounded in the latest sex trafficking research in San Diego and developed in collaboration with leading experts. The main vehicle for presenting this information is a film that will be shared with attendees. The film features actors portraying various at-risk situations before participating in a follow-up panel discussion. \nEbony Robinson\, kNOwMORE’s program manager and a survivor of exploitation herself\, will be the evening’s speaker. She is a leader in the field of assisting survivors of trafficking with over ten years of experience in a number of different settings\, including schools\, the juvenile justice system\, and survivor transition programs. \n \nPlease join the Soroptimists as they seek to strengthen our community’s awareness and expand understanding of the tools needed to protect local youth from the consequences of trafficking in the San Diego area. \nkNOwMORE website link \nCoronado Soroptimist
URL:https://coronadotimes.com/event/soroptimist-program-on-human-trafficking-awareness-and-prevention/
LOCATION:Winn Room\, Coronado Public Library\, 640 Orange Ave\, Coronado\, CA\, 92118\, United States
CATEGORIES:education,film,lecture
END:VEVENT
BEGIN:VEVENT
DTSTART;TZID=America/Los_Angeles:20260226T100000
DTEND;TZID=America/Los_Angeles:20260226T113000
DTSTAMP:20260419T122416
CREATED:20260128T210456Z
LAST-MODIFIED:20260216T043317Z
UID:251191-1772100000-1772105400@coronadotimes.com
SUMMARY:Small Changes\, Big Impact: Electrification That Fits Your Home
DESCRIPTION:Join Emerald Keepers for a free talk at the Coronado Spreckels Center’s Activity Room (1019 7th St.). Kathy Nicholson of the San Diego Building Electrification Coalition (SDBEC) will provide information and advice on electrifying your home to reduce energy and gas consumption. The talk will be followed by a Q&A. \nSubjects include: \n* Why electrification matters (health\, safety\, efficiency) \n* Common myths (cost\, reliability\, complexity) \n* Opportunities to update your home including heat pumps\, heat pump water heaters\, induction cooktops\, and heat pump dryers \n* Which updates have the biggest impact \nClick here to register.
URL:https://coronadotimes.com/event/small-changes-big-impact-electrification-that-fits-your-home/
LOCATION:John D. Spreckels Center Activity Room\, 1019 7th St.\, Coronado\, CA\, 92118\, United States
CATEGORIES:education,lecture
ORGANIZER;CN="Emerald Keepers":MAILTO:info@emeraldkeepers.org
END:VEVENT
BEGIN:VEVENT
DTSTART;TZID=America/Los_Angeles:20260227T143000
DTEND;TZID=America/Los_Angeles:20260227T153000
DTSTAMP:20260419T122416
CREATED:20260210T201541Z
LAST-MODIFIED:20260210T201541Z
UID:251435-1772202600-1772206200@coronadotimes.com
SUMMARY:February Spice It Up\, Coronado!
DESCRIPTION:Like a book club\, but for cooking! Explore new spices each month\, pick up a sample\, cook at home\, and discuss your creations in our monthly Zoom discussion. \nFor the month of February we will be sampling hawaij. \nSee photographs and recipes from past Spice It Up\, Coronado! HERE\, then click on Open Access. \n\nDisclaimer(s)\n\n\n\nFood Allergies\n\nWe cannot guarantee that food served at this program has not come into contact with tree nuts\, soy\, or other allergens.
URL:https://coronadotimes.com/event/february-spice-it-up-coronado-3/
LOCATION:Coronado Public Library\, 640 Orange Ave\, Coronado\, CA\, 92118\, United States
CATEGORIES:community,education,food and drink
END:VEVENT
END:VCALENDAR