BEGIN:VCALENDAR
VERSION:2.0
PRODID:-//Coronado Times - ECPv6.5.1.5//NONSGML v1.0//EN
CALSCALE:GREGORIAN
METHOD:PUBLISH
X-ORIGINAL-URL:https://coronadotimes.com
X-WR-CALDESC:Events for Coronado Times
REFRESH-INTERVAL;VALUE=DURATION:PT1H
X-Robots-Tag:noindex
X-PUBLISHED-TTL:PT1H
BEGIN:VTIMEZONE
TZID:America/Los_Angeles
BEGIN:DAYLIGHT
TZOFFSETFROM:-0800
TZOFFSETTO:-0700
TZNAME:PDT
DTSTART:20260308T100000
END:DAYLIGHT
BEGIN:STANDARD
TZOFFSETFROM:-0700
TZOFFSETTO:-0800
TZNAME:PST
DTSTART:20261101T090000
END:STANDARD
END:VTIMEZONE
BEGIN:VEVENT
DTSTART;VALUE=DATE:20260311
DTEND;VALUE=DATE:20260615
DTSTAMP:20260424T104934
CREATED:20260316T221203Z
LAST-MODIFIED:20260317T004745Z
UID:253562-1773187200-1781481599@coronadotimes.com
SUMMARY:A Century of Service: 100 years of the Rotary Club of Coronado
DESCRIPTION:On view through June 14\nCelebrate a century of community impact. Since 1926\, Coronado Rotarians have lived by the motto “Service Above Self\,” shaping the spirit of Coronado island and improving lives across the globe. \nThis landmark Centennial exhibit offers an exclusive look into the Rotary Club’s storied history\, featuring never-before-seen photographs\, artifacts\, and personal stories. The exhibit highlights the decades-long partnership between Rotary and the Coronado Historical Association (CHA)\, a collaboration that was formalized in 2024 when CHA was designated as the official repository for the club’s historical records. By moving these treasures from private garages into CHA’s professional archives\, 100 years of “Service Above Self” is protected and accessible for generations to come. \nThe archives and artifacts in the exhibit show how a century of dedication has nurtured the civic and cultural fabric of Coronado\, from local youth programs to international humanitarian efforts. See why the Rotary Club remains a cornerstone of our community.
URL:https://coronadotimes.com/event/a-century-of-service-100-years-of-the-rotary-club-of-coronado/
LOCATION:1000 Orange Ave\, 1000 Orange Ave\, Coronado\, CA\, 92118\, United States
CATEGORIES:community,education,history
END:VEVENT
BEGIN:VEVENT
DTSTART;VALUE=DATE:20260326
DTEND;VALUE=DATE:20260914
DTSTAMP:20260424T104934
CREATED:20260328T233059Z
LAST-MODIFIED:20260402T181114Z
UID:254045-1774483200-1789343999@coronadotimes.com
SUMMARY:The Green of West Plaza: 90+ Years of the Coronado Lawn Bowling Club
DESCRIPTION:On view through September 13 \nThe Green of West Plaza: 90+ Years of The Coronado Lawn Bowling Club celebrates over 90 years of the Coronado Lawn Bowling Club (CLBC) with an emphasis on its history\, community involvement\, and contribution to the sport of lawn bowling. The bilingual English/Spanish exhibit features trophies and medals won by members of the CLBC\, highlighting the skill and sportsmanship that women and men have excelled at both on a national and international level. \nTo complement the successes of the club\, the exhibit explains the game of lawn bowls along with the equipment used. Very little equipment is necessary to play bowls\, making it an accessible sport for all demographics. Lawn bowling is one of the few sports that allows women and men to compete together on an equal platform regardless of age. \n 
URL:https://coronadotimes.com/event/the-green-of-west-plaza-90-years-of-the-coronado-lawn-bowling-club/
LOCATION:1000 Orange Ave\, 1000 Orange Ave\, Coronado\, CA\, 92118\, United States
CATEGORIES:community,education,history
END:VEVENT
BEGIN:VEVENT
DTSTART;VALUE=DATE:20260424
DTEND;VALUE=DATE:20260427
DTSTAMP:20260424T104934
CREATED:20260324T210857Z
LAST-MODIFIED:20260324T210857Z
UID:253889-1776988800-1777247999@coronadotimes.com
SUMMARY:KMAC Regatta
DESCRIPTION:14th Annual KMAC Regatta and Hansa Championship of the Americas\nOne of the finest regattas on the west coast for sailors from all walks of life with disabilities. The sailors love sailing in Glorietta Bay with its wild wind shifts\, all sorts of traffic\, limited geographic space\, and ability for close viewing from shore. \nThe Coronado Yacht Club has provided a multitude of support each year for the regattas with financial support and the warmest welcome from members and staff. \n  \n 
URL:https://coronadotimes.com/event/kmac-regatta/
LOCATION:Coronado Yacht Club\, 1631 Strand Way\, Coronado\, CA\, 92118\, United States
CATEGORIES:community,sports
ORGANIZER;CN="KMAC Foundation":MAILTO:KMACFoundation@gmail.com
END:VEVENT
BEGIN:VEVENT
DTSTART;TZID=America/Los_Angeles:20260424T130000
DTEND;TZID=America/Los_Angeles:20260424T140000
DTSTAMP:20260424T104934
CREATED:20260416T005348Z
LAST-MODIFIED:20260416T005348Z
UID:254560-1777035600-1777039200@coronadotimes.com
SUMMARY:Spring Fling Opera Concert
DESCRIPTION:Opera À la Carte San Diego presents Spring Fling\, a joyful concert celebrating the beauty\, renewal\, and romance of the spring season. This lively program features a delightful mix of opera arias\, art songs\, musical theatre selections\, and sparkling duets and ensembles inspired by springtime\, flowers\, and composers born in April. \nFrom lyrical melodies to playful and passionate moments\, Spring Fling captures the spirit of the season in music that is fresh\, colorful\, and full of life. \nFeaturing an outstanding roster of artists including:\nAbla Lynn Hamza\, soprano\nChelsea Seener Gornall\, soprano\nDanielle Perrault\, mezzo-soprano\nLily Prado\, soprano\nChristopher Walters\, baritone \nMichele Scanlon\, piano \nJoin Opera À la Carte San Diego for an uplifting evening of music that celebrates spring in full bloom. \n\nOpera À la Carte San Diego is a women-run nonprofit opera company dedicated to making opera accessible\, engaging\, and affordable for the San Diego community. Featuring professional local artists\, the company presents lively concert programs and fully staged productions that bring together opera\, art song\, and musical theatre in welcoming community venues throughout the region.
URL:https://coronadotimes.com/event/spring-fling-opera-concert/
LOCATION:Coronado Public Library\, 640 Orange Ave\, Coronado\, CA\, 92118\, United States
CATEGORIES:community,entertainment,music
END:VEVENT
BEGIN:VEVENT
DTSTART;TZID=America/Los_Angeles:20260424T143000
DTEND;TZID=America/Los_Angeles:20260424T153000
DTSTAMP:20260424T104934
CREATED:20260416T164322Z
LAST-MODIFIED:20260416T164322Z
UID:254595-1777041000-1777044600@coronadotimes.com
SUMMARY:April Spice It Up\, Coronado!
DESCRIPTION:Like a book club\, but for cooking! Explore new spices each month\, pick up a sample\, cook at home\, and discuss your creations in our monthly Zoom discussion. \nFor the month of April we will be sampling North African spice blend\, Rose Harissa. \nSee photographs and recipes from past Spice It Up\, Coronado! HERE (click on Open Access). \n\nDisclaimer(s)\n\n\n\nFood Allergies\n\nWe cannot guarantee that food served at this program has not come into contact with tree nuts\, soy\, or other allergens. \n\n\n\n\n\nFree and open to the public.
URL:https://coronadotimes.com/event/april-spice-it-up-coronado/
LOCATION:Coronado Public Library\, 640 Orange Ave\, Coronado\, CA\, 92118\, United States
CATEGORIES:community,food and drink,workshop
END:VEVENT
BEGIN:VEVENT
DTSTART;TZID=America/Los_Angeles:20260424T200000
DTEND;TZID=America/Los_Angeles:20260424T200000
DTSTAMP:20260424T104934
CREATED:20260325T002107Z
LAST-MODIFIED:20260325T002107Z
UID:253937-1777060800-1777060800@coronadotimes.com
SUMMARY:Movies on the Beach: "Mean Girls" (2004)
DESCRIPTION:Snuggle up on Del Beach for favorite family movies and cult classics in a theater under the stars. Guests can cuddle up around a private bonfire with s’mores and relax in a beach daybed or enjoy seating in Del Beach sand chairs. \n \nGeneral Admission:\nEnjoy the movie from a comfortable Del Beach sand chair. \nRoast Family Movie Package:\nIncluding sand chairs\, a beach bonfire\, s’mores\, and tickets for up to six people. \nRoast Bonfire Package with Beach Daybed:\nIncluding a Del Beach daybed\, sand chairs\, a beach bonfire\, unlimited s’mores\, and tickets for up to six people. \nUpcoming Schedule:\nFriday\, April 24 – 8:00PM\nMean Girls (2004) \nSaturday\, April 25 – 8:00PM\nClueless (1995) \nFriday\, May 1 – 8:00PM\nForrest Gump (1994)
URL:https://coronadotimes.com/event/movies-on-the-beach-mean-girls-2004/
LOCATION:Hotel del Coronado\, 1500 Orange Ave\, Coronado\, CA\, 92118\, United States
CATEGORIES:community,entertainment,family,film
END:VEVENT
BEGIN:VEVENT
DTSTART;TZID=America/Los_Angeles:20260425T090000
DTEND;TZID=America/Los_Angeles:20260425T120000
DTSTAMP:20260424T104934
CREATED:20260416T164940Z
LAST-MODIFIED:20260416T164940Z
UID:254612-1777107600-1777118400@coronadotimes.com
SUMMARY:Earth Week beach cleanup
DESCRIPTION:Emerald Keepers will be cleaning Shores Beach (aka Stan’s Beach) as part of I Love A Clean San Diego’s Creek to Bay Cleanup. Coronado will be one of many sites around San Diego County in this regional cleanup. The Creek to Bay Cleanup is one of the largest single-day environmental action events in San Diego County. \nLook for the Emerald Keepers flag at the end of Avenida Del Sol (between the Hotel Del and the Shores). Parking is extremely limited in the area\, so people are encouraged to bike or walk to the event. Come for all or part of the time. Bring sunscreen\, water\, gloves\, and a picker\, if you have one. \nClick here to register online with I Love a Clean San Diego.
URL:https://coronadotimes.com/event/earth-week-beach-cleanup/
LOCATION:Coronado Shores Beach\, 1850 Avenue de las Arenas\, Coronado\, CA\, 92118\, United States
CATEGORIES:community,family
ORGANIZER;CN="Emerald Keepers":MAILTO:info@emeraldkeepers.org
END:VEVENT
BEGIN:VEVENT
DTSTART;TZID=America/Los_Angeles:20260425T100000
DTEND;TZID=America/Los_Angeles:20260425T120000
DTSTAMP:20260424T104934
CREATED:20260420T182745Z
LAST-MODIFIED:20260421T013449Z
UID:254836-1777111200-1777118400@coronadotimes.com
SUMMARY:CWC Shredding & E-Waste event
DESCRIPTION:The Coronado Woman’s Club next shredding and e-waste event will take place on Saturday\, April 25\, from 10 am to 12 noon\, at the US Bank parking lot on D Avenue\, near 8th Street. A contribution of $8/box is suggested for shredding.
URL:https://coronadotimes.com/event/cwc-shredding-e-waste-event/
LOCATION:U.S. Bank Coronado Branch\, 800 Orange Ave\, Coronado\, CA\, 92118\, United States
CATEGORIES:community,Philanthropy
END:VEVENT
BEGIN:VEVENT
DTSTART;TZID=America/Los_Angeles:20260425T200000
DTEND;TZID=America/Los_Angeles:20260425T200000
DTSTAMP:20260424T104934
CREATED:20260325T002208Z
LAST-MODIFIED:20260325T002208Z
UID:253939-1777147200-1777147200@coronadotimes.com
SUMMARY:Movies on the Beach: "Clueless" (1995)
DESCRIPTION:Snuggle up on Del Beach for favorite family movies and cult classics in a theater under the stars. Guests can cuddle up around a private bonfire with s’mores and relax in a beach daybed or enjoy seating in Del Beach sand chairs. \n \nGeneral Admission:\nEnjoy the movie from a comfortable Del Beach sand chair. \nRoast Family Movie Package:\nIncluding sand chairs\, a beach bonfire\, s’mores\, and tickets for up to six people. \nRoast Bonfire Package with Beach Daybed:\nIncluding a Del Beach daybed\, sand chairs\, a beach bonfire\, unlimited s’mores\, and tickets for up to six people. \nUpcoming Schedule:\nSaturday\, April 25 – 8:00PM\nClueless (1995) \nFriday\, May 1 – 8:00PM\nForrest Gump (1994)
URL:https://coronadotimes.com/event/movies-on-the-beach-clueless-1995/
LOCATION:Hotel del Coronado\, 1500 Orange Ave\, Coronado\, CA\, 92118\, United States
CATEGORIES:community,entertainment,family,film
END:VEVENT
BEGIN:VEVENT
DTSTART;TZID=America/Los_Angeles:20260427T183000
DTEND;TZID=America/Los_Angeles:20260427T193000
DTSTAMP:20260424T104934
CREATED:20260413T175117Z
LAST-MODIFIED:20260413T175117Z
UID:254543-1777314600-1777318200@coronadotimes.com
SUMMARY:Monday Night Mystery Author
DESCRIPTION:Mystery fans will want to make sure to attend a special Monday Night Mystery Author event featuring bestselling authors Wendy Walker and Ellery Adams on Monday\, April 27 at 6:30pm. With over 45 books published between the two authors\, they have mastered the art of crafting mysteries that keep readers hooked. During the program\, they’ll share insights from their writing careers and offer a behind-the-scenes look at how they build suspenseful stories that keep fans coming back for more. Each author will also discuss their newest release: Wendy Walker’s psychological thriller Blade\, set in the high-stakes world of elite figure skating\, and Ellery Adams’ Invasive Species\, a chilling mystery unfolding in the small town of Cold Harbor. \nThe event is free and open to the public\, with limited preferred seating available through pre-order from Adventures by the Book.
URL:https://coronadotimes.com/event/monday-night-mystery-author/
LOCATION:Coronado Public Library\, 640 Orange Ave\, Coronado\, CA\, 92118\, United States
CATEGORIES:books,community
END:VEVENT
END:VCALENDAR