BEGIN:VCALENDAR
VERSION:2.0
PRODID:-//Coronado Times - ECPv6.5.1.5//NONSGML v1.0//EN
CALSCALE:GREGORIAN
METHOD:PUBLISH
X-ORIGINAL-URL:https://coronadotimes.com
X-WR-CALDESC:Events for Coronado Times
REFRESH-INTERVAL;VALUE=DURATION:PT1H
X-Robots-Tag:noindex
X-PUBLISHED-TTL:PT1H
BEGIN:VTIMEZONE
TZID:America/Los_Angeles
BEGIN:DAYLIGHT
TZOFFSETFROM:-0800
TZOFFSETTO:-0700
TZNAME:PDT
DTSTART:20260308T100000
END:DAYLIGHT
BEGIN:STANDARD
TZOFFSETFROM:-0700
TZOFFSETTO:-0800
TZNAME:PST
DTSTART:20261101T090000
END:STANDARD
END:VTIMEZONE
BEGIN:VEVENT
DTSTART;TZID=America/Los_Angeles:20260207T110000
DTEND;TZID=America/Los_Angeles:20260207T150000
DTSTAMP:20260424T183600
CREATED:20260106T210317Z
LAST-MODIFIED:20260106T210317Z
UID:250674-1770462000-1770476400@coronadotimes.com
SUMMARY:KMAC Accessible Sailing winter season
DESCRIPTION:KMAC Foundation for Accessible Sailing in Coronado is starting its winter sailing season at the Coronado Yacht Club. Join us from 11:30 am – 3 pm. Provided at not cost to individuals with disabilities and veterans. Sailors and new volunteers  are always welcome. \nMore information at KMACFoundation.com. \n\nKMAC Foundation Provides Access to the Sport of Sailing
URL:https://coronadotimes.com/event/kmac-accessible-sailing-winter-season-3/
LOCATION:Coronado Yacht Club\, 1631 Strand Way\, Coronado\, CA\, 92118\, United States
CATEGORIES:community,sports
ORGANIZER;CN="KMAC Foundation":MAILTO:KMACFoundation@gmail.com
END:VEVENT
BEGIN:VEVENT
DTSTART;TZID=America/Los_Angeles:20260207T110000
DTEND;TZID=America/Los_Angeles:20260207T150000
DTSTAMP:20260424T183600
CREATED:20260202T183335Z
LAST-MODIFIED:20260202T183335Z
UID:251394-1770462000-1770476400@coronadotimes.com
SUMMARY:Arts in the Military: MWR arts show
DESCRIPTION:Join the Library and the office of Morale\, Welfare\, and Recreation at a one day “Arts in the Military” exhibit. Featuring artwork created by sailors stationed on bases in Coronado\, attendees can enjoy light refreshments and meet the artists at this gallery-style exhibit.
URL:https://coronadotimes.com/event/arts-in-the-military-mwr-arts-show/
LOCATION:Coronado Public Library\, 640 Orange Ave\, Coronado\, CA\, 92118\, United States
CATEGORIES:art,community
END:VEVENT
END:VCALENDAR