BEGIN:VCALENDAR
VERSION:2.0
PRODID:-//Coronado Times - ECPv6.5.1.5//NONSGML v1.0//EN
CALSCALE:GREGORIAN
METHOD:PUBLISH
X-WR-CALNAME:Coronado Times
X-ORIGINAL-URL:https://coronadotimes.com
X-WR-CALDESC:Events for Coronado Times
REFRESH-INTERVAL;VALUE=DURATION:PT1H
X-Robots-Tag:noindex
X-PUBLISHED-TTL:PT1H
BEGIN:VTIMEZONE
TZID:America/Los_Angeles
BEGIN:DAYLIGHT
TZOFFSETFROM:-0800
TZOFFSETTO:-0700
TZNAME:PDT
DTSTART:20260308T100000
END:DAYLIGHT
BEGIN:STANDARD
TZOFFSETFROM:-0700
TZOFFSETTO:-0800
TZNAME:PST
DTSTART:20261101T090000
END:STANDARD
END:VTIMEZONE
BEGIN:VEVENT
DTSTART;TZID=America/Los_Angeles:20260206T123000
DTEND;TZID=America/Los_Angeles:20260206T140000
DTSTAMP:20260424T183555
CREATED:20260110T010830Z
LAST-MODIFIED:20260129T192024Z
UID:250741-1770381000-1770386400@coronadotimes.com
SUMMARY:Oyster shell craft workshop - EVENT FULL
DESCRIPTION:Sample Shell 2026 – 4\nThe John D. Spreckels Center will host an Oyster Shell Craft Workshop on Friday\, February 6 from 12:30 to 2 pm. This hands-on class invites participants to decorate an oyster shell using decoupage\, learning how to cut and glue decorative paper to create a one-of-a-kind piece. \nThe workshop is open to both experienced and beginner crafters\, and all supplies are provided. The cost to attend ranges from $13–$19\, depending on residency and senior discount eligibility. The event will take place at the John D. Spreckels Center at 1019 Seventh Street. \nSpace is limited\, and spots tend to fill quickly. Registration opens January 14\, with Coronado residents able to register online now at coronado.ca.us/civicrec. \nFor more information\, call 619-522-7343 or stop and visit at 1019 Seventh Street.
URL:https://coronadotimes.com/event/oyster-shell-craft-workshop/
LOCATION:John D. Spreckels Center\, 1019 Seventh Street\, Coronado\, CA\, 92118\, United States
CATEGORIES:community,craft,workshop
END:VEVENT
BEGIN:VEVENT
DTSTART;TZID=America/Los_Angeles:20260206T130000
DTEND;TZID=America/Los_Angeles:20260206T140000
DTSTAMP:20260424T183555
CREATED:20260202T183134Z
LAST-MODIFIED:20260203T015215Z
UID:251390-1770382800-1770386400@coronadotimes.com
SUMMARY:The Love Songs of Gregory Page
DESCRIPTION:Get ready for Valentine’s Day as world-renowned troubadour\, poet\, and international touring and recording artist Gregory Page visits the Coronado Public Library for an afternoon of his timely and timeless original and re-imagined love songs. Please join us to experience the brilliant\, romantic\, nostalgic and evocative songbook of this true artist who captures his world travels (and our hearts) through the lens of music.
URL:https://coronadotimes.com/event/the-love-songs-of-gregory-page/
LOCATION:Coronado Public Library\, 640 Orange Ave\, Coronado\, CA\, 92118\, United States
CATEGORIES:art,community,entertainment,music
END:VEVENT
END:VCALENDAR