BEGIN:VCALENDAR
VERSION:2.0
PRODID:-//Coronado Times - ECPv6.5.1.5//NONSGML v1.0//EN
CALSCALE:GREGORIAN
METHOD:PUBLISH
X-WR-CALNAME:Coronado Times
X-ORIGINAL-URL:https://coronadotimes.com
X-WR-CALDESC:Events for Coronado Times
REFRESH-INTERVAL;VALUE=DURATION:PT1H
X-Robots-Tag:noindex
X-PUBLISHED-TTL:PT1H
BEGIN:VTIMEZONE
TZID:America/Los_Angeles
BEGIN:DAYLIGHT
TZOFFSETFROM:-0800
TZOFFSETTO:-0700
TZNAME:PDT
DTSTART:20260308T100000
END:DAYLIGHT
BEGIN:STANDARD
TZOFFSETFROM:-0700
TZOFFSETTO:-0800
TZNAME:PST
DTSTART:20261101T090000
END:STANDARD
END:VTIMEZONE
BEGIN:VEVENT
DTSTART;TZID=America/Los_Angeles:20260130T130000
DTEND;TZID=America/Los_Angeles:20260130T140000
DTSTAMP:20260424T183955
CREATED:20260115T180304Z
LAST-MODIFIED:20260115T180304Z
UID:250405-1769778000-1769781600@coronadotimes.com
SUMMARY:Villa-Lobos Festival Concert: "The Pride of the Caribbean and Spanish Flair"
DESCRIPTION:Cellist Lars Hoefs and pianist Aline Alves come back to Southern California from Brazil\, presenting their Villa-Lobos Festival. They will play music by a range of Latin American composers in this three concert series. \nThis year’s finale\, “The Pride of the Caribbean and Spanish Flair\,” is a celebration of strings. This concert will feature Francisco Vila on the cello\, Isaac Allen on violin I\, Batya MacAdam-Somer on violin II\, Travis Maril on viola\, and Lars Hoefs on cello. \nThis concert is free and no reservations are required. Seating is first-come\, first-served\, general admission. Doors open at 12:45 p.m. \nThis concert is presented in partnership with Coronado Arts.
URL:https://coronadotimes.com/event/villa-lobos-festival-concert-the-pride-of-the-caribbean-and-spanish-flair/
LOCATION:Coronado Public Library\, 640 Orange Ave\, Coronado\, CA\, 92118\, United States
CATEGORIES:community,entertainment,music
END:VEVENT
END:VCALENDAR