BEGIN:VCALENDAR
VERSION:2.0
PRODID:-//Coronado Times - ECPv6.5.1.5//NONSGML v1.0//EN
CALSCALE:GREGORIAN
METHOD:PUBLISH
X-WR-CALNAME:Coronado Times
X-ORIGINAL-URL:https://coronadotimes.com
X-WR-CALDESC:Events for Coronado Times
REFRESH-INTERVAL;VALUE=DURATION:PT1H
X-Robots-Tag:noindex
X-PUBLISHED-TTL:PT1H
BEGIN:VTIMEZONE
TZID:America/Los_Angeles
BEGIN:DAYLIGHT
TZOFFSETFROM:-0800
TZOFFSETTO:-0700
TZNAME:PDT
DTSTART:20260308T100000
END:DAYLIGHT
BEGIN:STANDARD
TZOFFSETFROM:-0700
TZOFFSETTO:-0800
TZNAME:PST
DTSTART:20261101T090000
END:STANDARD
END:VTIMEZONE
BEGIN:VEVENT
DTSTART;TZID=America/Los_Angeles:20260512T190000
DTEND;TZID=America/Los_Angeles:20260512T190000
DTSTAMP:20260425T052134
CREATED:20260323T233336Z
LAST-MODIFIED:20260323T233336Z
UID:253882-1778612400-1778612400@coronadotimes.com
SUMMARY:Summer Reading Adventure
DESCRIPTION:Featuring NYT bestseller Kristy Woodson Harvey\, USA Today bestseller Meg Donohue\, and Desi Arnaz’s granddaughter Kate Luckinbill\n \nAdventures by the Book® invites you to join us for a joyful Summer Reading Adventure featuring beloved New York Times bestselling author Kristy Woodson Harvey\, USA Today bestselling novelist Meg Donohue\, and special guest Kate Luckinbill\, granddaughter of iconic television legend Desi Arnaz. From sun-soaked coastal fiction to emotionally rich\, thought-provoking storytelling — along with a unique perspective on storytelling legacy and Hollywood history — this special evening celebrates the books you’ll be packing in your bag all summer long. \nAs part of our ABTB signature event series\, this Summer Reading Panel brings readers face-to-face with the authors behind Summer State of Mind and The Memory Gardener\, offering an inside look at the inspiration\, themes\, and creative spark that make a story the perfect seasonal escape. Kate Luckinbill will also share reflections on growing up connected to one of television’s most beloved pioneers\, adding a special multigenerational perspective on creativity\, storytelling\, and legacy in A Book By Desi Arnaz. \nWhether you’re a devoted Kristy Woodson Harvey reader\, a fan of Meg Donohue’s emotionally resonant fiction\, intrigued by Kate Luckinbill’s connection to entertainment history\, a book club looking to plan ahead\, or simply a reader eager to discover what you should be reading this summer\, this evening is designed for you. Come with friends\, bring your book club\, or join us solo — everyone is welcome in our community of passionate\, curious readers. \nYour Adventure includes a lively author conversation\, audience Q&A\, book signing\, and the chance to connect with fellow readers who know that summer is always better with a great book in hand. \nRegistration\nThis event is FREE and open to the public\, with general seating available on a first-come\, first-served basis. \nFor readers who prefer a little peace of mind and want to show their early support of the authors\, a VIP option includes guaranteed event admission and reserved seating with the pre-order of Summer State of Mind\, A Book by Desi Arnaz\, or The Memory Gardener. \nAnd since we’re officially in a summer state of mind\, we’re delighted to offer a discounted three-book bundle—the perfect pairing to kick off your summer reading season.
URL:https://coronadotimes.com/event/summer-reading-adventure/
LOCATION:Coronado Public Library\, 640 Orange Ave\, Coronado\, CA\, 92118\, United States
CATEGORIES:books,community,entertainment
END:VEVENT
END:VCALENDAR