BEGIN:VCALENDAR
VERSION:2.0
PRODID:-//Coronado Times - ECPv6.5.1.5//NONSGML v1.0//EN
CALSCALE:GREGORIAN
METHOD:PUBLISH
X-WR-CALNAME:Coronado Times
X-ORIGINAL-URL:https://coronadotimes.com
X-WR-CALDESC:Events for Coronado Times
REFRESH-INTERVAL;VALUE=DURATION:PT1H
X-Robots-Tag:noindex
X-PUBLISHED-TTL:PT1H
BEGIN:VTIMEZONE
TZID:America/Los_Angeles
BEGIN:DAYLIGHT
TZOFFSETFROM:-0800
TZOFFSETTO:-0700
TZNAME:PDT
DTSTART:20250309T100000
END:DAYLIGHT
BEGIN:STANDARD
TZOFFSETFROM:-0700
TZOFFSETTO:-0800
TZNAME:PST
DTSTART:20251102T090000
END:STANDARD
END:VTIMEZONE
BEGIN:VEVENT
DTSTART;TZID=America/Los_Angeles:20251023T190000
DTEND;TZID=America/Los_Angeles:20251023T203000
DTSTAMP:20260424T202504
CREATED:20251003T004703Z
LAST-MODIFIED:20251003T004703Z
UID:247314-1761246000-1761251400@coronadotimes.com
SUMMARY:Catch People Doing Things Right: How Ken Blanchard Changed the Way the World Leads
DESCRIPTION:Ken Blanchard is recognized as one of the most influential and compassionate leadership experts in the world. On Thursday\, October 23\, Martha C. Lawrence will share her newly released book Catch People Doing Things Right: How Ken Blanchard Changed the Way the World Leads in conversation with local bestselling author and personal wellness expert\, Ken Druck. Lawrence worked with Blanchard for many years and shares how his philosophies have impacted thought leadership and management in companies worldwide. \nLimited reserved seating is available with the pre-purchase of a book through Bay Books Coronado. To reserve your copy\, call 619-435-0070. \nCopies of the book will be available for sale by Bay Books Coronado. A signing will follow the event. \n\nAbout the Book \nThis candid and heartwarming biography tells the story of Ken Blanchard\, the bestselling author\, speaker\, and legendary business consultant whose revolutionary leadership philosophy has helped transform the world’s approach to management. \nPart business biography\, part human interest story\, the book reveals how Blanchard’s focus on empathy\, service\, and recognition changed how companies lead\, build culture\, and develop people\, transforming workplaces across the globe. \n  \nAbout the Author \nMartha Lawrence is a veteran book editor and the executive editor at Blanchard\, where she has worked side-by-side with Ken Blanchard for over two decades. She’s also the author of an award-nominated mystery series and a passionate advocate for leading with kindness and purpose.
URL:https://coronadotimes.com/event/catch-people-doing-things-right-how-ken-blanchard-changed-the-way-the-world-leads/
LOCATION:Coronado Public Library\, 640 Orange Ave\, Coronado\, CA\, 92118\, United States
CATEGORIES:books,education,entertainment
END:VEVENT
END:VCALENDAR